BEGIN:VCALENDAR
VERSION:2.0
PRODID:-//AIA Monterey Bay - ECPv6.15.20//NONSGML v1.0//EN
CALSCALE:GREGORIAN
METHOD:PUBLISH
X-ORIGINAL-URL:https://aiamontereybay.org
X-WR-CALDESC:Events for AIA Monterey Bay
REFRESH-INTERVAL;VALUE=DURATION:PT1H
X-Robots-Tag:noindex
X-PUBLISHED-TTL:PT1H
BEGIN:VTIMEZONE
TZID:America/Los_Angeles
BEGIN:DAYLIGHT
TZOFFSETFROM:-0800
TZOFFSETTO:-0700
TZNAME:PDT
DTSTART:20210314T100000
END:DAYLIGHT
BEGIN:STANDARD
TZOFFSETFROM:-0700
TZOFFSETTO:-0800
TZNAME:PST
DTSTART:20211107T090000
END:STANDARD
BEGIN:DAYLIGHT
TZOFFSETFROM:-0800
TZOFFSETTO:-0700
TZNAME:PDT
DTSTART:20220313T100000
END:DAYLIGHT
BEGIN:STANDARD
TZOFFSETFROM:-0700
TZOFFSETTO:-0800
TZNAME:PST
DTSTART:20221106T090000
END:STANDARD
BEGIN:DAYLIGHT
TZOFFSETFROM:-0800
TZOFFSETTO:-0700
TZNAME:PDT
DTSTART:20230312T100000
END:DAYLIGHT
BEGIN:STANDARD
TZOFFSETFROM:-0700
TZOFFSETTO:-0800
TZNAME:PST
DTSTART:20231105T090000
END:STANDARD
BEGIN:DAYLIGHT
TZOFFSETFROM:-0800
TZOFFSETTO:-0700
TZNAME:PDT
DTSTART:20240310T100000
END:DAYLIGHT
BEGIN:STANDARD
TZOFFSETFROM:-0700
TZOFFSETTO:-0800
TZNAME:PST
DTSTART:20241103T090000
END:STANDARD
BEGIN:DAYLIGHT
TZOFFSETFROM:-0800
TZOFFSETTO:-0700
TZNAME:PDT
DTSTART:20250309T100000
END:DAYLIGHT
BEGIN:STANDARD
TZOFFSETFROM:-0700
TZOFFSETTO:-0800
TZNAME:PST
DTSTART:20251102T090000
END:STANDARD
END:VTIMEZONE
BEGIN:VEVENT
DTSTART;TZID=America/Los_Angeles:20240227T180000
DTEND;TZID=America/Los_Angeles:20240227T180000
DTSTAMP:20260420T213837
CREATED:20240207T203301Z
LAST-MODIFIED:20240207T203301Z
UID:29349-1709056800-1709056800@aiamontereybay.org
SUMMARY:Cohousing Communities: Designing for High-Functioning Neighborhoods
DESCRIPTION:Tuesday\, February 27\, 6:00 P.M.\, Doors open at 5:30 p.m.\nSandBox Sand City\, 440 Ortiz Avenue\, Sand City\nCost: $10 AIA Members\, Sponsors\, Students; $30 General Public\nCredits: 1.5 HSW\, pending approval \nPresenter: Charles Durrett\, architect\, author\, and advocate of affordable\, socially responsible and sustainable design. \nSession Description: \nIn this session\, you will learn from the leading architect and builder of cohousing globally. Durrett will impart his decades of experience so that you understand what cohousing is\, how it’s designed\, what its benefits are to the residents\, and how it incorporates participatory design to promote more socially equitable and environmentally sustainable communities. \nClick here for tickets
URL:https://aiamontereybay.org/event/cohousing-communities-designing-for-high-functioning-neighborhoods/
LOCATION:Sand Box\, 440 Ortiz Ave. #A\, Sand City\, CA\, 93955\, United States
ATTACH;FMTTYPE=image/jpeg:https://aiamontereybay.org/wp-content/uploads/2024/02/CoHousing-Lecture-image.jpg
END:VEVENT
BEGIN:VEVENT
DTSTART;TZID=America/Los_Angeles:20230518T180000
DTEND;TZID=America/Los_Angeles:20230518T193000
DTSTAMP:20260420T213837
CREATED:20230125T051512Z
LAST-MODIFIED:20230508T171447Z
UID:28438-1684432800-1684438200@aiamontereybay.org
SUMMARY:Housing On The Central Coast: Community Panel Discussion And Forum
DESCRIPTION:Community leaders in public office\, planning\, housing advocacy and project development come together in a moderated panel discussion identifying needs\, roadblocks and finding solutions and ways forward to build more housing in our area. Introduction by Monterey County Supervisor Mary Adams; moderated by architects and AIA Monterey Bay board members\, Erik Dyar and Justin Pauly. \nPanelists: \n\nKim Cole\, Community Development Director\, City of Monterey\nMichael DeLapa\, Executive Director\, LandWatch Monterey County\nSibley Simon\, founder and President of New Way Homes\, a non-profit that operates an impact investment fund to spur more workforce and affordable housing development.\nRoxanne Wilson\, Homeless Services Director\, Monterey County\nKathryn Avila\, Avila Construction\n\nIn addition\, numerous special guests from politics\, government\, development\, and advocacy will attend and take part in the discussion. \n$10 Members\n$25 Non-Members \nRegister Here.
URL:https://aiamontereybay.org/arts-architecture-lecture-4/
LOCATION:Sand Box\, 440 Ortiz Ave. #A\, Sand City\, CA\, 93955\, United States
CATEGORIES:Arts & Architecture
ATTACH;FMTTYPE=image/png:https://aiamontereybay.org/wp-content/uploads/2023/01/David-Baker-Architects-01-3.png
END:VEVENT
BEGIN:VEVENT
DTSTART;TZID=America/Los_Angeles:20230427T180000
DTEND;TZID=America/Los_Angeles:20230427T193000
DTSTAMP:20260420T213837
CREATED:20230125T051359Z
LAST-MODIFIED:20230126T195303Z
UID:28436-1682618400-1682623800@aiamontereybay.org
SUMMARY:Dense-City: Housing For Quality Of Life And Social Change
DESCRIPTION:SPEAKERS: Angela Brooks\, FAIA & Lawrence Scarpa\, FAIA\, Brooks + Scarpa Architects \nLow-Income affordable housing used to mean fortress-like structures that were soulless and cheaply built. Today\, there is a growing interest amongst architects that have spawned new and innovative approaches to affordable housing that are well-designed and incorporate a combination of creative social programming\, cutting-edge forms and materials\, sustainable design and a keen sense of aesthetic. This presentation will explore new models that have transformed affordable and low-income housing into cutting edge architecture. \nSPEAKER BIOS: Angie and Larry are recipients of the 2022 National AIA Gold Medal.  Angie is only the third women to receive this award and Angie and Larry are only the second duo.  Angie is also the recipient of the 2020 AIA California Maybeck award\, The first woman to ever receive this award. \nBrooks + Scarpa is a collective of architects\, designers and creative thinkers dedicated to enhancing the human experience. Honored with the Smithsonian Cooper- Hewitt National Design Award\, the firm is a multi-disciplinary practice that includes architecture\, landscape architecture\, planning\, environmental design\, materials research\, graphic\, furniture and interior design services that produces innovative\, sustainable iconic buildings and urban environments. They have garnered international acclaim has garnered international acclaim for the creative use of conventional materials in unique and unexpected ways. They are also considered pioneers and leaders in the field of sustainable design. \nTheir awards include the State of California and National American Institute of Architects (AIA) Architecture Firm Award\, AIA Los Angeles Gold Medal\, National Citizen Architect\, Rudy Brunner Prize\, Interior Design Magazine’s Lifetime Achievement Award\, six National AIA Committee on the Environment Top Ten Green Building awards\, Progressive Architecture Award\, Architect Magazine’s R+D award and many others.  They are also the recipients of the $4.5 mil Housing Innovation Challenge Grant awarded by Los Angeles County for their innovative and scalable solutions to homelessness.  They are co-founders of the A+D Museum in Los Angeles\, The Affordable Housing Design Leadership Institute\, Livable Places\, Inc.; a nonprofit development and public policy organization dedicated to building mixed-use housing and to help develop more sustainable and livable communities. They have also been featured on the Oprah Winfrey show with Leonardo DiCaprio. \n\n\n\n$10 Members\n$25 Non-Members\n\nRegister Here.
URL:https://aiamontereybay.org/arts-architecture-lecture-3/
LOCATION:Sand Box\, 440 Ortiz Ave. #A\, Sand City\, CA\, 93955\, United States
ATTACH;FMTTYPE=image/jpeg:https://aiamontereybay.org/wp-content/uploads/2023/01/Lecture-3-Angie_Brooks_Larry_Scarpa_0382.jpg
END:VEVENT
BEGIN:VEVENT
DTSTART;TZID=America/Los_Angeles:20230316T180000
DTEND;TZID=America/Los_Angeles:20230316T193000
DTSTAMP:20260420T213837
CREATED:20230125T051247Z
LAST-MODIFIED:20230126T195244Z
UID:28434-1678989600-1678995000@aiamontereybay.org
SUMMARY:9 Ways To Make Housing For People
DESCRIPTION:SPEAKERS: Daniel Simons\, FAIA and Pedram Farashbandi\, AIA\nDeveloped and proven over four decades of multifamily housing design\, the “9 Ways” are design principles that provide a thoughtful framework for making better housing. Flexible and human-centric\, these community-oriented strategies work together to elevate a building\, improve wellness and stability\, and support social bonds. With extensive examples from the firm’s housing portfolio\, Principals Daniel Simons\, FAIA and Pedram Farshbandi\, AIA\, will illustrate these accessible and straightforward strategies\, which range from the large-scale “Reweave the Urban Fabric” to the intimate “Get Personal.” These strategies address opportunities available to housing at all scales and across all regions\, and result in buildings that increase the quality of living for residents and neighbors alike.  \nThe 9 Ways framework is explored in the new book 9 Ways to Make Housing for People [ORO Editions 2022]\, which will be available for sale and to be signed by the speakers at the event. \n\n\n\n\n\n$10 Members\n$25 Non-Members\n\nRegister Here.
URL:https://aiamontereybay.org/2023-arts-architecture-lecture-2/
LOCATION:Sand Box\, 440 Ortiz Ave. #A\, Sand City\, CA\, 93955\, United States
CATEGORIES:Arts & Architecture
ATTACH;FMTTYPE=image/png:https://aiamontereybay.org/wp-content/uploads/2023/01/David-Baker-Architects-01-3.png
END:VEVENT
BEGIN:VEVENT
DTSTART;TZID=America/Los_Angeles:20230209T180000
DTEND;TZID=America/Los_Angeles:20230209T193000
DTSTAMP:20260420T213837
CREATED:20230125T051111Z
LAST-MODIFIED:20230126T195210Z
UID:28432-1675965600-1675971000@aiamontereybay.org
SUMMARY:Why California Has A Housing Crisis And What Can Be Done To Fix It
DESCRIPTION:SPEAKER: Liam Dillon\nCalifornia is facing unprecedented housing affordability and homelessness crises. How did things get so bad? How is the government responding? Where are we making progress?  Liam Dillon of the Los Angeles Times and Gimme Shelter podcast gives us a detailed overview of the crisis. \nLiam Dillon covers the issues of housing affordability and neighborhood change across California for the Los Angeles Times. He joined the Times in 2016 and prior to his current assignment based in Los Angeles\, Liam covered state politics and policy for The Times’ Sacramento Bureau. He’s a graduate of Georgetown University and grew up outside Philadelphia. \nLiam and CalMatters reporter\, Manuela Tobias\, host the “Gimme Shelter” podcast examining important housing policy issues in California\, which publishes every other week. \n$10 Members\n$25 Non-Members \nRegister Here.
URL:https://aiamontereybay.org/arts-architecture-lecture-1/
LOCATION:Sand Box\, 440 Ortiz Ave. #A\, Sand City\, CA\, 93955\, United States
CATEGORIES:Arts & Architecture
ATTACH;FMTTYPE=image/jpeg:https://aiamontereybay.org/wp-content/uploads/2023/01/Lecture-1.2.jpg
END:VEVENT
BEGIN:VEVENT
DTSTART;TZID=America/Los_Angeles:20221011T183000
DTEND;TZID=America/Los_Angeles:20221011T203000
DTSTAMP:20260420T213837
CREATED:20220912T231505Z
LAST-MODIFIED:20220912T231505Z
UID:28153-1665513000-1665520200@aiamontereybay.org
SUMMARY:Building Long-Lasting Collaborations: In Discussion with Feldman Architecture\, Ground Studio\, and Groza Construction
DESCRIPTION:Arts and Architecture \nContemporary Architect Series\nBuilding Long-Lasting Collaborations: In Discussion with Feldman Architecture\, Ground Studio\, and Groza Construction \nDATE & TIME: Tuesday\, October 11\, 6:30 P.M.\nLOCATION: Sand Box Sand City\, 440 Ortiz Ave #A\, Sand City\, CA 93955\nTICKETS: 10$ AIA Members\, $25 General Public \nIn this panel discussion\, Jonathan Feldman\, Founder of Feldman Architecture\, Bernard Trainor\, Founder of Ground Studio Landscape\, and Brian Groza\, Founder of Groza Construction\, will explore how their collaborative professional relationships have developed\, grown\, been tested\, and flourished over the last fifteen years\, specifically in relation to their residential work in the Monterey area. The group will unpack their design processes\, citing specific examples from their most notable projects\, investigate best practices and lessons learned from decades of leading teams and building client trust\, and delve into what has made their collaborations so lasting and successful. The talk will also highlight themes from Feldman Architecture’s recently released monograph\, Immersed: The California Houses of Feldman Architecture\, which features essays from both Bernard and Brian. \nClick here for tickets
URL:https://aiamontereybay.org/event/building-long-lasting-collaborations-in-discussion-with-feldman-architecture-ground-studio-and-groza-construction/
LOCATION:Sand Box\, 440 Ortiz Ave. #A\, Sand City\, CA\, 93955\, United States
CATEGORIES:Arts & Architecture
ATTACH;FMTTYPE=image/jpeg:https://aiamontereybay.org/wp-content/uploads/2022/09/arts-and-architecture.jpg
END:VEVENT
END:VCALENDAR