BEGIN:VCALENDAR
VERSION:2.0
PRODID:-//AIA Monterey Bay - ECPv6.15.20//NONSGML v1.0//EN
CALSCALE:GREGORIAN
METHOD:PUBLISH
X-WR-CALNAME:AIA Monterey Bay
X-ORIGINAL-URL:https://aiamontereybay.org
X-WR-CALDESC:Events for AIA Monterey Bay
REFRESH-INTERVAL;VALUE=DURATION:PT1H
X-Robots-Tag:noindex
X-PUBLISHED-TTL:PT1H
BEGIN:VTIMEZONE
TZID:America/Los_Angeles
BEGIN:DAYLIGHT
TZOFFSETFROM:-0800
TZOFFSETTO:-0700
TZNAME:PDT
DTSTART:20230312T100000
END:DAYLIGHT
BEGIN:STANDARD
TZOFFSETFROM:-0700
TZOFFSETTO:-0800
TZNAME:PST
DTSTART:20231105T090000
END:STANDARD
BEGIN:DAYLIGHT
TZOFFSETFROM:-0800
TZOFFSETTO:-0700
TZNAME:PDT
DTSTART:20240310T100000
END:DAYLIGHT
BEGIN:STANDARD
TZOFFSETFROM:-0700
TZOFFSETTO:-0800
TZNAME:PST
DTSTART:20241103T090000
END:STANDARD
BEGIN:DAYLIGHT
TZOFFSETFROM:-0800
TZOFFSETTO:-0700
TZNAME:PDT
DTSTART:20250309T100000
END:DAYLIGHT
BEGIN:STANDARD
TZOFFSETFROM:-0700
TZOFFSETTO:-0800
TZNAME:PST
DTSTART:20251102T090000
END:STANDARD
END:VTIMEZONE
BEGIN:VEVENT
DTSTART;TZID=America/Los_Angeles:20240126T120000
DTEND;TZID=America/Los_Angeles:20240126T140000
DTSTAMP:20260420T165653
CREATED:20240109T204310Z
LAST-MODIFIED:20240109T204310Z
UID:29318-1706270400-1706277600@aiamontereybay.org
SUMMARY:AIA Monterey Bay COTE Committee Passive House Tour
DESCRIPTION:AIA Monterey Bay’s COTE Committee is offering a tour of a passive house under construction in Pebble Beach. \nThe Tour’s capacity is ten people. Please contact Shirmaine to reserve your space and receive further details: shirmaine@aiamontereybay.org \nAttendees will meet at the Pebble Beach Carmel gate at 12:00 p.m. and carpool from there.
URL:https://aiamontereybay.org/event/aia-monterey-bay-cote-committee-passive-house-tour/
LOCATION:Pebble Beach\, CA\, United States
CATEGORIES:COTE
ATTACH;FMTTYPE=image/jpeg:https://aiamontereybay.org/wp-content/uploads/2024/01/AIA-MB-COTE-Title-for-Constant-Contact.jpg
END:VEVENT
END:VCALENDAR