BEGIN:VCALENDAR
VERSION:2.0
PRODID:-//AIA Monterey Bay - ECPv6.15.20//NONSGML v1.0//EN
CALSCALE:GREGORIAN
METHOD:PUBLISH
X-ORIGINAL-URL:https://aiamontereybay.org
X-WR-CALDESC:Events for AIA Monterey Bay
REFRESH-INTERVAL;VALUE=DURATION:PT1H
X-Robots-Tag:noindex
X-PUBLISHED-TTL:PT1H
BEGIN:VTIMEZONE
TZID:America/Los_Angeles
BEGIN:DAYLIGHT
TZOFFSETFROM:-0800
TZOFFSETTO:-0700
TZNAME:PDT
DTSTART:20220313T100000
END:DAYLIGHT
BEGIN:STANDARD
TZOFFSETFROM:-0700
TZOFFSETTO:-0800
TZNAME:PST
DTSTART:20221106T090000
END:STANDARD
BEGIN:DAYLIGHT
TZOFFSETFROM:-0800
TZOFFSETTO:-0700
TZNAME:PDT
DTSTART:20230312T100000
END:DAYLIGHT
BEGIN:STANDARD
TZOFFSETFROM:-0700
TZOFFSETTO:-0800
TZNAME:PST
DTSTART:20231105T090000
END:STANDARD
BEGIN:DAYLIGHT
TZOFFSETFROM:-0800
TZOFFSETTO:-0700
TZNAME:PDT
DTSTART:20240310T100000
END:DAYLIGHT
BEGIN:STANDARD
TZOFFSETFROM:-0700
TZOFFSETTO:-0800
TZNAME:PST
DTSTART:20241103T090000
END:STANDARD
END:VTIMEZONE
BEGIN:VEVENT
DTSTART;VALUE=DATE:20230607
DTEND;VALUE=DATE:20230611
DTSTAMP:20260420T185302
CREATED:20230409T192146Z
LAST-MODIFIED:20230409T192146Z
UID:28799-1686096000-1686441599@aiamontereybay.org
SUMMARY:A'23 AIA Conference on Architecture
DESCRIPTION:This conference is where the AEC industry gathers to define the future\, design it\, and connect across industries to build it. Join your peers June 7–10 in San Francisco for the architecture and design event of the year! Your ticket connects you to the education\, networking\, products\, speakers\, tours\, events\, and custom local experiences this conference is renowned for. \nFor a limited time\, save up to $175 on full-price registration with your AIA member  \nRegister here.
URL:https://aiamontereybay.org/event/a23-aia-conference-on-architecture/
LOCATION:Moscone Center\, 747 Howard Street\, San Francisco\, CA\, 94103\, United States
ATTACH;FMTTYPE=image/jpeg:https://aiamontereybay.org/wp-content/uploads/2023/04/image-3.jpeg
END:VEVENT
END:VCALENDAR