BEGIN:VCALENDAR
VERSION:2.0
PRODID:-//AIA Monterey Bay - ECPv6.15.20//NONSGML v1.0//EN
CALSCALE:GREGORIAN
METHOD:PUBLISH
X-ORIGINAL-URL:https://aiamontereybay.org
X-WR-CALDESC:Events for AIA Monterey Bay
REFRESH-INTERVAL;VALUE=DURATION:PT1H
X-Robots-Tag:noindex
X-PUBLISHED-TTL:PT1H
BEGIN:VTIMEZONE
TZID:America/Los_Angeles
BEGIN:DAYLIGHT
TZOFFSETFROM:-0800
TZOFFSETTO:-0700
TZNAME:PDT
DTSTART:20220313T100000
END:DAYLIGHT
BEGIN:STANDARD
TZOFFSETFROM:-0700
TZOFFSETTO:-0800
TZNAME:PST
DTSTART:20221106T090000
END:STANDARD
BEGIN:DAYLIGHT
TZOFFSETFROM:-0800
TZOFFSETTO:-0700
TZNAME:PDT
DTSTART:20230312T100000
END:DAYLIGHT
BEGIN:STANDARD
TZOFFSETFROM:-0700
TZOFFSETTO:-0800
TZNAME:PST
DTSTART:20231105T090000
END:STANDARD
BEGIN:DAYLIGHT
TZOFFSETFROM:-0800
TZOFFSETTO:-0700
TZNAME:PDT
DTSTART:20240310T100000
END:DAYLIGHT
BEGIN:STANDARD
TZOFFSETFROM:-0700
TZOFFSETTO:-0800
TZNAME:PST
DTSTART:20241103T090000
END:STANDARD
END:VTIMEZONE
BEGIN:VEVENT
DTSTART;TZID=America/Los_Angeles:20230309T090000
DTEND;TZID=America/Los_Angeles:20230309T163000
DTSTAMP:20260420T114227
CREATED:20230118T224810Z
LAST-MODIFIED:20230118T224810Z
UID:28310-1678352400-1678379400@aiamontereybay.org
SUMMARY:An Introduction To Land Use Planning For Wildfires In California – City Of Morgan Hill
DESCRIPTION:The Board of Forestry and Fire Protection has launched the CAL FIRE / Office of the State Fire Marshal’s Community Wildfire Preparedness and Mitigation Division and Community Wildfire Planning Center’s Introduction to Land Use Planning for Wildfires in California Trainings. \nThese free\, all-day\, in person trainings are now open to land use planners\, fire marshals\, fire chiefs\, fire mitigation specialists\, building officials\, and other professionals from government agencies and the private sector engaged in planning\, policy\, development review and/or approval activities in California. \nAttendees who participate in this training will:\n· Increase understanding of California state requirements for planning in fire hazard areas\n· Expand knowledge of wildfire vulnerabilities in the built environment\n· Learn about best practices and resources\n· Interact with peers to exchange perspectives on fire mitigation and planning \nClick here to learn more and to register.
URL:https://aiamontereybay.org/event/an-introduction-to-land-use-planning-for-wildfires-in-california-city-of-morgan-hill/
LOCATION:Morgan Hill Community and Cultural Center\, 17000 Monterey Road\, Morgan Hill\, CA\, 95037\, United States
ATTACH;FMTTYPE=image/png:https://aiamontereybay.org/wp-content/uploads/2023/01/image-1.png
END:VEVENT
END:VCALENDAR