BEGIN:VCALENDAR
VERSION:2.0
PRODID:-//AIA Monterey Bay - ECPv6.15.20//NONSGML v1.0//EN
CALSCALE:GREGORIAN
METHOD:PUBLISH
X-WR-CALNAME:AIA Monterey Bay
X-ORIGINAL-URL:https://aiamontereybay.org
X-WR-CALDESC:Events for AIA Monterey Bay
REFRESH-INTERVAL;VALUE=DURATION:PT1H
X-Robots-Tag:noindex
X-PUBLISHED-TTL:PT1H
BEGIN:VTIMEZONE
TZID:America/Los_Angeles
BEGIN:DAYLIGHT
TZOFFSETFROM:-0800
TZOFFSETTO:-0700
TZNAME:PDT
DTSTART:20230312T100000
END:DAYLIGHT
BEGIN:STANDARD
TZOFFSETFROM:-0700
TZOFFSETTO:-0800
TZNAME:PST
DTSTART:20231105T090000
END:STANDARD
BEGIN:DAYLIGHT
TZOFFSETFROM:-0800
TZOFFSETTO:-0700
TZNAME:PDT
DTSTART:20240310T100000
END:DAYLIGHT
BEGIN:STANDARD
TZOFFSETFROM:-0700
TZOFFSETTO:-0800
TZNAME:PST
DTSTART:20241103T090000
END:STANDARD
BEGIN:DAYLIGHT
TZOFFSETFROM:-0800
TZOFFSETTO:-0700
TZNAME:PDT
DTSTART:20250309T100000
END:DAYLIGHT
BEGIN:STANDARD
TZOFFSETFROM:-0700
TZOFFSETTO:-0800
TZNAME:PST
DTSTART:20251102T090000
END:STANDARD
BEGIN:DAYLIGHT
TZOFFSETFROM:-0800
TZOFFSETTO:-0700
TZNAME:PDT
DTSTART:20260308T100000
END:DAYLIGHT
BEGIN:STANDARD
TZOFFSETFROM:-0700
TZOFFSETTO:-0800
TZNAME:PST
DTSTART:20261101T090000
END:STANDARD
END:VTIMEZONE
BEGIN:VEVENT
DTSTART;TZID=America/Los_Angeles:20250422T180000
DTEND;TZID=America/Los_Angeles:20250422T210000
DTSTAMP:20260420T215926
CREATED:20250329T074807Z
LAST-MODIFIED:20250401T024133Z
UID:29837-1745344800-1745355600@aiamontereybay.org
SUMMARY:"The Architect and Photographer\, a Collaboration" - An Arts + Architecture Panel Discussion Featuring Joe Fletcher
DESCRIPTION:“The Architect and Photographer\, a Collaboration”\nAn Arts + Architecture Panel Discussion Featuring Joe Fletcher \nDate & Time: Tuesday\, April 22\, 6:00 p.m.\, doors open at 5:30 p.m.\nLocation: Monterey Museum of Art\, 559 Pacific Street\nCost: $10 AIA & MMA Members\, $25 general public\nContinuing Education: 1 AIA LU \nThe American Institute of Architects Monterey Bay in collaboration with the Monterey Museum of Art is presenting a panel lecture and conversation featuring renowned Architectural Photographer Joe Fletcher. Joe will discuss the elements of the essential collaboration between architectural photograhers and their architect clients\, with panelists Greg Faulkner\, FAIA; Joe Dangaran\, AIA NCARB LEED AP; Mary Ann Schicketanz\, AIA; and moderator Erik Dyar\, AIA. \nSince moving to the US in 2003\, Joe has chronicled some of America’s best emerging and established architects\, such as Woods + Dangaran\, Faulkner Architects and Walker Workshop. His published works offer a fresh perspective on California’s ranch houses and iconic Palm Springs architecture\, such as Richard Neutra’s Kaufmann House. \nClick here for tickets.
URL:https://aiamontereybay.org/event/the-architect-and-photographer-a-collaboration-an-arts-architecture-panel-discussion-featuring-joe-fletcher/
LOCATION:Monterey Museum of Art–La Mirada\, 720 La Via Mirada\, Monterey\, CA\, 93940\, United States
CATEGORIES:Arts & Architecture
ATTACH;FMTTYPE=image/jpeg:https://aiamontereybay.org/wp-content/uploads/2025/03/collab.jpg
END:VEVENT
BEGIN:VEVENT
DTSTART;TZID=America/Los_Angeles:20250311T170000
DTEND;TZID=America/Los_Angeles:20250311T190000
DTSTAMP:20260420T215926
CREATED:20250220T230109Z
LAST-MODIFIED:20250220T230109Z
UID:29818-1741712400-1741719600@aiamontereybay.org
SUMMARY:On the Architectural Photography of Morley Baer
DESCRIPTION:Date and time: Tuesday\, March 11 · 5 – 7pm PDT\nLocation: Monterey Museum of Art | 559 Pacific Street Monterey\, CA 93940 \nPresenter: Cydney Payton is curator and writer who focuses on contemporary art and architecture. She holds an MA in Curatorial Practice from California College of the Arts\, emphasis Architectural History and Theory. \nPresentation:\nThe American Institute of Architects Monterey Bay in collaboration with the Monterey Museum of Art is presenting a lecture and conversation which will take a deeper look at the exhibition Morley Baer: Modernism in Northern California Architecture at the Monterey Art Museum\, and curated by Cydney Payton. Payton will talk about her curatorial process and the questions that arose during her research. We will hear about findings as well as what research remains. Ideas related to the complicated histories between art and architecture and the photographic image will be put forward through selected architectural photographs taken by Baer. Cydney Payton is an American curator and writer. Her focus is contemporary art and architecture. Payton holds an MA in Curatorial Practice from California College of the Arts\, emphasis Architectural History and Theory. \nLecture Earns 1.5 AIA Continuing Education Learning Units \nReserve Your Place Here.
URL:https://aiamontereybay.org/event/on-the-architectural-photography-of-morley-baer/
LOCATION:Monterey Museum of Art–La Mirada\, 720 La Via Mirada\, Monterey\, CA\, 93940\, United States
CATEGORIES:Arts & Architecture
ATTACH;FMTTYPE=image/jpeg:https://aiamontereybay.org/wp-content/uploads/2025/02/aia.jpg
END:VEVENT
BEGIN:VEVENT
DTSTART;TZID=America/Los_Angeles:20240511T140000
DTEND;TZID=America/Los_Angeles:20240511T170000
DTSTAMP:20260420T215926
CREATED:20240422T184544Z
LAST-MODIFIED:20240507T224732Z
UID:29437-1715436000-1715446800@aiamontereybay.org
SUMMARY:Mickey Muennig: The Nature of Organic Architecture: An Arts + Architecture Lecture and Garden Party
DESCRIPTION:Mickey Muennig: The Nature of Organic Architecture:An Arts + Architecture Lecture and Garden PartyIn Celebration of Architect Mickey MuennigPresented in Collaboration with the Monterey Museum of Art \nDate: Saturday\, May 11\, 2024Time: 2:00 – 5:00 p.m.\, doors open at 1:30 p.m.Lecture: 2:00 – 3:30 p.m.Garden Party Reception: 3:30 – 5:00 p.m.Location: Monterey Museum of Art—La Mirada\, 720 La Via Mirada\, Monterey\, CA 93940Tickets: $25\, click here to register \nPresentation:Lecture by architect and historian Alan Hess and a panel including Herb Greene (living patriarch of the Organic Architecture movement); architect Daniel Piechota; Mike Freed (Managing Partner of Post Ranch Inn / Passport Resorts LLC); and artist Greg Hawthorne. \nPlease join the Monterey Museum of Art (MMA) and AIA Monterey Bay on Saturday\, May 11\, 2024\, at 2:00 pm at MMA’s La Mirada location for a presentation and celebration of the work of architect Mickey Muennig.  A leading proponent of the Organic Architecture Movement\, Muennig produced designs which are inextricably rooted in their place of Big Sur.  From his many homes to the Post Ranch Inn and Hawthorne Gallery\, he created widely imaginative structures beautifully integrated with nature and their extraordinary environment.  Architect and historian Alan Hess will discuss Muennig’s background and his place within American architecture and present his major works.  We continue with contributions from living patriarch of the Organic Movement\, Herb Greene; Muennig protégés\, architects Daniel Piechota and Thomas Rettenwender; managing partner of the Post Ranch Inn\, Mike Freed; and artist/client Greg Hawthorne. \nPlease join us after the presentation for wine and light appetizers in the La Mirada Rose Garden on the beautiful grounds of Monterey Museum of Art—La Mirada \nComplimentary valet parking at 720 Via Mirada\, MontereyLecture Earns 1.5 AIA Continuing Education Learning Units
URL:https://aiamontereybay.org/event/a-lecture-and-garden-party/
LOCATION:Monterey Museum of Art–La Mirada\, 720 La Via Mirada\, Monterey\, CA\, 93940\, United States
CATEGORIES:Special Event
ATTACH;FMTTYPE=image/jpeg:https://aiamontereybay.org/wp-content/uploads/2024/04/Muennig-image-for-CC-2-1.jpg
END:VEVENT
END:VCALENDAR