BEGIN:VCALENDAR
VERSION:2.0
PRODID:-//AIA Monterey Bay - ECPv6.15.20//NONSGML v1.0//EN
CALSCALE:GREGORIAN
METHOD:PUBLISH
X-WR-CALNAME:AIA Monterey Bay
X-ORIGINAL-URL:https://aiamontereybay.org
X-WR-CALDESC:Events for AIA Monterey Bay
REFRESH-INTERVAL;VALUE=DURATION:PT1H
X-Robots-Tag:noindex
X-PUBLISHED-TTL:PT1H
BEGIN:VTIMEZONE
TZID:America/Los_Angeles
BEGIN:DAYLIGHT
TZOFFSETFROM:-0800
TZOFFSETTO:-0700
TZNAME:PDT
DTSTART:20230312T100000
END:DAYLIGHT
BEGIN:STANDARD
TZOFFSETFROM:-0700
TZOFFSETTO:-0800
TZNAME:PST
DTSTART:20231105T090000
END:STANDARD
BEGIN:DAYLIGHT
TZOFFSETFROM:-0800
TZOFFSETTO:-0700
TZNAME:PDT
DTSTART:20240310T100000
END:DAYLIGHT
BEGIN:STANDARD
TZOFFSETFROM:-0700
TZOFFSETTO:-0800
TZNAME:PST
DTSTART:20241103T090000
END:STANDARD
BEGIN:DAYLIGHT
TZOFFSETFROM:-0800
TZOFFSETTO:-0700
TZNAME:PDT
DTSTART:20250309T100000
END:DAYLIGHT
BEGIN:STANDARD
TZOFFSETFROM:-0700
TZOFFSETTO:-0800
TZNAME:PST
DTSTART:20251102T090000
END:STANDARD
BEGIN:DAYLIGHT
TZOFFSETFROM:-0800
TZOFFSETTO:-0700
TZNAME:PDT
DTSTART:20260308T100000
END:DAYLIGHT
BEGIN:STANDARD
TZOFFSETFROM:-0700
TZOFFSETTO:-0800
TZNAME:PST
DTSTART:20261101T090000
END:STANDARD
BEGIN:DAYLIGHT
TZOFFSETFROM:-0800
TZOFFSETTO:-0700
TZNAME:PDT
DTSTART:20270314T100000
END:DAYLIGHT
BEGIN:STANDARD
TZOFFSETFROM:-0700
TZOFFSETTO:-0800
TZNAME:PST
DTSTART:20271107T090000
END:STANDARD
END:VTIMEZONE
BEGIN:VEVENT
DTSTART;TZID=America/Los_Angeles:20260303T160000
DTEND;TZID=America/Los_Angeles:20260303T170000
DTSTAMP:20260420T153256
CREATED:20260223T202219Z
LAST-MODIFIED:20260223T202219Z
UID:30393-1772553600-1772557200@aiamontereybay.org
SUMMARY:Mass Timber Tour at Kresge College
DESCRIPTION:Mass Timber Tour at Kresge College\nPresented by AIA Monterey Bay COTE Commitee \nDate & Time: Tuesday\, March 3\, 4:00 to 5:00 p.m.\nLocation: Kresge College\, 510 Porter-Kresge Road\, Santa Cruz 95060\nC.E. Units: 1 LU\nCost: Free to AIA members\, sponsors\, students. $25 for the general public \nThis is a on-site tour of a Mass Timber building\, Building L\, on the Kresge College campus\, within the boundaries of the University of California\, Santa Cruz (UCSC). The building is a 6-story dormitory with 40 rooms which will accommodate approximately 100 students. The project addresses the student housing shortage at UCSC. Mass timber was selected for its sustainability benefits\, fire resistance properties\, and the opportunities it provides for prefabrication. Please register here. \nParking and meeting point information will be sent upon registration. \nAttendees are invited to a Happy Hour Mixer after the tour\, from 5:30 to 6:30 p.m.\, at FUSE Architects & Builders\, 512 Capitola Avenue\, Capitola 95010. Thank you to our Mixer sponsor\, MassFrame Solutions.
URL:https://www.zeffy.com/en-US/ticketing/cote-mass-timber-tour-at-kresge-college?impact_chain_source=shirmaine%40shirmainejones.com#new_tab
LOCATION:Kresge College at University of California Santa Cruz\, 510 Porter-Kresge Rd.\, Santa Cruz\, cA\, 95060\, United States
CATEGORIES:COTE
ATTACH;FMTTYPE=image/jpeg:https://aiamontereybay.org/wp-content/uploads/2026/02/image002.jpg
END:VEVENT
BEGIN:VEVENT
DTSTART;TZID=America/Los_Angeles:20240618T153000
DTEND;TZID=America/Los_Angeles:20240618T193000
DTSTAMP:20260420T153256
CREATED:20240603T173506Z
LAST-MODIFIED:20240603T173934Z
UID:29544-1718724600-1718739000@aiamontereybay.org
SUMMARY:Tour of UCSC Kresge College + Happy Hour
DESCRIPTION:COTE Event Presented by AIA Monterey Bay\nTour of UCSC Kresge College + Happy Hour \nCome and tour the newly completed mass-timber expansion of Kresge College at UCSC and join us for happy hour afterward at Workbench! \nDate & Time: Tuesday\, June 18th\, Tour: 3:30pm-5:00\, Happy Hour: 5:15-7:00P.M.\nCost: Free to AIA MB Members\, Sponsors\, and Architecture Students;\n$20 for Non-Members \nTour Location: Kresge College at University of California\, Santa Cruz\, 510 Porter-Kresge Rd. Santa Cruz\, CA 95064 \nParking note: park at Core West parking structure and walk across the street to use the pedestrian bridge to Kresge. We will meet at the bridge terminus at 3:30 p.m. \nHappy Hour Location: Workbench\, 189 Walnut Avenue Santa Cruz\, CA 95060 \nLearning Units: 1.5 HSW \nClick here to register.
URL:https://aiamontereybay.org/event/tour-of-ucsc-kresge-college-happy-hour/
LOCATION:Kresge College at University of California Santa Cruz\, 510 Porter-Kresge Rd.\, Santa Cruz\, cA\, 95060\, United States
CATEGORIES:COTE
ATTACH;FMTTYPE=image/png:https://aiamontereybay.org/wp-content/uploads/2024/06/image.png
END:VEVENT
END:VCALENDAR