BEGIN:VCALENDAR
VERSION:2.0
PRODID:-//AIA Monterey Bay - ECPv6.15.20//NONSGML v1.0//EN
CALSCALE:GREGORIAN
METHOD:PUBLISH
X-WR-CALNAME:AIA Monterey Bay
X-ORIGINAL-URL:https://aiamontereybay.org
X-WR-CALDESC:Events for AIA Monterey Bay
REFRESH-INTERVAL;VALUE=DURATION:PT1H
X-Robots-Tag:noindex
X-PUBLISHED-TTL:PT1H
BEGIN:VTIMEZONE
TZID:America/Los_Angeles
BEGIN:DAYLIGHT
TZOFFSETFROM:-0800
TZOFFSETTO:-0700
TZNAME:PDT
DTSTART:20210314T100000
END:DAYLIGHT
BEGIN:STANDARD
TZOFFSETFROM:-0700
TZOFFSETTO:-0800
TZNAME:PST
DTSTART:20211107T090000
END:STANDARD
BEGIN:DAYLIGHT
TZOFFSETFROM:-0800
TZOFFSETTO:-0700
TZNAME:PDT
DTSTART:20220313T100000
END:DAYLIGHT
BEGIN:STANDARD
TZOFFSETFROM:-0700
TZOFFSETTO:-0800
TZNAME:PST
DTSTART:20221106T090000
END:STANDARD
BEGIN:DAYLIGHT
TZOFFSETFROM:-0800
TZOFFSETTO:-0700
TZNAME:PDT
DTSTART:20230312T100000
END:DAYLIGHT
BEGIN:STANDARD
TZOFFSETFROM:-0700
TZOFFSETTO:-0800
TZNAME:PST
DTSTART:20231105T090000
END:STANDARD
BEGIN:DAYLIGHT
TZOFFSETFROM:-0800
TZOFFSETTO:-0700
TZNAME:PDT
DTSTART:20240310T100000
END:DAYLIGHT
BEGIN:STANDARD
TZOFFSETFROM:-0700
TZOFFSETTO:-0800
TZNAME:PST
DTSTART:20241103T090000
END:STANDARD
BEGIN:DAYLIGHT
TZOFFSETFROM:-0800
TZOFFSETTO:-0700
TZNAME:PDT
DTSTART:20250309T100000
END:DAYLIGHT
BEGIN:STANDARD
TZOFFSETFROM:-0700
TZOFFSETTO:-0800
TZNAME:PST
DTSTART:20251102T090000
END:STANDARD
BEGIN:DAYLIGHT
TZOFFSETFROM:-0800
TZOFFSETTO:-0700
TZNAME:PDT
DTSTART:20260308T100000
END:DAYLIGHT
BEGIN:STANDARD
TZOFFSETFROM:-0700
TZOFFSETTO:-0800
TZNAME:PST
DTSTART:20261101T090000
END:STANDARD
END:VTIMEZONE
BEGIN:VEVENT
DTSTART;TZID=America/Los_Angeles:20250914T070000
DTEND;TZID=America/Los_Angeles:20250914T110000
DTSTAMP:20260420T215803
CREATED:20250822T191847Z
LAST-MODIFIED:20250822T191848Z
UID:30154-1757833200-1757847600@aiamontereybay.org
SUMMARY:62nd Annual Great Sandcastle Contest
DESCRIPTION:62nd Annual Great Sandcastle Contest \nSunday\, September 14th\n7 a.m. Start 11 a.m. Judging \nFree registration the morning of the event \nTheme: Carmel’s Nature \nCarmel Beach between 10th & 12th \nSponsored by the City of Carmel-by-the-Sea and the American Institute of Architects\, Monterey Bay
URL:https://aiamontereybay.org/event/62nd-annual-great-sandcastle-contest/
LOCATION:Carmel Beach\, Between 10th and 12th Street\, CA\, 93923\, United States
ATTACH;FMTTYPE=image/jpeg:https://aiamontereybay.org/wp-content/uploads/2025/08/2025-poster-2025-poster.jpg
END:VEVENT
BEGIN:VEVENT
DTSTART;TZID=America/Los_Angeles:20230916T080000
DTEND;TZID=America/Los_Angeles:20230916T140000
DTSTAMP:20260420T215803
CREATED:20230904T195911Z
LAST-MODIFIED:20230905T192443Z
UID:29157-1694851200-1694872800@aiamontereybay.org
SUMMARY:60th Annual Sandcastle Contest
DESCRIPTION:THEME: “TIME TRAVEL – INTO THE FUTURE”\nDATE: SATURDAY\, SEPTEMBER 16\, 2023\, 8AM – 2PM (JUDGING AT NOON)\nPLACE: CARMEL BEACH BETWEEN 10TH & 12TH \nFree registration the morning of the event. \nSponsored by The City of Carmel-By-The-Sea and The American Institute of Architects Monterey Bay Chapter.
URL:https://aiamontereybay.org/event/60th-annual-sandcastle-contest/
LOCATION:Carmel Beach\, Between 10th and 12th Street\, CA\, 93923\, United States
CATEGORIES:Special Event
ATTACH;FMTTYPE=image/jpeg:https://aiamontereybay.org/wp-content/uploads/2023/09/Sandcastle-poster-2023.jpg
END:VEVENT
BEGIN:VEVENT
DTSTART;TZID=America/Los_Angeles:20220917T100000
DTEND;TZID=America/Los_Angeles:20220917T140000
DTSTAMP:20260420T215803
CREATED:20220826T174454Z
LAST-MODIFIED:20220826T174454Z
UID:28120-1663408800-1663423200@aiamontereybay.org
SUMMARY:Great Sandcastle Competition
DESCRIPTION:Time travel with the 59th Annual Great Sandcastle Competition at Carmel Beach \nSTART EARLY\, REGISTER AT 10 AM\nJUDGING STARTS AT 12 NOON\nAT CARMEL BEACH BETWEEN 10TH AND 12TH STREET\nFOR MORE INFORMATION VISIT\nhttps://ci.carmel.ca.us/community-activities
URL:https://aiamontereybay.org/event/great-sandcastle-competition/
LOCATION:Carmel Beach\, Between 10th and 12th Street\, CA\, 93923\, United States
CATEGORIES:Special Event
ATTACH;FMTTYPE=image/jpeg:https://aiamontereybay.org/wp-content/uploads/2022/08/sand-castle-competition.jpg
END:VEVENT
END:VCALENDAR