BEGIN:VCALENDAR
VERSION:2.0
PRODID:-//AIA Monterey Bay - ECPv6.15.20//NONSGML v1.0//EN
CALSCALE:GREGORIAN
METHOD:PUBLISH
X-WR-CALNAME:AIA Monterey Bay
X-ORIGINAL-URL:https://aiamontereybay.org
X-WR-CALDESC:Events for AIA Monterey Bay
REFRESH-INTERVAL;VALUE=DURATION:PT1H
X-Robots-Tag:noindex
X-PUBLISHED-TTL:PT1H
BEGIN:VTIMEZONE
TZID:America/Los_Angeles
BEGIN:DAYLIGHT
TZOFFSETFROM:-0800
TZOFFSETTO:-0700
TZNAME:PDT
DTSTART:20220313T100000
END:DAYLIGHT
BEGIN:STANDARD
TZOFFSETFROM:-0700
TZOFFSETTO:-0800
TZNAME:PST
DTSTART:20221106T090000
END:STANDARD
BEGIN:DAYLIGHT
TZOFFSETFROM:-0800
TZOFFSETTO:-0700
TZNAME:PDT
DTSTART:20230312T100000
END:DAYLIGHT
BEGIN:STANDARD
TZOFFSETFROM:-0700
TZOFFSETTO:-0800
TZNAME:PST
DTSTART:20231105T090000
END:STANDARD
BEGIN:DAYLIGHT
TZOFFSETFROM:-0800
TZOFFSETTO:-0700
TZNAME:PDT
DTSTART:20240310T100000
END:DAYLIGHT
BEGIN:STANDARD
TZOFFSETFROM:-0700
TZOFFSETTO:-0800
TZNAME:PST
DTSTART:20241103T090000
END:STANDARD
BEGIN:DAYLIGHT
TZOFFSETFROM:-0800
TZOFFSETTO:-0700
TZNAME:PDT
DTSTART:20250309T100000
END:DAYLIGHT
BEGIN:STANDARD
TZOFFSETFROM:-0700
TZOFFSETTO:-0800
TZNAME:PST
DTSTART:20251102T090000
END:STANDARD
END:VTIMEZONE
BEGIN:VEVENT
DTSTART;VALUE=DATE:20240118
DTEND;VALUE=DATE:20240119
DTSTAMP:20260420T202322
CREATED:20240109T204940Z
LAST-MODIFIED:20240109T204940Z
UID:29332-1705536000-1705622399@aiamontereybay.org
SUMMARY:Certified Passive House Consultant/Designer Training
DESCRIPTION:Certified Passive House Consultant/Designer Training —\nPacific Coast and Western States  \nStarting on January 18\, 2024 –\nThis is a Hybrid Training\, and Passive House California will provide a $500 discount for attendees who live and/or work in California. \nIf you’re an architect\, engineer\, or consultant in the Pacific or Mountain Time Zones\, from Eureka\, CA to San Diego\, CA \, this Certified Passive House Designer course is for you. The kickoff session is January 18\, but you can register now and get started right away. Work through the material at your pace\, and attend live online review webinars and Q&A sessions with practicing Passive House professionals. Do the exam review on-demand and be prepared for the online exam on April 11. 35 AIA HSW credits available.  \nFor more information and schedule details click here  \nContact Jay Gentry with questions at jay@concomt.com.
URL:https://aiamontereybay.org/event/certified-passive-house-consultant-designer-training/
CATEGORIES:Outside Event
ATTACH;FMTTYPE=image/png:https://aiamontereybay.org/wp-content/uploads/2024/01/phca-logo-4-1.png
END:VEVENT
BEGIN:VEVENT
DTSTART;TZID=America/Los_Angeles:20231114T123000
DTEND;TZID=America/Los_Angeles:20231114T133000
DTSTAMP:20260420T202322
CREATED:20231030T232010Z
LAST-MODIFIED:20231030T232010Z
UID:29250-1699965000-1699968600@aiamontereybay.org
SUMMARY:The Power of Existing Buildings
DESCRIPTION:This session will provide a series of “no-regrets” moves\, using building science and data science tools\, that every owner of a building or portfolio of buildings can take to properly prioritize investments in their existing buildings for the purpose of optimizing financial returns and building performance returns. Building performance components considered include energy/operating carbon\, occupant health and wellness and building resilience. \nLink to Information and Registration
URL:https://passivehousecal.org/the-power-of-existing-buildings-save-money-improve-health-and-reduce-environmental-impacts/#new_tab
LOCATION:Online Event
CATEGORIES:WEBINAR
ATTACH;FMTTYPE=image/jpeg:https://aiamontereybay.org/wp-content/uploads/2023/10/Power-of-Existing-Buildings.jpg
END:VEVENT
END:VCALENDAR