BEGIN:VCALENDAR
VERSION:2.0
PRODID:-//AIA Monterey Bay - ECPv6.15.20//NONSGML v1.0//EN
CALSCALE:GREGORIAN
METHOD:PUBLISH
X-ORIGINAL-URL:https://aiamontereybay.org
X-WR-CALDESC:Events for AIA Monterey Bay
REFRESH-INTERVAL;VALUE=DURATION:PT1H
X-Robots-Tag:noindex
X-PUBLISHED-TTL:PT1H
BEGIN:VTIMEZONE
TZID:America/Los_Angeles
BEGIN:DAYLIGHT
TZOFFSETFROM:-0800
TZOFFSETTO:-0700
TZNAME:PDT
DTSTART:20220313T100000
END:DAYLIGHT
BEGIN:STANDARD
TZOFFSETFROM:-0700
TZOFFSETTO:-0800
TZNAME:PST
DTSTART:20221106T090000
END:STANDARD
BEGIN:DAYLIGHT
TZOFFSETFROM:-0800
TZOFFSETTO:-0700
TZNAME:PDT
DTSTART:20230312T100000
END:DAYLIGHT
BEGIN:STANDARD
TZOFFSETFROM:-0700
TZOFFSETTO:-0800
TZNAME:PST
DTSTART:20231105T090000
END:STANDARD
BEGIN:DAYLIGHT
TZOFFSETFROM:-0800
TZOFFSETTO:-0700
TZNAME:PDT
DTSTART:20240310T100000
END:DAYLIGHT
BEGIN:STANDARD
TZOFFSETFROM:-0700
TZOFFSETTO:-0800
TZNAME:PST
DTSTART:20241103T090000
END:STANDARD
END:VTIMEZONE
BEGIN:VEVENT
DTSTART;TZID=America/Los_Angeles:20231105T130000
DTEND;TZID=America/Los_Angeles:20231105T153000
DTSTAMP:20260421T012657
CREATED:20231023T174315Z
LAST-MODIFIED:20231023T174315Z
UID:29248-1699189200-1699198200@aiamontereybay.org
SUMMARY:Frances Elkins: Visionary American Designer
DESCRIPTION:Lecture: Frances Elkins: Visionary American Designer\nPresented by:\nMonterey Area Architectural Resources Archive (MAARA) \nLecturer: Scott Powell\nDate: Sunday\, November 5\, 2023\nLocation: Stanton Center\, 5 Customs House Plaza\, Monterey\nTime: Lecture & questions: 1:00 – 2:30 p.m. doors open at 12:30 p.m.\nBook signing & refreshments: 2:30 to 3:30 p.m.\nPrice: $10 AIA Members & Sponsors\, Students\, and MAARA Members\n$20 Non-Members\nTickets: Available only at the door\, no pre-registration available \nScott Powell will discuss the innovative interiors of Frances Adler Elkins (1887-1953)\, known for her adroit mixtures of the classical and the modern\, her fresh sense of color and texture\, and her concern for comfort and livability. She is considered one of the best American interior designers of all time. Elkins\, based in Monterey\, worked closely with many great architects including her Chicago-based brother David Adler as well as the prominent California architects Gardner Dailey\, William Wurster\, George Washington Smith\, Clarence Tantau\, Wallace Neﬀ\, Roland Coate\, George Kaufmann\, Reginald Johnson\, Lewis Hobart\, Robert Stanton\, and Lutah Maria Riggs. The houses\, hotels and clubhouses Elkins designed in northern California also featured the work of outstanding Monterey and Carmel artists including Francis & Gene McComas\, the Bruton sisters\, and Remo Scardigli. Elkins’ commissions on the Monterey Peninsula were frequently landscaped by the illustrious Thomas Church\, but also included gardens by talents such as Isabella Worn. The lecture will present images of interiors and exteriors around the country with special emphasis on Chicago and the North Shore\, and on Pebble Beach\, Monterey and Carmel. Photos of sketches\, blueprints\, fabrics and wall coverings from the extensive Frances Elkins Archives at Monterey Peninsula College will also be part of the presentation. \nPowell’s book Frances Elkins: Visionary American Designer\, was published by Rizzoli in late March 2023 and will be available for sale at the event. \nSince 2002\, Scott Powell has been researching the career of Frances Elkins. He has documented over 250 Elkins commissions\, many of them previously unknown. His research includes close contact with existing Elkins family members and clients\, ongoing review of her project ﬁles and several photo archives throughout the U.S.\, and visits to several extant Elkins commissions on the West Coast. His interest in Elkins has also led to the acquisition of furniture\, textiles\, wall coverings and many unpublished period photographs related to her 35-year career. Studying Elkins combines his interests in classical and modern architecture\, interior design\, landscape design\, photography\, California history\, Hollywood’s two Golden Ages (the silent era and the ﬁrst three decades of sound ﬁlm)\, and textiles. \n# # # # \nMAARA was formed to (a) preserve information sources with respect to the architectural history of the Monterey area by collecting\, cataloguing\, storing\, preserving\, and maintaining records\, manuscripts\, photographs and other archival materials pertaining to such architectural history; (b) maintain and operate archival facilities adequate to preserve\, protect and provide public access to archival material related to the architectural history of the Monterey area\, (c) conduct educational programs for the public that focus on archival and historical research and the preservation of archival materials with respect to the architectural history of the Monterey area\, and (d) cooperate with municipal\, cultural and educational institutions in preserving and sharing the historical architectural resources of the Monterey area in the State of California.
URL:https://aiamontereybay.org/event/frances-elkins-visionary-american-designer/
LOCATION:Stanton Center\, 5 Custom House Plaza\, Monterey\, CA\, United States
CATEGORIES:Arts & Architecture
END:VEVENT
BEGIN:VEVENT
DTSTART;TZID=America/Los_Angeles:20230520T180000
DTEND;TZID=America/Los_Angeles:20230520T193000
DTSTAMP:20260421T012657
CREATED:20230508T180612Z
LAST-MODIFIED:20230508T180612Z
UID:28829-1684605600-1684611000@aiamontereybay.org
SUMMARY:Frank Lloyd Wright’s Walker House: Lecture By Kathryn Smith\,
DESCRIPTION:Frank Lloyd Wright’s Walker House: Lecture By Kathryn Smith\,\nSaturday\, May 20\, 2023\, Stanton Center\, 5 Custom House Plaza\, Monterey \nMonterey Area Architectural Resources Archive (MAARA) announces Frank Lloyd Wright’s Walker House\, an illustrated lecture by Kathryn Smith\, noted national Wright expert\, 6 pm – 7:30 pm\, May 20\, 2023 at Stanton Center\, 5 Custom House Plaza\, Monterey. Drawn from her recent publication based on unpublished sources including drawings\, letters\, historic photos\, and oral histories\, Smith will reveal the surprising story of how Wright designed and constructed his only built waterfront house. Extensive new exterior and interior photos document Wright’s unique artistry for Della Walker\, his client. The lecture is co-sponsored by the Carmel Heritage Society and AIA Monterey Bay. Smith has authored numerous books and articles on Wright and has lectured nationally. \nA book signing follows immediately after the lecture. \nAdmission is $10\, doors open 5:30 pm. Garage and street parking.
URL:https://aiamontereybay.org/event/frank-lloyd-wrights-walker-house-lecture-by-kathryn-smith/
LOCATION:Stanton Center\, 5 Custom House Plaza\, Monterey\, CA\, United States
CATEGORIES:Arts & Architecture,Outside Event
END:VEVENT
END:VCALENDAR