BEGIN:VCALENDAR
VERSION:2.0
PRODID:-//AIA Monterey Bay - ECPv6.15.20//NONSGML v1.0//EN
CALSCALE:GREGORIAN
METHOD:PUBLISH
X-WR-CALNAME:AIA Monterey Bay
X-ORIGINAL-URL:https://aiamontereybay.org
X-WR-CALDESC:Events for AIA Monterey Bay
REFRESH-INTERVAL;VALUE=DURATION:PT1H
X-Robots-Tag:noindex
X-PUBLISHED-TTL:PT1H
BEGIN:VTIMEZONE
TZID:America/Los_Angeles
BEGIN:DAYLIGHT
TZOFFSETFROM:-0800
TZOFFSETTO:-0700
TZNAME:PDT
DTSTART:20200308T100000
END:DAYLIGHT
BEGIN:STANDARD
TZOFFSETFROM:-0700
TZOFFSETTO:-0800
TZNAME:PST
DTSTART:20201101T090000
END:STANDARD
BEGIN:DAYLIGHT
TZOFFSETFROM:-0800
TZOFFSETTO:-0700
TZNAME:PDT
DTSTART:20210314T100000
END:DAYLIGHT
BEGIN:STANDARD
TZOFFSETFROM:-0700
TZOFFSETTO:-0800
TZNAME:PST
DTSTART:20211107T090000
END:STANDARD
BEGIN:DAYLIGHT
TZOFFSETFROM:-0800
TZOFFSETTO:-0700
TZNAME:PDT
DTSTART:20220313T100000
END:DAYLIGHT
BEGIN:STANDARD
TZOFFSETFROM:-0700
TZOFFSETTO:-0800
TZNAME:PST
DTSTART:20221106T090000
END:STANDARD
END:VTIMEZONE
BEGIN:VEVENT
DTSTART;TZID=America/Los_Angeles:20210114T110000
DTEND;TZID=America/Los_Angeles:20210114T120000
DTSTAMP:20260420T215220
CREATED:20210112T145830Z
LAST-MODIFIED:20210113T055832Z
UID:27164-1610622000-1610625600@aiamontereybay.org
SUMMARY:Exquisite Interior Matte Paint with Dunn-Edwards
DESCRIPTION:Features: Excellent Stain Resistance\, Washability\, Scuff Resistance\, Burnish & Color Rub-off Resistance. The presentation will also feature Dunn-Edwards colors and our Environmental theme – Greener by Design. Earn 1LU. \nThe registration link is   https://zoom.us/webinar/register/WN_nSozHqjSQ1GaGqyJpQFT1A \n 
URL:https://aiamontereybay.org/event/exquisite-interior-matte-paint-with-dunn-edwards/
CATEGORIES:Lunch & Learn
ATTACH;FMTTYPE=image/png:https://aiamontereybay.org/wp-content/uploads/2021/01/DE-Logo.png
END:VEVENT
END:VCALENDAR