BEGIN:VCALENDAR
VERSION:2.0
PRODID:-//AIA Monterey Bay - ECPv6.15.20//NONSGML v1.0//EN
CALSCALE:GREGORIAN
METHOD:PUBLISH
X-WR-CALNAME:AIA Monterey Bay
X-ORIGINAL-URL:https://aiamontereybay.org
X-WR-CALDESC:Events for AIA Monterey Bay
REFRESH-INTERVAL;VALUE=DURATION:PT1H
X-Robots-Tag:noindex
X-PUBLISHED-TTL:PT1H
BEGIN:VTIMEZONE
TZID:America/Los_Angeles
BEGIN:DAYLIGHT
TZOFFSETFROM:-0800
TZOFFSETTO:-0700
TZNAME:PDT
DTSTART:20210314T100000
END:DAYLIGHT
BEGIN:STANDARD
TZOFFSETFROM:-0700
TZOFFSETTO:-0800
TZNAME:PST
DTSTART:20211107T090000
END:STANDARD
BEGIN:DAYLIGHT
TZOFFSETFROM:-0800
TZOFFSETTO:-0700
TZNAME:PDT
DTSTART:20220313T100000
END:DAYLIGHT
BEGIN:STANDARD
TZOFFSETFROM:-0700
TZOFFSETTO:-0800
TZNAME:PST
DTSTART:20221106T090000
END:STANDARD
BEGIN:DAYLIGHT
TZOFFSETFROM:-0800
TZOFFSETTO:-0700
TZNAME:PDT
DTSTART:20230312T100000
END:DAYLIGHT
BEGIN:STANDARD
TZOFFSETFROM:-0700
TZOFFSETTO:-0800
TZNAME:PST
DTSTART:20231105T090000
END:STANDARD
END:VTIMEZONE
BEGIN:VEVENT
DTSTART;TZID=America/Los_Angeles:20220924T130000
DTEND;TZID=America/Los_Angeles:20220924T170000
DTSTAMP:20260420T234814
CREATED:20220826T174830Z
LAST-MODIFIED:20220826T174848Z
UID:28125-1664024400-1664038800@aiamontereybay.org
SUMMARY:Carmel 2022 House and Garden Tour
DESCRIPTION:Sponsored by Carmel Heritage Society and American Institute of Architects (AIA) Monterey Bay Chapter\nSeptember 24\, 2022 • 1:00-5:00 PM\nLocation:\nCarmel California \n\nStep behind the garden walls to view some of the most iconic and fascinating architectural treasures in Carmel-by-the-Sea.\nTickets will go on sale September 1 through our website or by phone. \nTicket Prices:    \n$40 for Carmel Heritage members\n$45 for nonmembers\n$55 all tickets purchased on day of event \nLearn more here.
URL:https://aiamontereybay.org/event/carmel-2022-house-and-garden-tour/
CATEGORIES:Arts & Architecture
ATTACH;FMTTYPE=image/jpeg:https://aiamontereybay.org/wp-content/uploads/2022/08/carmel-heritage-society.jpg
END:VEVENT
END:VCALENDAR