BEGIN:VCALENDAR
VERSION:2.0
PRODID:-//AIA Monterey Bay - ECPv6.15.20//NONSGML v1.0//EN
CALSCALE:GREGORIAN
METHOD:PUBLISH
X-ORIGINAL-URL:https://aiamontereybay.org
X-WR-CALDESC:Events for AIA Monterey Bay
REFRESH-INTERVAL;VALUE=DURATION:PT1H
X-Robots-Tag:noindex
X-PUBLISHED-TTL:PT1H
BEGIN:VTIMEZONE
TZID:America/Los_Angeles
BEGIN:DAYLIGHT
TZOFFSETFROM:-0800
TZOFFSETTO:-0700
TZNAME:PDT
DTSTART:20200308T100000
END:DAYLIGHT
BEGIN:STANDARD
TZOFFSETFROM:-0700
TZOFFSETTO:-0800
TZNAME:PST
DTSTART:20201101T090000
END:STANDARD
BEGIN:DAYLIGHT
TZOFFSETFROM:-0800
TZOFFSETTO:-0700
TZNAME:PDT
DTSTART:20210314T100000
END:DAYLIGHT
BEGIN:STANDARD
TZOFFSETFROM:-0700
TZOFFSETTO:-0800
TZNAME:PST
DTSTART:20211107T090000
END:STANDARD
BEGIN:DAYLIGHT
TZOFFSETFROM:-0800
TZOFFSETTO:-0700
TZNAME:PDT
DTSTART:20220313T100000
END:DAYLIGHT
BEGIN:STANDARD
TZOFFSETFROM:-0700
TZOFFSETTO:-0800
TZNAME:PST
DTSTART:20221106T090000
END:STANDARD
BEGIN:DAYLIGHT
TZOFFSETFROM:-0800
TZOFFSETTO:-0700
TZNAME:PDT
DTSTART:20230312T100000
END:DAYLIGHT
BEGIN:STANDARD
TZOFFSETFROM:-0700
TZOFFSETTO:-0800
TZNAME:PST
DTSTART:20231105T090000
END:STANDARD
BEGIN:DAYLIGHT
TZOFFSETFROM:-0800
TZOFFSETTO:-0700
TZNAME:PDT
DTSTART:20240310T100000
END:DAYLIGHT
BEGIN:STANDARD
TZOFFSETFROM:-0700
TZOFFSETTO:-0800
TZNAME:PST
DTSTART:20241103T090000
END:STANDARD
BEGIN:DAYLIGHT
TZOFFSETFROM:-0800
TZOFFSETTO:-0700
TZNAME:PDT
DTSTART:20250309T100000
END:DAYLIGHT
BEGIN:STANDARD
TZOFFSETFROM:-0700
TZOFFSETTO:-0800
TZNAME:PST
DTSTART:20251102T090000
END:STANDARD
BEGIN:DAYLIGHT
TZOFFSETFROM:-0800
TZOFFSETTO:-0700
TZNAME:PDT
DTSTART:20260308T100000
END:DAYLIGHT
BEGIN:STANDARD
TZOFFSETFROM:-0700
TZOFFSETTO:-0800
TZNAME:PST
DTSTART:20261101T090000
END:STANDARD
END:VTIMEZONE
BEGIN:VEVENT
DTSTART;TZID=America/Los_Angeles:20250920T120000
DTEND;TZID=America/Los_Angeles:20250920T160000
DTSTAMP:20260420T202320
CREATED:20250325T000849Z
LAST-MODIFIED:20250908T182659Z
UID:29830-1758369600-1758384000@aiamontereybay.org
SUMMARY:Carmel House Tour
DESCRIPTION:Save the Date for the Carmel House Tour \nDate and time: Saturday\, September 20\, 12:00 p.m. to 4:00 p.m. \nThe Carmel House Tour Committee is hard at work lining up houses\, planning a fundraising party\, and developing new opportunities that will run in conjunction with the Tour. \nVolunteer docents receive a free ticket for working a 2.5 hour shift. If you’re interested in being a docent please contact Shirmaine@aiamontereybay.org
URL:https://lp.digicpn.com/f9DF4T1QB8#new_tab
ATTACH;FMTTYPE=image/jpeg:https://aiamontereybay.org/wp-content/uploads/2025/03/carmel-house-1.jpg
END:VEVENT
BEGIN:VEVENT
DTSTART;TZID=America/Los_Angeles:20250311T170000
DTEND;TZID=America/Los_Angeles:20250311T190000
DTSTAMP:20260420T202320
CREATED:20250220T230109Z
LAST-MODIFIED:20250220T230109Z
UID:29818-1741712400-1741719600@aiamontereybay.org
SUMMARY:On the Architectural Photography of Morley Baer
DESCRIPTION:Date and time: Tuesday\, March 11 · 5 – 7pm PDT\nLocation: Monterey Museum of Art | 559 Pacific Street Monterey\, CA 93940 \nPresenter: Cydney Payton is curator and writer who focuses on contemporary art and architecture. She holds an MA in Curatorial Practice from California College of the Arts\, emphasis Architectural History and Theory. \nPresentation:\nThe American Institute of Architects Monterey Bay in collaboration with the Monterey Museum of Art is presenting a lecture and conversation which will take a deeper look at the exhibition Morley Baer: Modernism in Northern California Architecture at the Monterey Art Museum\, and curated by Cydney Payton. Payton will talk about her curatorial process and the questions that arose during her research. We will hear about findings as well as what research remains. Ideas related to the complicated histories between art and architecture and the photographic image will be put forward through selected architectural photographs taken by Baer. Cydney Payton is an American curator and writer. Her focus is contemporary art and architecture. Payton holds an MA in Curatorial Practice from California College of the Arts\, emphasis Architectural History and Theory. \nLecture Earns 1.5 AIA Continuing Education Learning Units \nReserve Your Place Here.
URL:https://aiamontereybay.org/event/on-the-architectural-photography-of-morley-baer/
LOCATION:Monterey Museum of Art–La Mirada\, 720 La Via Mirada\, Monterey\, CA\, 93940\, United States
CATEGORIES:Arts & Architecture
ATTACH;FMTTYPE=image/jpeg:https://aiamontereybay.org/wp-content/uploads/2025/02/aia.jpg
END:VEVENT
BEGIN:VEVENT
DTSTART;TZID=America/Los_Angeles:20240720T150000
DTEND;TZID=America/Los_Angeles:20240720T170000
DTSTAMP:20260420T202320
CREATED:20240705T210310Z
LAST-MODIFIED:20240705T210310Z
UID:29587-1721487600-1721494800@aiamontereybay.org
SUMMARY:Annual AIA Monterey Bay Member and Sponsor Appreciation Picnic
DESCRIPTION:Annual AIA Monterey Bay\nMember and Sponsor Appreciation Picnic \nDate & Time: Saturday\, July 20\, 3:00 to 5:00 p.m.\nCost: Free to AIA Monterey Bay Members and Sponsors\nLocation: Monterey Peninsula Yacht Club\, Wharf II\, Monterey. \nAIA Monterey Bay cordially invites you to join your fellow members and sponsors at our annual appreciation BBQ. Again this year\, AIA MB is hosting the event at the Monterey Peninsula Yacht Club\, on Wharf II\, Monterey. Partners and guests welcome. \nPlease RSVP by Wednesday\, July 17\, to shirmaine@aiamonterebay.org
URL:https://aiamontereybay.org/event/annual-aia-monterey-bay-member-and-sponsor-appreciation-picnic/
LOCATION:Monterey Peninsula Yacht Club\, Warf II\, Monterey
ATTACH;FMTTYPE=image/jpeg:https://aiamontereybay.org/wp-content/uploads/2024/07/Numerous-yachts-in-the-Port-of-Saint-Tropez.jpeg
END:VEVENT
BEGIN:VEVENT
DTSTART;TZID=America/Los_Angeles:20231214T180000
DTEND;TZID=America/Los_Angeles:20231214T213000
DTSTAMP:20260420T202320
CREATED:20231109T233641Z
LAST-MODIFIED:20231109T235634Z
UID:29264-1702576800-1702589400@aiamontereybay.org
SUMMARY:2023 Design Awards Holiday Dinner
DESCRIPTION:AMERICAN INSTITUTE OF ARCHITECTS MONTEREY BAY CHAPTER\nInvites you to the 2023 DESIGN AWARDS & HOLIDAY DINNER \nTHURSDAY\, DECEMBER 14\, 6:00 P.M.\nThe Barns at Cooper Molera\n535 Polk Street\nMonterey\, CA 93940 \nPROGRAM\n6:00 No Host Reception\n6:45 | Buffet Stations Dinner\n7:30 | Awards Presentation\n$98 Per Person\n$60 Emerging Professionals \nRSVP Deadline November 30 \nPAYMENT\nTo pay online at https://www.eventbrite.com/e/aia-monterey-bay-design-awards-presentations-and-holiday-dinner-tickets-755605154357?aff=oddtdtcreator\nOr mail your check to AlA Monterey Bay\nPO Box 310\, Monterey\, CA 93942
URL:https://aiamontereybay.org/event/2023-design-awards-holiday-dinner/
LOCATION:The Barns at Cooper Molera\, 535 Polk Street\, Monterey\, CA\, 93940\, United States
CATEGORIES:Holiday
ATTACH;FMTTYPE=image/png:https://aiamontereybay.org/wp-content/uploads/2023/11/Invitation-Holiday-Design-Awards-Dinner-2023.png
END:VEVENT
BEGIN:VEVENT
DTSTART;TZID=America/Los_Angeles:20210722T180000
DTEND;TZID=America/Los_Angeles:20210722T180000
DTSTAMP:20260420T202320
CREATED:20210530T165250Z
LAST-MODIFIED:20210701T133722Z
UID:27399-1626976800-1626976800@aiamontereybay.org
SUMMARY:Presentation of Stanton Award Lifetime Achievement
DESCRIPTION:AIA Monterey Bay Invites You To The Presentation of Stanton Award Lifetime Achievement \nIn Honor of WESLEY L. HESSLER\, AIA \nThursday\, July 22\, 6:00 P.M.\nTehama Club House\n25000 Via Malpaso\, Carmel \n$95 per person\n$60 for Emerging Professionals \nRSVP deadline is June 28 \nPurchase your tickets now
URL:https://aiamontereybay.org/event/presentation-of-stanton-award-lifetime-achievement/
LOCATION:Tehama Club House\, 25000 Via Malpaso\, Carmel\, CA\, United States
CATEGORIES:Special Event
ATTACH;FMTTYPE=image/jpeg:https://aiamontereybay.org/wp-content/uploads/2021/05/whessler-aia.jpg
END:VEVENT
BEGIN:VEVENT
DTSTART;TZID=America/Los_Angeles:20210521T120000
DTEND;TZID=America/Los_Angeles:20210521T133000
DTSTAMP:20260420T202320
CREATED:20210517T133636Z
LAST-MODIFIED:20210517T133636Z
UID:27363-1621598400-1621603800@aiamontereybay.org
SUMMARY:Green Specs Division 1: Construction Waste Management\, Reducing Waste at Every Step
DESCRIPTION:COTE Course Presented by AIA MB\nGreen Specs Division 1: Construction Waste Management\,\nReducing Waste at Every Step\n(while improving collaboration between architect\, contractor and waste facility) \nDate: Friday\, May 21\, 2021\nTime: 12:00 to 1:30 P.M.\nCredits: 1.5 AIA LU\nZoom Webinar \nDescription\nConstruction waste makes up one-third of the total refuse nationwide in the US. Demolition represents more than 90 percent of total C&D debris generation\, while construction represents less than 10 percent. \nSuch statistics makes it clear it is important to make better use of debris and existing building materials to make substantial changes in our landfills. This webinar will be a 3 person panel discussion between architects (participants) moderated by Libby Barnes\, AIA\, Tim Flanagan the General Manager of the Monterey Regional Waste Management District and John Teliha of Otto Construction\, located in Monterey CA. \nDiscussion will be focused on ways to reduce construction waste starting with the design phase through the end of construction and how these practices improve the environment and create cost benefits.
URL:https://aiamontereybay.org/event/green-specs-division-1-construction-waste-management-reducing-waste-at-every-step/
CATEGORIES:COTE,Lunch & Learn,WEBINAR
ATTACH;FMTTYPE=image/png:https://aiamontereybay.org/wp-content/uploads/2021/01/aiamb-colorlogo-2021.png
END:VEVENT
END:VCALENDAR