BEGIN:VCALENDAR
VERSION:2.0
PRODID:-//AIA Monterey Bay - ECPv6.15.20//NONSGML v1.0//EN
CALSCALE:GREGORIAN
METHOD:PUBLISH
X-ORIGINAL-URL:https://aiamontereybay.org
X-WR-CALDESC:Events for AIA Monterey Bay
REFRESH-INTERVAL;VALUE=DURATION:PT1H
X-Robots-Tag:noindex
X-PUBLISHED-TTL:PT1H
BEGIN:VTIMEZONE
TZID:America/Los_Angeles
BEGIN:DAYLIGHT
TZOFFSETFROM:-0800
TZOFFSETTO:-0700
TZNAME:PDT
DTSTART:20200308T100000
END:DAYLIGHT
BEGIN:STANDARD
TZOFFSETFROM:-0700
TZOFFSETTO:-0800
TZNAME:PST
DTSTART:20201101T090000
END:STANDARD
BEGIN:DAYLIGHT
TZOFFSETFROM:-0800
TZOFFSETTO:-0700
TZNAME:PDT
DTSTART:20210314T100000
END:DAYLIGHT
BEGIN:STANDARD
TZOFFSETFROM:-0700
TZOFFSETTO:-0800
TZNAME:PST
DTSTART:20211107T090000
END:STANDARD
BEGIN:DAYLIGHT
TZOFFSETFROM:-0800
TZOFFSETTO:-0700
TZNAME:PDT
DTSTART:20220313T100000
END:DAYLIGHT
BEGIN:STANDARD
TZOFFSETFROM:-0700
TZOFFSETTO:-0800
TZNAME:PST
DTSTART:20221106T090000
END:STANDARD
BEGIN:DAYLIGHT
TZOFFSETFROM:-0800
TZOFFSETTO:-0700
TZNAME:PDT
DTSTART:20230312T100000
END:DAYLIGHT
BEGIN:STANDARD
TZOFFSETFROM:-0700
TZOFFSETTO:-0800
TZNAME:PST
DTSTART:20231105T090000
END:STANDARD
BEGIN:DAYLIGHT
TZOFFSETFROM:-0800
TZOFFSETTO:-0700
TZNAME:PDT
DTSTART:20240310T100000
END:DAYLIGHT
BEGIN:STANDARD
TZOFFSETFROM:-0700
TZOFFSETTO:-0800
TZNAME:PST
DTSTART:20241103T090000
END:STANDARD
END:VTIMEZONE
BEGIN:VEVENT
DTSTART;TZID=America/Los_Angeles:20231019T180000
DTEND;TZID=America/Los_Angeles:20231019T200000
DTSTAMP:20260420T183652
CREATED:20231005T222305Z
LAST-MODIFIED:20231006T175159Z
UID:29215-1697738400-1697745600@aiamontereybay.org
SUMMARY:Carmel\, California – Monterey Area Architectural Resources Archive (MAARA) and the American Institute of Architects Monterey Bay (AIA Monterey Bay) announces Frank Lloyd Wright’s Walker House\, an illustrated lecture by Kathryn Smith\, noted national Wright expert\, October 19\, 2023\, 5:00 p.m. – 8:00 p.m. at Carpenter Hall\, Sunset Center\, San Carlos Street at 9th Avenue\, Carmel. Frank Lloyd Wright’s Della Walker House has been a subject of mystery\, facing the Bay\, at the end of Carmel Beach. Very few have been inside the gates\, no less inside
DESCRIPTION:Carmel\, California – Monterey Area Architectural Resources Archive (MAARA) and the American Institute of Architects Monterey Bay (AIA Monterey Bay) announces Frank Lloyd Wright’s Walker House\, an illustrated lecture by Kathryn Smith\, noted national Wright expert\, October 19\, 2023\, 6:00 p.m. – 8:00 p.m. (Doors open at 5:30 p.m.) at Carpenter Hall\, Sunset Center\, San Carlos Street at 9th Avenue\, Carmel. Frank Lloyd Wright’s Della Walker House has been a subject of mystery\, facing the Bay\, at the end of Carmel Beach. Very few have been inside the gates\, no less inside the rooms. In 2023\, Kathryn Smith authored a lavishly illustrated publication\, Frank Lloyd Wright’s Walker House\, which answers all the questions from who the client was\, what did it cost\, who designed all the furniture\, and more. In the lecture\, she presents original drawings\, historic photographs\, summaries of the architect-client correspondence\, and ends with a tour of the interior in new color images made specifically for this publication. Pierluigi Serraino\, Bay Area architectural critic\, described Smith’s Walker House as “a revelation\, answers questions we never even thought to ask\, with more photos we never knew existed.” Smith explained\, “I am eager to present this new information in Carmel-by-the-Sea\, where it will be most welcomed and appreciated.” The lecture is co-sponsored by the American Institute of Architects Monterey Bay (AIA Monterey Bay) and Monterey Area Architectural Resources Archive (MAARA). A book sale and signing follows immediately after the lecture. Admission is $10 for members of sponsoring organizations\, $20 for the public\, tickets only available at the door. Doors open at 5:30 p.m. Parking lot and street parking available.  \nWHO: Monterey Area Architectural Resources Archive (MAARA) and the American Institute of Architects Monterey Bay (AIA Monterey Bay)\nWHAT: Frank Lloyd Wright’s Walker House: A Lecture by Kathryn Smith\nWHEN: Thursday\, October 19\, 2023\, Doors Open: 5:30 P.M. • Lecture: 6:00 to 8:00 P.M. \nWHERE: Carpenter Hall\, Sunset Center\, San Carlos Street at 9th Avenue\, Carmel\, CA \n# # # \nAIA Monterey Bay is the regional voice for the architectural profession\, serving as an educational resource to the community and uniting its members in fellowship to promote the quality of the built environment. \nMAARA was formed to (a) preserve information sources with respect to the architectural history of the Monterey area by collecting\, cataloguing\, storing\, preserving\, and maintaining records\, manuscripts\, photographs and other archival materials pertaining to such architectural history; (b) maintain and operate archival facilities adequate to preserve\, protect and provide public access to archival material related to the architectural history of the Monterey area\, (c) conduct educational programs for the public that focus on archival and historical research and the preservation of archival materials with respect to the architectural history of the Monterey area\, and (d) cooperate with municipal\, cultural and educational institutions in preserving and sharing the historical architectural resources of the Monterey area in the State of California.
URL:https://aiamontereybay.org/event/carmel-california-monterey-area-architectural-resources-archive-maara-and-the-american-institute-of-architects-monterey-bay-aia-monterey-bay-announces-frank-lloyd-wrights-walke/
LOCATION:Carpenter Hall\, Sunset Center\, San Carlos Street at 9th Avenue\, Carmel\, CA\, United States
ATTACH;FMTTYPE=image/jpeg:https://aiamontereybay.org/wp-content/uploads/2023/10/FLW-House.jpg
END:VEVENT
BEGIN:VEVENT
DTSTART;TZID=America/Los_Angeles:20230908T173000
DTEND;TZID=America/Los_Angeles:20230908T203000
DTSTAMP:20260420T183652
CREATED:20230905T192406Z
LAST-MODIFIED:20230905T192406Z
UID:29163-1694194200-1694205000@aiamontereybay.org
SUMMARY:House and Garden Tour Reception
DESCRIPTION:A Celebration of Carmel’s Great Residential Architecture \nFRIDAY\, SEPTEMBER 8TH | 5:30PM – 8:30PM \nCarmel Heritage Society and American Institute of Architects Monterey Chapter invite you to join us at the 2023 House and Garden Tour Reception \nTICKETS: $150 PER PERSON\nIncludes the cocktail and hors d’oeuvre reception at Odyssey\, the home of Tom and Lynda Christal\, and a ticket to the House and Garden Tour on Saturday\, September 9th \nLOCATION: ODYSSEY\nCarmelo 4 SW of 10th \nRSVP TO INFO@CARMELHERITAGE.ORG OR 831-624-4447
URL:https://aiamontereybay.org/event/house-and-garden-tour-reception/
LOCATION:Odyssey\, Carmelo 4 SW of 10th
CATEGORIES:Arts & Architecture,Special Event
ATTACH;FMTTYPE=image/jpeg:https://aiamontereybay.org/wp-content/uploads/2023/08/AIAMB-House-Tour-Homepage-Banner.jpg
END:VEVENT
BEGIN:VEVENT
DTSTART;TZID=America/Los_Angeles:20230623T120000
DTEND;TZID=America/Los_Angeles:20230623T170000
DTSTAMP:20260420T183652
CREATED:20230512T193114Z
LAST-MODIFIED:20230512T193114Z
UID:28845-1687521600-1687539600@aiamontereybay.org
SUMMARY:ADA Course by Greg Izor and AIA Monterey Bay
DESCRIPTION:Earn 5 HSW Credits at In-Person\, ADA Course\nPresented by Greg Izor and AIA Monterey Bay \nDate: Friday\, June 23\, 2023\nTime: 12:00 – 5:00 p.m.\nLocation: Graniterock\, 1755 Del Monte Boulevard\, Seaside\nNote: Please do not park in Graniterock’s parking lot\nLearning Units: 5 LU/HSW\nCost: $150 for AIA Members; $190 for all others; includes snacks and beverages\nPresenter: Greg Izor\, AIA\, NCARB\, CASp; Principal Architect of Izor $ Associates\, Inc. DVBE. \nThis course will cover the following areas of interest:\n1: Exterior and Covered Parking Facilities\n2: Electric Vehicle Charging Stations\n3: Exterior Path of Travel\n5: Interior Path of travel\, Horizontal and Vertical Access Elements\n6: Toilet\, Bathing and Locker Facilities \nClick here to register
URL:https://aiamontereybay.org/event/ada-course-by-greg-izor-and-aia-monterey-bay/
LOCATION:Graniterock\, 1755 Del Monte Boulevard\, Seaside\, California\, 93955\, United States
CATEGORIES:Special Event
ATTACH;FMTTYPE=image/jpeg:https://aiamontereybay.org/wp-content/uploads/2023/05/ADA.jpg
END:VEVENT
BEGIN:VEVENT
DTSTART;TZID=America/Los_Angeles:20221208T180000
DTEND;TZID=America/Los_Angeles:20221208T210000
DTSTAMP:20260420T183652
CREATED:20221031T225445Z
LAST-MODIFIED:20221031T225445Z
UID:28180-1670522400-1670533200@aiamontereybay.org
SUMMARY:AIA Monterey Bay's Stanton Award Presentation and Holiday Dinner
DESCRIPTION:AIA Monterey Bay’s Stanton Award Presentation and Holiday Dinner \nJoin the AIA Monterey Bay community for the presentation of the The Robert Stanton FAIA Award for Contributions to the Field of Architecture being presented to J. Michael Wadsworth\, AIA and for our holiday dinner. \nDate: Thursday\, December 8\, 2022\nTime: 6:00 to 9:00 P.M.\nLocation: The Barns at Cooper Molera\nCost: $100 per person\, $65 for Emerging Professionals \nThe Robert Stanton FAIA Award for Contributions to the Field of Architecture will be presented to J. Michael Wadsworth\, AIA\, at our community holiday dinner at the Barns at Cooper Molera\, in Monterey. \n6:00 | No Host Reception\n6:45 | Buffet Stations Dinner\n7: 30 | Awards Presentation\nRSVP Deadline is December 1 \nClick here to buy your tickets \nOr mail your check made out to AIA MB\, to PO Box 310\, Monterey\, CA 93942 \nEmail Shirmaine with questions at shirmaine@aiamontereybay.org
URL:https://aiamontereybay.org/event/aia-monterey-bays-stanton-award-presentation-and-holiday-dinner/
LOCATION:The Barns at Cooper Molera\, 535 Polk Street\, Monterey\, CA\, 93940\, United States
CATEGORIES:Holiday
ATTACH;FMTTYPE=image/jpeg:https://aiamontereybay.org/wp-content/uploads/2022/10/image.jpeg
END:VEVENT
BEGIN:VEVENT
DTSTART;TZID=America/Los_Angeles:20220917T100000
DTEND;TZID=America/Los_Angeles:20220917T140000
DTSTAMP:20260420T183652
CREATED:20220826T174454Z
LAST-MODIFIED:20220826T174454Z
UID:28120-1663408800-1663423200@aiamontereybay.org
SUMMARY:Great Sandcastle Competition
DESCRIPTION:Time travel with the 59th Annual Great Sandcastle Competition at Carmel Beach \nSTART EARLY\, REGISTER AT 10 AM\nJUDGING STARTS AT 12 NOON\nAT CARMEL BEACH BETWEEN 10TH AND 12TH STREET\nFOR MORE INFORMATION VISIT\nhttps://ci.carmel.ca.us/community-activities
URL:https://aiamontereybay.org/event/great-sandcastle-competition/
LOCATION:Carmel Beach\, Between 10th and 12th Street\, CA\, 93923\, United States
CATEGORIES:Special Event
ATTACH;FMTTYPE=image/jpeg:https://aiamontereybay.org/wp-content/uploads/2022/08/sand-castle-competition.jpg
END:VEVENT
BEGIN:VEVENT
DTSTART;TZID=America/Los_Angeles:20210624T120000
DTEND;TZID=America/Los_Angeles:20210624T130000
DTSTAMP:20260420T183652
CREATED:20210616T143453Z
LAST-MODIFIED:20210616T144031Z
UID:27470-1624536000-1624539600@aiamontereybay.org
SUMMARY:The Neurobiology of Biophilia & Spatial Cognition
DESCRIPTION:Date: Thursday\, June 24\, 2021\nWebinar: 12:00 – 1:00 p.m. PST\nLearning Units: 1 AIA LU | HSW \nDescription: This course unveils the healing potential of indoor sky illusions and how cognitive mechanisms map out our body’s location in relation to our immediate surroundings\, as well as to perceived connections to nature. This understanding of how distinct areas of the brain assemble our embodied sense of place provide valuable insights in the design of enclosed interiors for human wellness.
URL:https://aiamontereybay.org/event/the-neurobiology-of-biophilia-spatial-cognition/
CATEGORIES:Lunch & Learn,WEBINAR
ATTACH;FMTTYPE=image/jpeg:https://aiamontereybay.org/wp-content/uploads/2021/06/unnamed-5.jpg
END:VEVENT
END:VCALENDAR