BEGIN:VCALENDAR
VERSION:2.0
PRODID:-//AIA Monterey Bay - ECPv6.15.20//NONSGML v1.0//EN
CALSCALE:GREGORIAN
METHOD:PUBLISH
X-WR-CALNAME:AIA Monterey Bay
X-ORIGINAL-URL:https://aiamontereybay.org
X-WR-CALDESC:Events for AIA Monterey Bay
REFRESH-INTERVAL;VALUE=DURATION:PT1H
X-Robots-Tag:noindex
X-PUBLISHED-TTL:PT1H
BEGIN:VTIMEZONE
TZID:America/Los_Angeles
BEGIN:DAYLIGHT
TZOFFSETFROM:-0800
TZOFFSETTO:-0700
TZNAME:PDT
DTSTART:20230312T100000
END:DAYLIGHT
BEGIN:STANDARD
TZOFFSETFROM:-0700
TZOFFSETTO:-0800
TZNAME:PST
DTSTART:20231105T090000
END:STANDARD
BEGIN:DAYLIGHT
TZOFFSETFROM:-0800
TZOFFSETTO:-0700
TZNAME:PDT
DTSTART:20240310T100000
END:DAYLIGHT
BEGIN:STANDARD
TZOFFSETFROM:-0700
TZOFFSETTO:-0800
TZNAME:PST
DTSTART:20241103T090000
END:STANDARD
BEGIN:DAYLIGHT
TZOFFSETFROM:-0800
TZOFFSETTO:-0700
TZNAME:PDT
DTSTART:20250309T100000
END:DAYLIGHT
BEGIN:STANDARD
TZOFFSETFROM:-0700
TZOFFSETTO:-0800
TZNAME:PST
DTSTART:20251102T090000
END:STANDARD
BEGIN:DAYLIGHT
TZOFFSETFROM:-0800
TZOFFSETTO:-0700
TZNAME:PDT
DTSTART:20260308T100000
END:DAYLIGHT
BEGIN:STANDARD
TZOFFSETFROM:-0700
TZOFFSETTO:-0800
TZNAME:PST
DTSTART:20261101T090000
END:STANDARD
BEGIN:DAYLIGHT
TZOFFSETFROM:-0800
TZOFFSETTO:-0700
TZNAME:PDT
DTSTART:20270314T100000
END:DAYLIGHT
BEGIN:STANDARD
TZOFFSETFROM:-0700
TZOFFSETTO:-0800
TZNAME:PST
DTSTART:20271107T090000
END:STANDARD
END:VTIMEZONE
BEGIN:VEVENT
DTSTART;TZID=America/Los_Angeles:20260312T120000
DTEND;TZID=America/Los_Angeles:20260312T130000
DTSTAMP:20260420T133302
CREATED:20260304T225517Z
LAST-MODIFIED:20260304T225517Z
UID:30417-1773316800-1773320400@aiamontereybay.org
SUMMARY:2025 Code Breaker: Multifamily Ventilation Webinar
DESCRIPTION:2025 Code Breaker: Multifamily Ventilation \nDate: March 12\, 2026\nTime: 12:00 -1:00 p.m.\nURL: https://events.aiacalifornia.org/event/2025-code-breaker-multifamily-ventilation/\nCE Units: 1 LU/HSW\nCost: $0 members\, $0 non-members \nSpeaker: Nick Brown\, CEA | Principal | Build Smart Group\nIndoor Air Quality (IAQ) is an important part of supporting health and safety for multifamily dwelling units\, and the 2025 California Building Energy Efficiency Standards (Title 24\, Part 6 or Energy Code) establishes new Mandatory requirements for IAQ ventilation in multifamily buildings. Additional prescriptive standards now also apply to multifamily IAQ in support of energy efficiency and health and safety.\nJoin us for this one-hour session in which we will dive into the equipment and testing requirements for a multifamily dwelling unit’s IAQ and local exhaust systems (such as kitchen range hoods). Register here.
URL:https://events.aiacalifornia.org/event/2025-code-breaker-multifamily-ventilation/#new_tab
LOCATION:Online Event
CATEGORIES:WEBINAR
ATTACH;FMTTYPE=image/jpeg:https://aiamontereybay.org/wp-content/uploads/2026/03/Code-Breaker-Webinar.jpg
END:VEVENT
BEGIN:VEVENT
DTSTART;TZID=America/Los_Angeles:20260223T100000
DTEND;TZID=America/Los_Angeles:20260223T110000
DTSTAMP:20260420T133302
CREATED:20260212T223047Z
LAST-MODIFIED:20260212T223047Z
UID:30369-1771840800-1771844400@aiamontereybay.org
SUMMARY:Black History Month: Where Are We Now\, Where Do We Need to Go
DESCRIPTION:Architecture\, Belonging\, Connection\nBlack History Month: Where Are We Now\, Where Do We Need to Go\nDate: Monday\, February 23\, 2026\nTime: 10:00A – 11:00A PST | Zoom \nFor hundreds of years\, architects who are Black or African American have faced persistent barriers. Over time\, AIA\, often in partnership with NOMA (National Organization of Minority Architects)\, has launched multiple waves of initiatives at expanding career pathways. In a candid\, open discussion\, together we’ll talk about: Where are we now\, at this critical moment in history? Where are you? \nClick here for more Information and to register. https://events.aiacalifornia.org/event/black-history-month-2026-where-are-we-where-do-we-need-to-go/
URL:https://events.aiacalifornia.org/event/black-history-month-2026-where-are-we-where-do-we-need-to-go/#new_tab
LOCATION:Online Event
ATTACH;FMTTYPE=image/jpeg:https://aiamontereybay.org/wp-content/uploads/2026/02/image.jpeg
END:VEVENT
BEGIN:VEVENT
DTSTART;TZID=America/Los_Angeles:20250625T120000
DTEND;TZID=America/Los_Angeles:20250625T130000
DTSTAMP:20260420T133302
CREATED:20250523T220321Z
LAST-MODIFIED:20250523T220349Z
UID:29961-1750852800-1750856400@aiamontereybay.org
SUMMARY:Adaptive Reuse: Unlocking Sustainable Conversions
DESCRIPTION:Adaptive Reuse: Unlocking Sustainable Conversions\n(ZNCD & pending GBCI)\nDate: June 25\, 2025\nTime: 12pm-1pm\nCE Units: 1 LU/HSW\nCost: $0 members $25 non-members \nJoin us for an in-depth discussion on adaptive reuse\, exploring the transformation of underutilized buildings—offices\, churches\, schools\, libraries\, and more—into much-needed housing. \nRegister here
URL:https://aiamontereybay.org/event/adaptive-reuse-unlocking-sustainable-conversions/
LOCATION:Online Event
ATTACH;FMTTYPE=image/jpeg:https://aiamontereybay.org/wp-content/uploads/2025/05/Adaptive-Reuse.jpg
END:VEVENT
BEGIN:VEVENT
DTSTART;TZID=America/Los_Angeles:20250618T120000
DTEND;TZID=America/Los_Angeles:20250618T133000
DTSTAMP:20260420T133302
CREATED:20250523T220207Z
LAST-MODIFIED:20250523T220207Z
UID:29959-1750248000-1750253400@aiamontereybay.org
SUMMARY:New LEED® v5 Resilience Assessments (ZNCD & GBCI)
DESCRIPTION:New LEED® v5 Resilience Assessments (ZNCD & GBCI) \nDate: June 18\, 2025\nTime: 12pm-1:30pm\nURL: https://events.aiacalifornia.org/event/new-leed-v5-resilience-assessments/\nCE Units: 1.5 LU/HSW\nCost: $0 members $25 non-members \nThe U.S. Green Building Council (USGBC) LEED v5 building rating and certification system provides architects and building owners a framework through which they can understand and manage their risk exposure following a natural disaster. \nRegister here.
URL:https://aiamontereybay.org/event/new-leed-v5-resilience-assessments-zncd-gbci/
LOCATION:Online Event
ATTACH;FMTTYPE=image/jpeg:https://aiamontereybay.org/wp-content/uploads/2025/05/New-LEED-v5.jpg
END:VEVENT
BEGIN:VEVENT
DTSTART;TZID=America/Los_Angeles:20250528T120000
DTEND;TZID=America/Los_Angeles:20250528T130000
DTSTAMP:20260420T133302
CREATED:20250523T220038Z
LAST-MODIFIED:20250523T220038Z
UID:29957-1748433600-1748437200@aiamontereybay.org
SUMMARY:Fire Recovery Session 5 | Wildfire Prepared Home Program: Improving Property Survivability and Insurability
DESCRIPTION:Fire Recovery Session 5 | Wildfire Prepared Home Program:\nImproving Property Survivability and Insurability \nDate: May 28\, 2025\nTime: 12:00 – 1:00 p.m.\nCE Units: 1 LU|HSW\nCost: $0 for all \nAIA CALIFORNIA is responding to the recent southern California fires with a unified plan for response\, recovery and rebuilding for communities that were devastated by the disaster. This series of sessions will help the architectural profession understand the rapidly changing landscape\, the local issues facing communities\, and strategies for resilient design and disaster response. \nRegister here.
URL:https://aiamontereybay.org/event/fire-recovery-session-5-wildfire-prepared-home-program-improving-property-survivability-and-insurability/
ATTACH;FMTTYPE=image/jpeg:https://aiamontereybay.org/wp-content/uploads/2025/05/Fire-recovery-Session-5.jpg
END:VEVENT
BEGIN:VEVENT
DTSTART;TZID=America/Los_Angeles:20250428T150000
DTEND;TZID=America/Los_Angeles:20250428T160000
DTSTAMP:20260420T133302
CREATED:20250411T213909Z
LAST-MODIFIED:20250411T213909Z
UID:29854-1745852400-1745856000@aiamontereybay.org
SUMMARY:Women in Architecture Webinar
DESCRIPTION:Women in Architecture Webinar\nA Discussion on Impact\, Influence and Perseverance\nDate: Monday\, April 28\, 2025\nTime: 3:00 PM – 4:00 PM PT\nCE: N/A \nWomen’s roles and influence on the profession elevates design\, diversity\, practice\, the built environment\, and our communities. While the total number of women architects was 27% according to NCARB’s 2024 By the Numbers Report\, the profession is seeing an increase – 43% of new architects in 2024 were women. In this session\, we are looking to celebrate and explore the diverse approaches\, perspectives\, and stories women in the architecture profession provide and experience day to day. Join us as we engage in discussions centered on:\nBalancing Act: Navigating Career and Motherhood in Architecture\nBreaking Barriers: Pay Equity\, Transparency and Opportunities in Architecture\nBuilding the Pipeline: Empowering Women in Architecture and STEAM \nClick here to register.
URL:https://site.aiacalifornia.org/staging/event/women-in-architecture-a-discussion-on-impact-influence-and-perseverance/#new_tab
CATEGORIES:Special Event
ATTACH;FMTTYPE=image/jpeg:https://aiamontereybay.org/wp-content/uploads/2025/04/womeinina.jpg
END:VEVENT
BEGIN:VEVENT
DTSTART;TZID=America/Los_Angeles:20250423T120000
DTEND;TZID=America/Los_Angeles:20250423T130000
DTSTAMP:20260420T133302
CREATED:20250411T214117Z
LAST-MODIFIED:20250411T214117Z
UID:29860-1745409600-1745413200@aiamontereybay.org
SUMMARY:Nothing About Us\, Without Us\, Is for Us Webinar
DESCRIPTION:“Nothing About Us\, Without Us\, Is for Us” Webinar\nAltadena\, from the Ground Up \nDate: Wednesday\, April 23\, 2025\nTime: 12:00 PM – 1:00 PM PT\nCE: 1 AIA LU/HSW \nArchitects are passionate about supporting residents of Altadena – where\, in 2023\, home ownership among Black Residents was nearly double the national average – but how should they approach fire-recovery in historically Black neighborhoods?\n“Don’t come with the answer\, lead with the question and then… listen\,” says Steven Lewis\, FAIA\, NOMAC. \nThis conversation sees Lewis return to his own neighborhood\, Altadena\, bringing with him the words spoken in solidarity with community members in Detroit: “Nothing without us\, about us\, is for us” and seeking counsel\, expertise\, and the thoughts of a fellow prominent Altadena architect Charles T. Bryant\, AIA\, NOMA. \nClick here to register.
URL:https://site.aiacalifornia.org/staging/event/fire-response-session-4-nothing-about-us-without-us-is-for-us-altadena-from-the-ground-up-2/
ATTACH;FMTTYPE=image/jpeg:https://aiamontereybay.org/wp-content/uploads/2025/04/nothing.jpg
END:VEVENT
BEGIN:VEVENT
DTSTART;VALUE=DATE:20241025
DTEND;VALUE=DATE:20241028
DTSTAMP:20260420T133302
CREATED:20240916T211636Z
LAST-MODIFIED:20240916T211636Z
UID:29684-1729814400-1730073599@aiamontereybay.org
SUMMARY:Monterey Design Conference
DESCRIPTION:Where the Conversation about Design Happens \nEvery two years\, the Monterey Design Conference brings together a diverse blend of globally recognized speakers to inspire and educate – all in scenic and vibrant location. In a retreat setting\, MDC is your chance to step out of the everyday and into a creative space\, networking with colleagues and re-connecting with the ideas and motivations that drew you to the profession from day one. \nSpeakers inspire creativity by sharing their stories\, showcasing innovative projects\, discussing design philosophy\, encouraging risk-taking\, exploring cross-disciplinary collaboration\, addressing societal challenges. Their insights and experiences can ignite new ideas and perspectives\, motivating you to approach your own creative endeavors with passion and purpose. \nPick-Up A Year’s Worth of Learning Units;\nAttendees typically receive up to 22 AIA CE credits throughout the event \nMore info here.
URL:https://aiacalifornia.org/event/monterey-design-conference/#new_tab
LOCATION:Asilomar Conference Grounds\, 800 Asilomar Blvd\, Pacific Grove\, CA\, United States
ATTACH;FMTTYPE=image/png:https://aiamontereybay.org/wp-content/uploads/2024/09/image-1.png
END:VEVENT
BEGIN:VEVENT
DTSTART;TZID=America/Los_Angeles:20241009T120000
DTEND;TZID=America/Los_Angeles:20241009T130000
DTSTAMP:20260420T133302
CREATED:20240925T081132Z
LAST-MODIFIED:20240926T174703Z
UID:29695-1728475200-1728478800@aiamontereybay.org
SUMMARY:Path to Zero Carbon
DESCRIPTION:Path to Zero Carbon\nDate: Wednesday\, October 9\, 2024\nTime: 12:00 PM – 1:00 PM\nCost: Free to members\nCE Units: 1.5 LU/HSW and 1.5hrs ZNCD MCE
URL:https://aiacalifornia.org/event/path-to-zero-carbon/
LOCATION:Online Event
CATEGORIES:CA Climate Action
ATTACH;FMTTYPE=image/jpeg:https://aiamontereybay.org/wp-content/uploads/2024/09/Climate-Action-Webinar-Path-to-Zero-Carbon.jpg
END:VEVENT
BEGIN:VEVENT
DTSTART;TZID=America/Los_Angeles:20241002T120000
DTEND;TZID=America/Los_Angeles:20241002T130000
DTSTAMP:20260420T133302
CREATED:20240925T080955Z
LAST-MODIFIED:20240926T174630Z
UID:29692-1727870400-1727874000@aiamontereybay.org
SUMMARY:Emerging Trends in Architecture: Harnessing AI for Embodied Carbon Reductions
DESCRIPTION:Title: Emerging Trends in Architecture: Harnessing AI for Embodied Carbon Reductions\nDate: Wednesday\, October 2\, 2024\nTime: 12:00 PM – 1:00 PM\nCost: Free to members\nCE Units: 1 LU/HSW and 1hr ZNCD MCE \nClick here to register
URL:https://aiacalifornia.org/event/emerging-trends-in-architecture-harnessing-ai-for-embodied-carbon-reductions/
LOCATION:Online Event
CATEGORIES:CA Climate Action
ATTACH;FMTTYPE=image/jpeg:https://aiamontereybay.org/wp-content/uploads/2024/09/Climate-Action-Webinar-Harnessing-AI.jpg
END:VEVENT
BEGIN:VEVENT
DTSTART;TZID=America/Los_Angeles:20240612T120000
DTEND;TZID=America/Los_Angeles:20240612T130000
DTSTAMP:20260420T133302
CREATED:20240603T173836Z
LAST-MODIFIED:20240603T173836Z
UID:29552-1718193600-1718197200@aiamontereybay.org
SUMMARY:Building Reuse for Decarbonization and Compliance
DESCRIPTION:Building Reuse for Decarbonization and Compliance\nA Webinar presented by AIA California \nDate & Time: Wednesday\, June 12\, 12:00 PM – 1:00 PM \nThis final installment in the CALGreen Embodied Carbon series will focus on the building reuse compliance pathway for CALGreen’s embodied carbon mandatory measures going into effect July 1\, 2024. \nSpeakers:\nAvideh Haghighi\, AIA\, LFA – Associate Principal\, ZGF\nLuke Lombardi\, PE – Senior Sustainability Consultant\, Buro Happold \n1 AIA LU/HSW + 1 hr. ZNCD \nClick here to register
URL:https://aiamontereybay.org/event/building-reuse-for-decarbonization-and-compliance/
LOCATION:Online Event
CATEGORIES:CA Climate Action
ATTACH;FMTTYPE=image/jpeg:https://aiamontereybay.org/wp-content/uploads/2024/06/image-1.jpeg
END:VEVENT
BEGIN:VEVENT
DTSTART;TZID=America/Los_Angeles:20240604T120000
DTEND;TZID=America/Los_Angeles:20240604T130000
DTSTAMP:20260420T133302
CREATED:20240603T173718Z
LAST-MODIFIED:20240603T173901Z
UID:29548-1717502400-1717506000@aiamontereybay.org
SUMMARY:Energy Code Breaker - Talking with Clients About Electrification
DESCRIPTION:Energy Code Breaker – Talking with Clients About Electrification\nA Webinar presented by AIA California \nDate & Time: Tuesday\, June 4\, 2024\, 12:00 pm – 1:00 pm \nIf you have been asked questions about electrification requirements in California and need support finding answers\, then this presentation is for you. We will provide attendees with essential data to foster a deeper understanding of electric technologies\, including Energy Code requirements; how electrification can promote health\, safety\, and comfort; how California utilities are preparing to meet increased loads from electrification; and which design features support the reliability and affordability of an all-electric home. \nSpeaker: Nick Brown | President | Build Smart \nClick here to register
URL:https://aiamontereybay.org/event/energy-code-breaker-talking-with-clients-about-electrification/
LOCATION:Online Event
CATEGORIES:CA Climate Action
ATTACH;FMTTYPE=image/jpeg:https://aiamontereybay.org/wp-content/uploads/2024/06/image.jpeg
END:VEVENT
END:VCALENDAR