BEGIN:VCALENDAR
VERSION:2.0
PRODID:-//AIA Monterey Bay - ECPv6.15.20//NONSGML v1.0//EN
CALSCALE:GREGORIAN
METHOD:PUBLISH
X-ORIGINAL-URL:https://aiamontereybay.org
X-WR-CALDESC:Events for AIA Monterey Bay
REFRESH-INTERVAL;VALUE=DURATION:PT1H
X-Robots-Tag:noindex
X-PUBLISHED-TTL:PT1H
BEGIN:VTIMEZONE
TZID:America/Los_Angeles
BEGIN:DAYLIGHT
TZOFFSETFROM:-0800
TZOFFSETTO:-0700
TZNAME:PDT
DTSTART:20210314T100000
END:DAYLIGHT
BEGIN:STANDARD
TZOFFSETFROM:-0700
TZOFFSETTO:-0800
TZNAME:PST
DTSTART:20211107T090000
END:STANDARD
BEGIN:DAYLIGHT
TZOFFSETFROM:-0800
TZOFFSETTO:-0700
TZNAME:PDT
DTSTART:20220313T100000
END:DAYLIGHT
BEGIN:STANDARD
TZOFFSETFROM:-0700
TZOFFSETTO:-0800
TZNAME:PST
DTSTART:20221106T090000
END:STANDARD
BEGIN:DAYLIGHT
TZOFFSETFROM:-0800
TZOFFSETTO:-0700
TZNAME:PDT
DTSTART:20230312T100000
END:DAYLIGHT
BEGIN:STANDARD
TZOFFSETFROM:-0700
TZOFFSETTO:-0800
TZNAME:PST
DTSTART:20231105T090000
END:STANDARD
END:VTIMEZONE
BEGIN:VEVENT
DTSTART;TZID=America/Los_Angeles:20221011T183000
DTEND;TZID=America/Los_Angeles:20221011T203000
DTSTAMP:20260424T202858
CREATED:20220912T231505Z
LAST-MODIFIED:20220912T231505Z
UID:28153-1665513000-1665520200@aiamontereybay.org
SUMMARY:Building Long-Lasting Collaborations: In Discussion with Feldman Architecture\, Ground Studio\, and Groza Construction
DESCRIPTION:Arts and Architecture \nContemporary Architect Series\nBuilding Long-Lasting Collaborations: In Discussion with Feldman Architecture\, Ground Studio\, and Groza Construction \nDATE & TIME: Tuesday\, October 11\, 6:30 P.M.\nLOCATION: Sand Box Sand City\, 440 Ortiz Ave #A\, Sand City\, CA 93955\nTICKETS: 10$ AIA Members\, $25 General Public \nIn this panel discussion\, Jonathan Feldman\, Founder of Feldman Architecture\, Bernard Trainor\, Founder of Ground Studio Landscape\, and Brian Groza\, Founder of Groza Construction\, will explore how their collaborative professional relationships have developed\, grown\, been tested\, and flourished over the last fifteen years\, specifically in relation to their residential work in the Monterey area. The group will unpack their design processes\, citing specific examples from their most notable projects\, investigate best practices and lessons learned from decades of leading teams and building client trust\, and delve into what has made their collaborations so lasting and successful. The talk will also highlight themes from Feldman Architecture’s recently released monograph\, Immersed: The California Houses of Feldman Architecture\, which features essays from both Bernard and Brian. \nClick here for tickets
URL:https://aiamontereybay.org/event/building-long-lasting-collaborations-in-discussion-with-feldman-architecture-ground-studio-and-groza-construction/
LOCATION:Sand Box\, 440 Ortiz Ave. #A\, Sand City\, CA\, 93955\, United States
CATEGORIES:Arts & Architecture
ATTACH;FMTTYPE=image/jpeg:https://aiamontereybay.org/wp-content/uploads/2022/09/arts-and-architecture.jpg
END:VEVENT
END:VCALENDAR