BEGIN:VCALENDAR
VERSION:2.0
PRODID:-//AIA Monterey Bay - ECPv6.15.20//NONSGML v1.0//EN
CALSCALE:GREGORIAN
METHOD:PUBLISH
X-WR-CALNAME:AIA Monterey Bay
X-ORIGINAL-URL:https://aiamontereybay.org
X-WR-CALDESC:Events for AIA Monterey Bay
REFRESH-INTERVAL;VALUE=DURATION:PT1H
X-Robots-Tag:noindex
X-PUBLISHED-TTL:PT1H
BEGIN:VTIMEZONE
TZID:America/Los_Angeles
BEGIN:DAYLIGHT
TZOFFSETFROM:-0800
TZOFFSETTO:-0700
TZNAME:PDT
DTSTART:20210314T100000
END:DAYLIGHT
BEGIN:STANDARD
TZOFFSETFROM:-0700
TZOFFSETTO:-0800
TZNAME:PST
DTSTART:20211107T090000
END:STANDARD
BEGIN:DAYLIGHT
TZOFFSETFROM:-0800
TZOFFSETTO:-0700
TZNAME:PDT
DTSTART:20220313T100000
END:DAYLIGHT
BEGIN:STANDARD
TZOFFSETFROM:-0700
TZOFFSETTO:-0800
TZNAME:PST
DTSTART:20221106T090000
END:STANDARD
BEGIN:DAYLIGHT
TZOFFSETFROM:-0800
TZOFFSETTO:-0700
TZNAME:PDT
DTSTART:20230312T100000
END:DAYLIGHT
BEGIN:STANDARD
TZOFFSETFROM:-0700
TZOFFSETTO:-0800
TZNAME:PST
DTSTART:20231105T090000
END:STANDARD
END:VTIMEZONE
BEGIN:VEVENT
DTSTART;TZID=America/Los_Angeles:20220601T180000
DTEND;TZID=America/Los_Angeles:20220601T200000
DTSTAMP:20260424T134018
CREATED:20220530T234815Z
LAST-MODIFIED:20220530T234815Z
UID:28024-1654106400-1654113600@aiamontereybay.org
SUMMARY:Tour of Fanshell House
DESCRIPTION:Tour of Fanshell House \nDesigned by Mark Mills\nWednesday\, June 1\, 6:00 P.M. \nFanshell House was designed by renowned\, local Mid-Century Modern Master\, Mark Mills. The three-bedroom\, three-bathroom home sits on 1.16 acres along 17 Mile Drive in Pebble Beach. Spanning 2\,200 square feet\, the home’s shape resembles a scallop shell\, with the arches of five individual rooms framing a different angle of the stunning ocean views near Fanshell Beach. Inside\, vaulted ceilings composed of concrete and wood beams form a fascinating\, corrugated pattern that looks like a clam shell. Looking through the windows is like peering out from the inside of a large\, partly opened two-valve clam shell. \nThe House Tour is free and open only to AIA Monterey Bay members and one guest each. \nNoted local architectural historian\, Kent Seavey\, will be present to give brief remarks on the home. Wine and cheese will be served. \nNote: Please park on 17 Mile Drive and save the driveway for drop off and for those with mobility issues. \nEvent is limited to 40 guests\, reservations required\, click here to reserve your place. \nThis House Tour was Made Possible Through the Generosity of
URL:https://aiamontereybay.org/event/tour-of-fanshell-house/
CATEGORIES:Special Event
ATTACH;FMTTYPE=image/jpeg:https://aiamontereybay.org/wp-content/uploads/2022/05/unnamed-9.jpeg
END:VEVENT
BEGIN:VEVENT
DTSTART;TZID=America/Los_Angeles:20220615T120000
DTEND;TZID=America/Los_Angeles:20220615T130000
DTSTAMP:20260424T134018
CREATED:20220620T044232Z
LAST-MODIFIED:20220620T044232Z
UID:28041-1655294400-1655298000@aiamontereybay.org
SUMMARY:Design for Wildfire Resilience
DESCRIPTION:Design for Wildfire Resilience\nLunch & Learn Webinar\nDate/Time: Wednesday\, June 15\, 12:00-1:30 p.m.\nLearning Units: 1.5 LU | HSW \nAs climate change intensifies\, the risk of devastating wildfires around the world will surge in coming decades and is being considered a “global wildfire crisis.” In recent years\, California has seen the wildfire season expand beyond a few months to the entire calendar year\, and conditions in spring and early summer give an early indication of the severity of what lies ahead. In the case of 2022\, the outlook is ominous\, and the need for resilience among residential and commercial buildings is becoming essential. This webinar will look at the importance of fire clearance\, site design and landscaping as tools for resilience to wildfires. \nModerator: \nLibby Barnes\, AIA\, LEED AP BD+C | Workbench \nSpeakers: \nSeth Parker | Wildfire Mitigation Specialist and Fire Conservationist. Pacific Land Water and Home\, Inc | Pacific Wildfire Management Emily Aiken | Fire and Fuels Management Specialist + Santa Lucia Preserve Kevin Kamnikar\, Division Chief/Fire Marshal | Monterey County Regional Fire \nClick here to register
URL:https://aiamontereybay.org/event/design-for-wildfire-resilience-2/
CATEGORIES:COTE,Lunch & Learn
ATTACH;FMTTYPE=image/png:https://aiamontereybay.org/wp-content/uploads/2022/06/unnamed-7.png
END:VEVENT
BEGIN:VEVENT
DTSTART;TZID=America/Los_Angeles:20220615T120000
DTEND;TZID=America/Los_Angeles:20220615T133000
DTSTAMP:20260424T134018
CREATED:20220530T235309Z
LAST-MODIFIED:20220530T235309Z
UID:28029-1655294400-1655299800@aiamontereybay.org
SUMMARY:Design for Wildfire Resilience
DESCRIPTION:Date/Time: Wednesday\, June 15\, 12:00-1:30 p.m.\nLearning Units: 1.5 LU | HSW \nAs climate change intensifies\, the risk of devastating wildfires around the world will surge in coming decades and is being considered a “global wildfire crisis.” In recent years\, California has seen the wildfire season expand beyond a few months to the entire calendar year\, and conditions in spring and early summer give an early indication of the severity of what lies ahead. In the case of 2022\, the outlook is ominous\, and the need for resilience among residential and commercial buildings is becoming essential. This webinar will look at the importance of fire clearance\, site design and landscaping as tools for resilience to wildfires. \nModerator:\nLibby Barnes\, AIA\, LEED AP BD+C | Workbench \nSpeakers:\nSeth Parker | Wildfire Mitigation Specialist and Fire Conservationist. Pacific Land Water and Home\, Inc | Pacific Wildfire Management Emily Aiken | Fire and Fuels Management Specialist + Santa Lucia Preserve Kevin Kamnikar\, Division Chief/Fire Marshal | Monterey County Regional Fire \nClick here to register
URL:https://aiamontereybay.org/event/design-for-wildfire-resilience/
CATEGORIES:COTE,Lunch & Learn
ATTACH;FMTTYPE=image/png:https://aiamontereybay.org/wp-content/uploads/2022/05/Screen-Shot-2022-05-30-at-4.52.32-PM.png
END:VEVENT
BEGIN:VEVENT
DTSTART;TZID=America/Los_Angeles:20220622T080000
DTEND;TZID=America/Los_Angeles:20220622T170000
DTSTAMP:20260424T134018
CREATED:20220310T140922Z
LAST-MODIFIED:20220310T141038Z
UID:27707-1655884800-1655917200@aiamontereybay.org
SUMMARY:AIA Conference on Architecture 2022
DESCRIPTION:The architecture and design event of the year returns to Chicago. With the city as our backdrop\, we’ll explore architecture’s ability to drive new thinking in one of the most design-forward\, sustainable cities in the U.S. Welcome back. \n 
URL:https://aiamontereybay.org/event/aia-conference-on-architecture-2022/2022-06-22/
CATEGORIES:Special Event
ATTACH;FMTTYPE=image/png:https://aiamontereybay.org/wp-content/uploads/2022/03/Screen-Shot-2022-03-10-at-6.08.36-AM.png
END:VEVENT
END:VCALENDAR