BEGIN:VCALENDAR
VERSION:2.0
PRODID:-//AIA Monterey Bay - ECPv6.15.20//NONSGML v1.0//EN
CALSCALE:GREGORIAN
METHOD:PUBLISH
X-ORIGINAL-URL:https://aiamontereybay.org
X-WR-CALDESC:Events for AIA Monterey Bay
REFRESH-INTERVAL;VALUE=DURATION:PT1H
X-Robots-Tag:noindex
X-PUBLISHED-TTL:PT1H
BEGIN:VTIMEZONE
TZID:America/Los_Angeles
BEGIN:DAYLIGHT
TZOFFSETFROM:-0800
TZOFFSETTO:-0700
TZNAME:PDT
DTSTART:20190310T100000
END:DAYLIGHT
BEGIN:STANDARD
TZOFFSETFROM:-0700
TZOFFSETTO:-0800
TZNAME:PST
DTSTART:20191103T090000
END:STANDARD
BEGIN:DAYLIGHT
TZOFFSETFROM:-0800
TZOFFSETTO:-0700
TZNAME:PDT
DTSTART:20200308T100000
END:DAYLIGHT
BEGIN:STANDARD
TZOFFSETFROM:-0700
TZOFFSETTO:-0800
TZNAME:PST
DTSTART:20201101T090000
END:STANDARD
BEGIN:DAYLIGHT
TZOFFSETFROM:-0800
TZOFFSETTO:-0700
TZNAME:PDT
DTSTART:20210314T100000
END:DAYLIGHT
BEGIN:STANDARD
TZOFFSETFROM:-0700
TZOFFSETTO:-0800
TZNAME:PST
DTSTART:20211107T090000
END:STANDARD
BEGIN:DAYLIGHT
TZOFFSETFROM:-0800
TZOFFSETTO:-0700
TZNAME:PDT
DTSTART:20220313T100000
END:DAYLIGHT
BEGIN:STANDARD
TZOFFSETFROM:-0700
TZOFFSETTO:-0800
TZNAME:PST
DTSTART:20221106T090000
END:STANDARD
END:VTIMEZONE
BEGIN:VEVENT
DTSTART;TZID=America/Los_Angeles:20210622T160000
DTEND;TZID=America/Los_Angeles:20210622T183000
DTSTAMP:20260420T202259
CREATED:20210523T034104Z
LAST-MODIFIED:20210523T034104Z
UID:27386-1624377600-1624386600@aiamontereybay.org
SUMMARY:ADA/Accessibility Program – Part Two - 2.5 Hours
DESCRIPTION:Compilation of ADA Design Guidelines\nPresented By: Absolute Consulting Engineers  \n Date: Tuesday\, June 22\, 2021 \nWebinar: 4:00 – 6:30 p.m. \nLearning Units: 2.5 AIA LU | HSW \nAlso fulfills CAB Accessibility Requirement for 2021 License Renewal \nCost: $25 Members\, $50 Non-Members \nPresenter: Saum K. Nour\, Ph.D. \n Dr. Saum Nour will review the history of ADA from inception to California code. A variety of accessibility topics will be discussed and examined from types of buildings and functions of buildings\, legal cases\, and available training resources. \nREGISTER HERE
URL:https://aiamontereybay.org/event/ada-accessibility-program-part-two-2-5-hours/
CATEGORIES:Special Webinar,WEBINAR
END:VEVENT
BEGIN:VEVENT
DTSTART;TZID=America/Los_Angeles:20210618T120000
DTEND;TZID=America/Los_Angeles:20210618T170000
DTSTAMP:20260420T202259
CREATED:20210606T170559Z
LAST-MODIFIED:20210606T170559Z
UID:27439-1624017600-1624035600@aiamontereybay.org
SUMMARY:Accessible Design: Online ADA Training
DESCRIPTION:AIA Monterey Bay Presents an Izor Associates Course\nAccessible Design: ADA Training \nLive Webinars: Offered monthly through the end of the year\nTime: 12:00 – 5:00 P.M.\nLearning Units: 5 AIA LU | HSW \nDescription: 5 hour webinar covering 2021 CBC Chapter 11B accessibility issue. The course is intended to satisfy AIA/CES-HSW units in addition to meeting the 5 hours of California’s required accessibility CE credits \nPlease register at least 24 hours before the webinar. \nCost: $155
URL:https://aiamontereybay.org/event/accessible-design-online-ada-training/
CATEGORIES:Continuing Education,WEBINAR
ATTACH;FMTTYPE=image/jpeg:https://aiamontereybay.org/wp-content/uploads/2021/06/Screenshot_2018-08-30-AIA-Approved-Continuing-Education-Courses-for-Architects-PDH-Academy_610x.jpeg
END:VEVENT
BEGIN:VEVENT
DTSTART;TZID=America/Los_Angeles:20210618T120000
DTEND;TZID=America/Los_Angeles:20210618T133000
DTSTAMP:20260420T202259
CREATED:20210530T164837Z
LAST-MODIFIED:20210530T164837Z
UID:27396-1624017600-1624023000@aiamontereybay.org
SUMMARY:Green Specs: The Why\, The How\, Do It Now
DESCRIPTION:Date: Friday\, June 18\, 2021\nWebinar: 12:00 – 1:30 p.m.\nLearning Units: 1.25 AIA LU | HSW \nDescription: This webinar will discuss the importance of green products and what components in a material qualify it as an Environmentally-preferable product (EPP)\, and how to go about integrating these products into the Architectural Specifications. The discussion will be lead by Ann Hicks Harney\, a specification writer with 30 years of experience\, and a pioneer in this area of design and construction. \nCost: Free to AIA Monterey Bay and AIA San Francisco Members\,\nAssociates\, Allies\, and Students; $15 Non-Members
URL:https://aiamontereybay.org/event/green-specs-the-why-the-how-do-it-now/
CATEGORIES:COTE,Lunch & Learn,WEBINAR
ATTACH;FMTTYPE=image/jpeg:https://aiamontereybay.org/wp-content/uploads/2021/05/unnamed-3.jpg
END:VEVENT
BEGIN:VEVENT
DTSTART;TZID=America/Los_Angeles:20210521T120000
DTEND;TZID=America/Los_Angeles:20210521T133000
DTSTAMP:20260420T202259
CREATED:20210517T133636Z
LAST-MODIFIED:20210517T133636Z
UID:27363-1621598400-1621603800@aiamontereybay.org
SUMMARY:Green Specs Division 1: Construction Waste Management\, Reducing Waste at Every Step
DESCRIPTION:COTE Course Presented by AIA MB\nGreen Specs Division 1: Construction Waste Management\,\nReducing Waste at Every Step\n(while improving collaboration between architect\, contractor and waste facility) \nDate: Friday\, May 21\, 2021\nTime: 12:00 to 1:30 P.M.\nCredits: 1.5 AIA LU\nZoom Webinar \nDescription\nConstruction waste makes up one-third of the total refuse nationwide in the US. Demolition represents more than 90 percent of total C&D debris generation\, while construction represents less than 10 percent. \nSuch statistics makes it clear it is important to make better use of debris and existing building materials to make substantial changes in our landfills. This webinar will be a 3 person panel discussion between architects (participants) moderated by Libby Barnes\, AIA\, Tim Flanagan the General Manager of the Monterey Regional Waste Management District and John Teliha of Otto Construction\, located in Monterey CA. \nDiscussion will be focused on ways to reduce construction waste starting with the design phase through the end of construction and how these practices improve the environment and create cost benefits.
URL:https://aiamontereybay.org/event/green-specs-division-1-construction-waste-management-reducing-waste-at-every-step/
CATEGORIES:COTE,Lunch & Learn,WEBINAR
ATTACH;FMTTYPE=image/png:https://aiamontereybay.org/wp-content/uploads/2021/01/aiamb-colorlogo-2021.png
END:VEVENT
BEGIN:VEVENT
DTSTART;TZID=America/Los_Angeles:20210324T174500
DTEND;TZID=America/Los_Angeles:20210324T190000
DTSTAMP:20260420T202259
CREATED:20210214T230423Z
LAST-MODIFIED:20210214T230423Z
UID:27247-1616607900-1616612400@aiamontereybay.org
SUMMARY:Sacramento in 2021 – What We Can Expect
DESCRIPTION:With the California State Legislature in Session and about to actively consider and vote on legislation\, Mark Christian\, Hon. AIA CA\, the AIA CA Director of Government Relations\, will talk about the political climate in Sacramento and about legislation that may be under consideration of interest to the architectural profession.  Topics will include a possible sales tax on services\, housing\, building performance\, and continuing education. \nMark Christian\, Hon. AIA CA\, is the Director of Government Relations for the AIA California\, a\ position he has held since 1999.  In this position\, Mark is responsible for monitoring the CA State Legislature\, identifying bills of interest to the profession\, developing and implementing strategies for the positive outcome of legislation of interest to the profession\, and representing the profession before the legislature.  Prior to joining the AIA CA\, Mark worked for the State Assembly for nine years in several capacities\, including as a policy consultant on several environmental laws. \n4 Learning Objectives: \n\nHow Legislation Can Impact Architects\nHow Architects Can Impact Legislation\nThe Legislation the AIA CA is Lobbying on Behalf of Architects\nRecent Changes to State Law that Benefits Architects\n \n\nWednesday\, March 24\, 2021\n5:45-6:oo pm  Social Meet &amp; Greet\n6:00-7:00 pm Presentation + Discussion \nCost: AIA Members $10 | Non-members $15 | Students Free\n* Students contact exec@aiasmc.org to register \nCredits: 1 AIA LU will be submitted
URL:https://aiamontereybay.org/event/sacramento-in-2021-what-we-can-expect/
CATEGORIES:Special Event,WEBINAR
ATTACH;FMTTYPE=image/png:https://aiamontereybay.org/wp-content/uploads/2021/02/Screen-Shot-2021-02-14-at-3.03.48-PM.png
END:VEVENT
BEGIN:VEVENT
DTSTART;TZID=America/Los_Angeles:20201021T120000
DTEND;TZID=America/Los_Angeles:20201021T130000
DTSTAMP:20260420T202259
CREATED:20200923T163246Z
LAST-MODIFIED:20200923T163246Z
UID:3574-1603281600-1603285200@aiamontereybay.org
SUMMARY:LUNCH & LEARN WITH SKY FACTORY
DESCRIPTION:LUNCH & LEARN WITH SKY FACTORY\nThe Restorative Impact of Perceived Open Space \nLink  to Register for  Zoom:  \nHSW: 1 \nProgram Overview/Course Description: \nIn this course we explore the impact of enclosed interiors and deep-plan buildings on human performance.  We analyze the role circadian light and perceived open space play in shaping cognitive function\, as well as how our psycho-physiology changes in interior environments. We discuss a new approach that proposes the restorative value of perceived open space in its two essential orientations: perceived zenith and perceived horizon line. In contrast to how we perceive these spatial reference frames outdoors\, in enclosed interiors where such reference frames are often not visible\, we can stage architectural cues to alter our perception of interior space. Restoring these spatial reference frames through a valid multisensory illusion restores a range of wellness benefits normally associated with interiors applying biophilic design principles
URL:https://aiamontereybay.org/event/lunch-learn-with-sky-factory/
CATEGORIES:WEBINAR
ATTACH;FMTTYPE=:
END:VEVENT
BEGIN:VEVENT
DTSTART;TZID=America/Los_Angeles:20200918T150000
DTEND;TZID=America/Los_Angeles:20200918T170000
DTSTAMP:20260420T202259
CREATED:20200902T193809Z
LAST-MODIFIED:20200902T193809Z
UID:3498-1600441200-1600448400@aiamontereybay.org
SUMMARY:City Staff: Streamlining the ADU process and regulating for results
DESCRIPTION:Monterey County ADU Conference\n\n\n \nUWMC and AIAMB will co-host homeowners\, city officials\, design professionals\, builders\, and affordable housing advocates for a virtual ADU conference to promote infill housing in Monterey County and equip stakeholders with the tools they need to execute ADU projects. The conference will feature Kol Peterson\, ADU expert and author of Backdoor Revolution. Four interactive webinars will cover the following: \n\nHomeowners: All about navigating your ADU project\nWednesday\, Sept. 16\, 4 p.m.–6 p.m.\nADU Advocates: Financing ADUs and public policy\nThursday\, Sept. 17\, 10 a.m.–12 p.m.\nDesign Professionals & Builders: How to advocate for your projects\nThursday\, Sept. 17\, 4 p.m.–6 p.m.\nCity Staff: Streamlining the ADU process and regulating for results\nFriday\, Sept. 18\, 3 p.m.–5 p.m.\n\nRegister Now! \nAbout Kol Peterson \nMr. Peterson is the author of Backdoor Revolution: The Definitive Guide to ADU Development. He is the owner of Caravan – Tiny House Hotel\, the first tiny house hotel in the world\, and organizer of Portland’s popular ADU Tour. He is a consultant to homeowners about ADUs and teaches ADU classes to homeowners and real estate agents in Oregon\, Washington\, and California. He is also the editor and manager of www.accessorydwellings.org and www.buildinganadu.com. Kol Peterson is an ADU expert based in Portland\, Oregon\, who has helped catalyze the exponential growth of ADUs in Portland through advocacy\, education\, consulting\, policy work\, and entrepreneurship. \nMr. Peterson earned his master’s degree in environmental planning from Harvard Graduate School of Design. Prior to his ADU work\, he worked for the federal government for ten years in Washington\, DC and in Portland\, Oregon.  \n*Accessory Dwelling Units are secondary units built on residential lots\, also known as granny units or in-law suites. \nRegistration includes an opportunity for a discount to purchase a digital copy of Kol Peterson’s book\, Backdoor Revolution. \nEvent Supporting Sponsors\nKasavan Architects\, California Modulars\, Monterey County Association of REALTORS®\, Association of Monterey Bay Area Governments\, Kasavan Construction\, City of Pacific Grove\, Justin Pauly Architects\, Studio Schicketanz\, Central Coast Builders Association\, Monterey County Farm Bureau\, Workbench\, Monterey Energy Group\, Inc.\, Salinas Valley Chamber of Commerce\, Carmel Chamber of Commerce\, City of Salinas\, City of Gonzales\, and City of Seaside\, City of Monterey \nBecome a sponsor! \n  \n\nRegister Now!
URL:https://aiamontereybay.org/event/city-staff-streamlining-the-adu-process-and-regulating-for-results/
CATEGORIES:WEBINAR
END:VEVENT
BEGIN:VEVENT
DTSTART;TZID=America/Los_Angeles:20200917T160000
DTEND;TZID=America/Los_Angeles:20200917T180000
DTSTAMP:20260420T202300
CREATED:20200902T193226Z
LAST-MODIFIED:20200902T193226Z
UID:3495-1600358400-1600365600@aiamontereybay.org
SUMMARY:Design Professionals & Builders: How to advocate for your projects
DESCRIPTION:Monterey County ADU Conference\n\n\n \nUWMC and AIAMB will co-host homeowners\, city officials\, design professionals\, builders\, and affordable housing advocates for a virtual ADU conference to promote infill housing in Monterey County and equip stakeholders with the tools they need to execute ADU projects. The conference will feature Kol Peterson\, ADU expert and author of Backdoor Revolution. Four interactive webinars will cover the following: \n\nHomeowners: All about navigating your ADU project\nWednesday\, Sept. 16\, 4 p.m.–6 p.m.\nADU Advocates: Financing ADUs and public policy\nThursday\, Sept. 17\, 10 a.m.–12 p.m.\nDesign Professionals & Builders: How to advocate for your projects\nThursday\, Sept. 17\, 4 p.m.–6 p.m.\nCity Staff: Streamlining the ADU process and regulating for results\nFriday\, Sept. 18\, 3 p.m.–5 p.m.\n\nRegister Now! \nAbout Kol Peterson \nMr. Peterson is the author of Backdoor Revolution: The Definitive Guide to ADU Development. He is the owner of Caravan – Tiny House Hotel\, the first tiny house hotel in the world\, and organizer of Portland’s popular ADU Tour. He is a consultant to homeowners about ADUs and teaches ADU classes to homeowners and real estate agents in Oregon\, Washington\, and California. He is also the editor and manager of www.accessorydwellings.org and www.buildinganadu.com. Kol Peterson is an ADU expert based in Portland\, Oregon\, who has helped catalyze the exponential growth of ADUs in Portland through advocacy\, education\, consulting\, policy work\, and entrepreneurship. \nMr. Peterson earned his master’s degree in environmental planning from Harvard Graduate School of Design. Prior to his ADU work\, he worked for the federal government for ten years in Washington\, DC and in Portland\, Oregon.  \n*Accessory Dwelling Units are secondary units built on residential lots\, also known as granny units or in-law suites. \nRegistration includes an opportunity for a discount to purchase a digital copy of Kol Peterson’s book\, Backdoor Revolution. \nEvent Supporting Sponsors\nKasavan Architects\, California Modulars\, Monterey County Association of REALTORS®\, Association of Monterey Bay Area Governments\, Kasavan Construction\, City of Pacific Grove\, Justin Pauly Architects\, Studio Schicketanz\, Central Coast Builders Association\, Monterey County Farm Bureau\, Workbench\, Monterey Energy Group\, Inc.\, Salinas Valley Chamber of Commerce\, Carmel Chamber of Commerce\, City of Salinas\, City of Gonzales\, and City of Seaside\, City of Monterey \nBecome a sponsor! \n  \n\nRegister Now!
URL:https://aiamontereybay.org/event/design-professionals-builders-how-to-advocate-for-your-projects/
CATEGORIES:WEBINAR
END:VEVENT
BEGIN:VEVENT
DTSTART;TZID=America/Los_Angeles:20200917T100000
DTEND;TZID=America/Los_Angeles:20200917T120000
DTSTAMP:20260420T202300
CREATED:20200902T193039Z
LAST-MODIFIED:20200902T193039Z
UID:3492-1600336800-1600344000@aiamontereybay.org
SUMMARY:ADU Advocates: Financing ADUs and public policy
DESCRIPTION:Monterey County ADU Conference\n\n\n \nUWMC and AIAMB will co-host homeowners\, city officials\, design professionals\, builders\, and affordable housing advocates for a virtual ADU conference to promote infill housing in Monterey County and equip stakeholders with the tools they need to execute ADU projects. The conference will feature Kol Peterson\, ADU expert and author of Backdoor Revolution. Four interactive webinars will cover the following: \n\nHomeowners: All about navigating your ADU project\nWednesday\, Sept. 16\, 4 p.m.–6 p.m.\nADU Advocates: Financing ADUs and public policy\nThursday\, Sept. 17\, 10 a.m.–12 p.m.\nDesign Professionals & Builders: How to advocate for your projects\nThursday\, Sept. 17\, 4 p.m.–6 p.m.\nCity Staff: Streamlining the ADU process and regulating for results\nFriday\, Sept. 18\, 3 p.m.–5 p.m.\n\nRegister Now! \nAbout Kol Peterson \nMr. Peterson is the author of Backdoor Revolution: The Definitive Guide to ADU Development. He is the owner of Caravan – Tiny House Hotel\, the first tiny house hotel in the world\, and organizer of Portland’s popular ADU Tour. He is a consultant to homeowners about ADUs and teaches ADU classes to homeowners and real estate agents in Oregon\, Washington\, and California. He is also the editor and manager of www.accessorydwellings.org and www.buildinganadu.com. Kol Peterson is an ADU expert based in Portland\, Oregon\, who has helped catalyze the exponential growth of ADUs in Portland through advocacy\, education\, consulting\, policy work\, and entrepreneurship. \nMr. Peterson earned his master’s degree in environmental planning from Harvard Graduate School of Design. Prior to his ADU work\, he worked for the federal government for ten years in Washington\, DC and in Portland\, Oregon.  \n*Accessory Dwelling Units are secondary units built on residential lots\, also known as granny units or in-law suites. \nRegistration includes an opportunity for a discount to purchase a digital copy of Kol Peterson’s book\, Backdoor Revolution. \nEvent Supporting Sponsors\nKasavan Architects\, California Modulars\, Monterey County Association of REALTORS®\, Association of Monterey Bay Area Governments\, Kasavan Construction\, City of Pacific Grove\, Justin Pauly Architects\, Studio Schicketanz\, Central Coast Builders Association\, Monterey County Farm Bureau\, Workbench\, Monterey Energy Group\, Inc.\, Salinas Valley Chamber of Commerce\, Carmel Chamber of Commerce\, City of Salinas\, City of Gonzales\, and City of Seaside\, City of Monterey \nBecome a sponsor! \n  \n\nRegister Now!
URL:https://aiamontereybay.org/event/adu-advocates-financing-adus-and-public-policy/
CATEGORIES:WEBINAR
END:VEVENT
BEGIN:VEVENT
DTSTART;TZID=America/Los_Angeles:20200916T160000
DTEND;TZID=America/Los_Angeles:20200916T180000
DTSTAMP:20260420T202300
CREATED:20200902T192512Z
LAST-MODIFIED:20200902T192512Z
UID:3488-1600272000-1600279200@aiamontereybay.org
SUMMARY:Homeowners: All about navigating your ADU project
DESCRIPTION:Monterey County ADU Conference\n\n\n \nUWMC and AIAMB will co-host homeowners\, city officials\, design professionals\, builders\, and affordable housing advocates for a virtual ADU conference to promote infill housing in Monterey County and equip stakeholders with the tools they need to execute ADU projects. The conference will feature Kol Peterson\, ADU expert and author of Backdoor Revolution. Four interactive webinars will cover the following: \n\nHomeowners: All about navigating your ADU project\nWednesday\, Sept. 16\, 4 p.m.–6 p.m.\nADU Advocates: Financing ADUs and public policy\nThursday\, Sept. 17\, 10 a.m.–12 p.m.\nDesign Professionals & Builders: How to advocate for your projects\nThursday\, Sept. 17\, 4 p.m.–6 p.m.\nCity Staff: Streamlining the ADU process and regulating for results\nFriday\, Sept. 18\, 3 p.m.–5 p.m.\n\nRegister Now! \nAbout Kol Peterson \nMr. Peterson is the author of Backdoor Revolution: The Definitive Guide to ADU Development. He is the owner of Caravan – Tiny House Hotel\, the first tiny house hotel in the world\, and organizer of Portland’s popular ADU Tour. He is a consultant to homeowners about ADUs and teaches ADU classes to homeowners and real estate agents in Oregon\, Washington\, and California. He is also the editor and manager of www.accessorydwellings.org and www.buildinganadu.com. Kol Peterson is an ADU expert based in Portland\, Oregon\, who has helped catalyze the exponential growth of ADUs in Portland through advocacy\, education\, consulting\, policy work\, and entrepreneurship. \nMr. Peterson earned his master’s degree in environmental planning from Harvard Graduate School of Design. Prior to his ADU work\, he worked for the federal government for ten years in Washington\, DC and in Portland\, Oregon.  \n*Accessory Dwelling Units are secondary units built on residential lots\, also known as granny units or in-law suites. \nRegistration includes an opportunity for a discount to purchase a digital copy of Kol Peterson’s book\, Backdoor Revolution. \nEvent Supporting Sponsors\nKasavan Architects\, California Modulars\, Monterey County Association of REALTORS®\, Association of Monterey Bay Area Governments\, Kasavan Construction\, City of Pacific Grove\, Justin Pauly Architects\, Studio Schicketanz\, Central Coast Builders Association\, Monterey County Farm Bureau\, Workbench\, Monterey Energy Group\, Inc.\, Salinas Valley Chamber of Commerce\, Carmel Chamber of Commerce\, City of Salinas\, City of Gonzales\, and City of Seaside\, City of Monterey \nBecome a sponsor! \n  \n\nRegister Now!
URL:https://aiamontereybay.org/event/homeowners-all-about-navigating-your-adu-project/
CATEGORIES:WEBINAR
END:VEVENT
BEGIN:VEVENT
DTSTART;TZID=America/Los_Angeles:20200623T100000
DTEND;TZID=America/Los_Angeles:20200623T230000
DTSTAMP:20260420T202300
CREATED:20200622T050423Z
LAST-MODIFIED:20200622T050423Z
UID:3394-1592906400-1592953200@aiamontereybay.org
SUMMARY:Webinar: AIA Construction Manager Documents Changes
DESCRIPTION:(Hasti Hejazi | (202) 626 7592) \nAIA Contract Documents\, in conjunction with the ABA Forum on Construction Law\, assembled an expert panel to lift the curtain and explore some of the key changes of the 2019 AIA Construction Manager documents. 1.5 LUs. \nJoin this webinar on: \nDate: Tuesday\, June 23 \nTime: 10:00 A.M. PDT \n$95* (use promo code\, ABAFCLAIA- at checkout). \n*The discount code is not valid for AIA Members who are current ABA Forum members. \nRegister
URL:https://aiamontereybay.org/event/webinar-aia-construction-manager-documents-changes/
CATEGORIES:WEBINAR
END:VEVENT
BEGIN:VEVENT
DTSTART;TZID=America/Los_Angeles:20200616T120000
DTEND;TZID=America/Los_Angeles:20200616T130000
DTSTAMP:20260420T202300
CREATED:20200522T011443Z
LAST-MODIFIED:20200522T011443Z
UID:3387-1592308800-1592312400@aiamontereybay.org
SUMMARY:Acoustics in Residential Projects: Webinar by Intertek
DESCRIPTION:Webinar: Acoustics in Residential Projects\n\nPresented by Intertek\n\n\nDate: Tuesday June 16th\nTime: 12 – 1\n\n1 AIA HSW\n\n\nThe discussion covers the acoustics in residential projects (single or multifamily).\nThe beginning covers peoples’ perception of sound and privacy\, followed by the 4 typical acoustical concerns for these residences: exterior noise isolation\, interior sound isolation\, equipment noise levels and interior room acoustics. The topics highlight how the architectural design influences these factors to benefit the occupants’ sense of comfort and privacy.\n\n\nAIAMB Members: Free\n\nREGISTER HERE\n\n\nNon-members: $15 REGISTER HERE\n\nMust register before Tuesday\, June 16th\n\n**AIA MEMBERS!!!** When registering through BROWN PAPER TICKETS\, Click on the words “Discount Code or Password.” Enter your Member number. Then click “Show Available tickets.” This should help you through the registration process\n\nYou will receive an email containing information about joining the webinar.\nWe recommend that you log in five minutes before the start of the webinar to make sure that you are all set and that your microphone is muted.\n\n\n\n\n\n\n\n\n\n\n\n\n\n\n 
URL:https://aiamontereybay.org/event/acoustics-in-residential-projects-webinar-by-intertek/
CATEGORIES:Lunch & Learn,WEBINAR
END:VEVENT
BEGIN:VEVENT
DTSTART;TZID=America/Los_Angeles:20200520T140000
DTEND;TZID=America/Los_Angeles:20200520T150000
DTSTAMP:20260420T202300
CREATED:20200506T220858Z
LAST-MODIFIED:20200506T220858Z
UID:3380-1589983200-1589986800@aiamontereybay.org
SUMMARY:Architectural Art Installations Benefits & Best Practices
DESCRIPTION:With Gordon Huether\n\nCES Course Description:\n\nThoughtful and well-integrated artistic elements in built environments transform and create memorable and uplifting experiences for users and can introduce welcoming\, place-making and iconographic benefits to the architectural space. In this AIA accredited course\, Artist Gordon Huether will review a variety of case studies that demonstrate the benefits of integrating art in architectural and landscape settings. Techniques\, approaches and methodology of art integration\, along with best practices of adding an artist to the project team will be discussed.\nRSVP for the Event.\n REGISTER HERE
URL:https://aiamontereybay.org/event/architectural-art-installations-benefits-best-practices/
CATEGORIES:Arts & Architecture,WEBINAR
ATTACH;FMTTYPE=:
END:VEVENT
BEGIN:VEVENT
DTSTART;TZID=America/Los_Angeles:20200520T120000
DTEND;TZID=America/Los_Angeles:20200520T130000
DTSTAMP:20260420T202300
CREATED:20200506T214344Z
LAST-MODIFIED:20200506T214344Z
UID:3374-1589976000-1589979600@aiamontereybay.org
SUMMARY:CLIMATE ACTION -CHANGE
DESCRIPTION:Register here\n\nSpeaker: Wade Killefer\, FAIA | Partner\, KFA\n\n\nDesign is not just about aesthetic components\, but how buildings perform for people. Join us on a live webinar where we explore the benefits of one of the AIA Framework for Design Excellence measures\, Designing for Change. Reuse\, adaptability\, and resilience are essential to sustainable design\, which seeks to maintain and enhance usability\, functionality\, and value over time. Wade Killefer\, FAIA\, a founding partner at Killefer Flammang Architects\, will explore the design process and showcase the sustainable benefits of adaptive reuse versus building brand new. Additionally\, by using case studies of both historic and non-historic projects\, Wade will showcase how reuse\, adaptability\, and resilience are essential to sustainable design.\n\nEarn 1 LU | HSW for attending\n\nMore information and additional resources can be found here: https://aiacalifornia.org/climate-action-change/
URL:https://aiamontereybay.org/event/climate-action-change/
CATEGORIES:COTE,WEBINAR
ATTACH;FMTTYPE=:
END:VEVENT
BEGIN:VEVENT
DTSTART;TZID=America/Los_Angeles:20200514T120000
DTEND;TZID=America/Los_Angeles:20200514T130000
DTSTAMP:20260420T202300
CREATED:20200429T215010Z
LAST-MODIFIED:20200429T215010Z
UID:3361-1589457600-1589461200@aiamontereybay.org
SUMMARY:Webinar: How New Energy & Green Bldg. Codes Impact Design
DESCRIPTION:  \n  \n  \n  \n  \nLearn more/Register
URL:https://aiamontereybay.org/event/webinar-how-new-energy-green-bldg-codes-impact-design/
CATEGORIES:WEBINAR
ATTACH;FMTTYPE=:
END:VEVENT
BEGIN:VEVENT
DTSTART;TZID=America/Los_Angeles:20200423T090000
DTEND;TZID=America/Los_Angeles:20200423T103000
DTSTAMP:20260420T202300
CREATED:20200418T181256Z
LAST-MODIFIED:20200418T181256Z
UID:3293-1587632400-1587637800@aiamontereybay.org
SUMMARY:WEBINAR: Coping with Coronavirus: Design Firm Challenges
DESCRIPTION:Dealey\, Renton & Associates presents a complimentary Practice Management Program Webinar. \n  \nThe current design and construction challenges change every day\, but some issues are consistently prevalent.  Three of those biggest continuing themes are: \n\nProject interruptions and delays;\nElectronic document control and communication; and\nConstruction site administration and access.\n\nLearning Objectives: \n\nIdentify the core challenges created by the Coronavirus limitations;\nManage the schedule interruption and extension impacts;\nSecure control and contract compliance over electronic documentation and design issues; and\nDevelop strategies to manage and respond to construction administration service in light of limited site access.\n\n  \nRecommended Audience: \nOwners\, Principals\, Risk Managers\, General Counsel\, Contract Managers\, Project Managers and other firms members who work with clients\, design documents\, or construction administration. \n REGISTER HERE \nCE Credits: \n1.5 LU’s (AIA Included)
URL:https://aiamontereybay.org/event/webinar-coping-with-coronavirus-design-firm-challenges/
CATEGORIES:WEBINAR
END:VEVENT
END:VCALENDAR