BEGIN:VCALENDAR
VERSION:2.0
PRODID:-//AIA Monterey Bay - ECPv6.15.20//NONSGML v1.0//EN
CALSCALE:GREGORIAN
METHOD:PUBLISH
X-ORIGINAL-URL:https://aiamontereybay.org
X-WR-CALDESC:Events for AIA Monterey Bay
REFRESH-INTERVAL;VALUE=DURATION:PT1H
X-Robots-Tag:noindex
X-PUBLISHED-TTL:PT1H
BEGIN:VTIMEZONE
TZID:America/Los_Angeles
BEGIN:DAYLIGHT
TZOFFSETFROM:-0800
TZOFFSETTO:-0700
TZNAME:PDT
DTSTART:20240310T100000
END:DAYLIGHT
BEGIN:STANDARD
TZOFFSETFROM:-0700
TZOFFSETTO:-0800
TZNAME:PST
DTSTART:20241103T090000
END:STANDARD
BEGIN:DAYLIGHT
TZOFFSETFROM:-0800
TZOFFSETTO:-0700
TZNAME:PDT
DTSTART:20250309T100000
END:DAYLIGHT
BEGIN:STANDARD
TZOFFSETFROM:-0700
TZOFFSETTO:-0800
TZNAME:PST
DTSTART:20251102T090000
END:STANDARD
BEGIN:DAYLIGHT
TZOFFSETFROM:-0800
TZOFFSETTO:-0700
TZNAME:PDT
DTSTART:20260308T100000
END:DAYLIGHT
BEGIN:STANDARD
TZOFFSETFROM:-0700
TZOFFSETTO:-0800
TZNAME:PST
DTSTART:20261101T090000
END:STANDARD
END:VTIMEZONE
BEGIN:VEVENT
DTSTART;TZID=America/Los_Angeles:20250618T140000
DTEND;TZID=America/Los_Angeles:20250618T150000
DTSTAMP:20260421T124941
CREATED:20250613T235411Z
LAST-MODIFIED:20250613T235411Z
UID:30025-1750255200-1750258800@aiamontereybay.org
SUMMARY:California Architectural Practice Experience (capX) program\, Firm Meet-Up
DESCRIPTION:The California Architectural Foundation (CAF) invites you to join the California Architectural Practice Experience (capX) program\, Firm Meet-Up centering on how to engage and manage interns and job shadows. \nDate: Wednesday\, June 18th\nTime: 2:00 – 3:00 PM\nLocation: Register here for Zoom webinar\nCost: Free\nCES: 1 AIA Learning Unit \nDiscussion Topics:\nProgram Design | Panelists will provide a brief overview of their current internship program and keys to its success. \nSmart Engagement | Learn practical organization strategies for managing and providing exposure to different roles or areas within a firm. \nProfessional Growth | How to help interns build confidence\, communication skills\, and a sense of belonging. \nThe Business Case | Panelists will discuss their view on the return on investment (ROI) for hosting interns or job shadows\, and the impact on pipeline development\, recruitment and office culture.
URL:https://aiamontereybay.org/event/california-architectural-practice-experience-capx-program-firm-meet-up/
LOCATION:Online Event
CATEGORIES:WEBINAR
ATTACH;FMTTYPE=image/jpeg:https://aiamontereybay.org/wp-content/uploads/2025/06/capX-Meet-Up.jpeg
END:VEVENT
END:VCALENDAR