BEGIN:VCALENDAR
VERSION:2.0
PRODID:-//AIA Monterey Bay - ECPv6.15.20//NONSGML v1.0//EN
CALSCALE:GREGORIAN
METHOD:PUBLISH
X-ORIGINAL-URL:https://aiamontereybay.org
X-WR-CALDESC:Events for AIA Monterey Bay
REFRESH-INTERVAL;VALUE=DURATION:PT1H
X-Robots-Tag:noindex
X-PUBLISHED-TTL:PT1H
BEGIN:VTIMEZONE
TZID:America/Los_Angeles
BEGIN:DAYLIGHT
TZOFFSETFROM:-0800
TZOFFSETTO:-0700
TZNAME:PDT
DTSTART:20230312T100000
END:DAYLIGHT
BEGIN:STANDARD
TZOFFSETFROM:-0700
TZOFFSETTO:-0800
TZNAME:PST
DTSTART:20231105T090000
END:STANDARD
BEGIN:DAYLIGHT
TZOFFSETFROM:-0800
TZOFFSETTO:-0700
TZNAME:PDT
DTSTART:20240310T100000
END:DAYLIGHT
BEGIN:STANDARD
TZOFFSETFROM:-0700
TZOFFSETTO:-0800
TZNAME:PST
DTSTART:20241103T090000
END:STANDARD
BEGIN:DAYLIGHT
TZOFFSETFROM:-0800
TZOFFSETTO:-0700
TZNAME:PDT
DTSTART:20250309T100000
END:DAYLIGHT
BEGIN:STANDARD
TZOFFSETFROM:-0700
TZOFFSETTO:-0800
TZNAME:PST
DTSTART:20251102T090000
END:STANDARD
END:VTIMEZONE
BEGIN:VEVENT
DTSTART;TZID=America/Los_Angeles:20241029T120000
DTEND;TZID=America/Los_Angeles:20241029T120000
DTSTAMP:20260422T010840
CREATED:20241010T211515Z
LAST-MODIFIED:20241010T211515Z
UID:29711-1730203200-1730203200@aiamontereybay.org
SUMMARY:Succession Planning and Leadership Transition
DESCRIPTION:Succession Planning and Leadership Transition:\nSecuring Your Architecture Firm’s Future \nDate: Tuesday\, October 29\, 2024 at 3pm ET | 12pm PT\nPresenter: Steve Burns\, FAIA | Founder | The Well-Designed Firm\nCE: 1 AIA LU \nDESCRIPTION: For many architecture firms\, the business is not just a career\, but a lifestyle. However\, when the time comes to retire or slow down\, the most important investment you can rely on might not be your 401(k)\, IRA\, or real estate portfolio—but your firm. Succession planning is not just about ensuring your practice can continue without you; it’s about building a valuable asset that can provide significant financial security and wealth\, potentially making your firm your most significant retirement asset. \nJoin us for an essential webinar on the best practices for succession planning and leadership transition. This session\, designed specifically for firm owners who may not have considered the long-term financial benefits of planning ahead\, will be led by an industry expert\, who successfully sold his 17-person firm in 2007. Steve Burns\, FAIA will show you how to strategically grow your firm’s value\, preparing it for a successful transition that can offer you the financial freedom to step back when you are ready. \nClick here to register.
URL:https://aiacalifornia.org/event/succession-planning-and-leadership-transition-securing-your-architecture-firms-future/#new_tab
LOCATION:Online Event
CATEGORIES:WEBINAR
ATTACH;FMTTYPE=image/jpeg:https://aiamontereybay.org/wp-content/uploads/2024/10/Succession-Planning.jpg
END:VEVENT
END:VCALENDAR