BEGIN:VCALENDAR
VERSION:2.0
PRODID:-//AIA Monterey Bay - ECPv6.15.20//NONSGML v1.0//EN
CALSCALE:GREGORIAN
METHOD:PUBLISH
X-ORIGINAL-URL:https://aiamontereybay.org
X-WR-CALDESC:Events for AIA Monterey Bay
REFRESH-INTERVAL;VALUE=DURATION:PT1H
X-Robots-Tag:noindex
X-PUBLISHED-TTL:PT1H
BEGIN:VTIMEZONE
TZID:America/Los_Angeles
BEGIN:DAYLIGHT
TZOFFSETFROM:-0800
TZOFFSETTO:-0700
TZNAME:PDT
DTSTART:20200308T100000
END:DAYLIGHT
BEGIN:STANDARD
TZOFFSETFROM:-0700
TZOFFSETTO:-0800
TZNAME:PST
DTSTART:20201101T090000
END:STANDARD
BEGIN:DAYLIGHT
TZOFFSETFROM:-0800
TZOFFSETTO:-0700
TZNAME:PDT
DTSTART:20210314T100000
END:DAYLIGHT
BEGIN:STANDARD
TZOFFSETFROM:-0700
TZOFFSETTO:-0800
TZNAME:PST
DTSTART:20211107T090000
END:STANDARD
BEGIN:DAYLIGHT
TZOFFSETFROM:-0800
TZOFFSETTO:-0700
TZNAME:PDT
DTSTART:20220313T100000
END:DAYLIGHT
BEGIN:STANDARD
TZOFFSETFROM:-0700
TZOFFSETTO:-0800
TZNAME:PST
DTSTART:20221106T090000
END:STANDARD
BEGIN:DAYLIGHT
TZOFFSETFROM:-0800
TZOFFSETTO:-0700
TZNAME:PDT
DTSTART:20230312T100000
END:DAYLIGHT
BEGIN:STANDARD
TZOFFSETFROM:-0700
TZOFFSETTO:-0800
TZNAME:PST
DTSTART:20231105T090000
END:STANDARD
BEGIN:DAYLIGHT
TZOFFSETFROM:-0800
TZOFFSETTO:-0700
TZNAME:PDT
DTSTART:20240310T100000
END:DAYLIGHT
BEGIN:STANDARD
TZOFFSETFROM:-0700
TZOFFSETTO:-0800
TZNAME:PST
DTSTART:20241103T090000
END:STANDARD
BEGIN:DAYLIGHT
TZOFFSETFROM:-0800
TZOFFSETTO:-0700
TZNAME:PDT
DTSTART:20250309T100000
END:DAYLIGHT
BEGIN:STANDARD
TZOFFSETFROM:-0700
TZOFFSETTO:-0800
TZNAME:PST
DTSTART:20251102T090000
END:STANDARD
BEGIN:DAYLIGHT
TZOFFSETFROM:-0800
TZOFFSETTO:-0700
TZNAME:PDT
DTSTART:20260308T100000
END:DAYLIGHT
BEGIN:STANDARD
TZOFFSETFROM:-0700
TZOFFSETTO:-0800
TZNAME:PST
DTSTART:20261101T090000
END:STANDARD
END:VTIMEZONE
BEGIN:VEVENT
DTSTART;TZID=America/Los_Angeles:20250130T120000
DTEND;TZID=America/Los_Angeles:20250130T130000
DTSTAMP:20260420T152946
CREATED:20250127T084652Z
LAST-MODIFIED:20250127T084652Z
UID:29795-1738238400-1738242000@aiamontereybay.org
SUMMARY:Atomic Habits for Architects: Secrets that Boost Productivity & Profits
DESCRIPTION:Atomic Habits for Architects: Secrets that Boost Productivity & Profits \nDate: January 30\, 2025\nTime: 12-1pm\nCE Units: 1 LU\nCost: $0 for all \nClick here to register
URL:https://aiamontereybay.org/event/atomic-habits-for-architects-secrets-that-boost-productivity-profits/
LOCATION:Online Event
CATEGORIES:Special Webinar
ATTACH;FMTTYPE=image/jpeg:https://aiamontereybay.org/wp-content/uploads/2025/01/Atomic-Habits.jpg
END:VEVENT
BEGIN:VEVENT
DTSTART;TZID=America/Los_Angeles:20240530T120000
DTEND;TZID=America/Los_Angeles:20240530T130000
DTSTAMP:20260420T152946
CREATED:20240523T081906Z
LAST-MODIFIED:20240523T081948Z
UID:29524-1717070400-1717074000@aiamontereybay.org
SUMMARY:17 Mile Haus: A Passive House Design Journey
DESCRIPTION:17 Mile Haus \nA Passive House Design Journey \nDate & Time: Thursday\, May 30\, 12:00 to 1:00 p.m.\nLocation: Webinar\nCost: Free to AIA Members\, Sponsors & Students; $20 for the general public \nPresenter: Bronwyn Barry\, RA\, CPHD \nPassive House design is receiving heightened interest across the country due to growing awareness of the impact of buildings on carbon emissions. This presentation will look at the five basic Passive House principles and how Passive House is applicable here in California\, using a project located on Pebble Beach’s storied 17 Mile Drive. We will look at the specific building assembly details that meet Passive House performance targets for the Monterey Peninsula as well as the assessment results for the embodied carbon footprint on this specific design. Join us to learn about the evolution of this design\, the details that support how it performs\, plus a look at the impact of the product and material choices made using the PHribbon embodied carbon calculator. \nClick here to register. \n 
URL:https://aiamontereybay.org/event/17-mile-haus-a-passive-house-design-journey/
LOCATION:Online Event
CATEGORIES:Special Webinar
ATTACH;FMTTYPE=image/png:https://aiamontereybay.org/wp-content/uploads/2024/05/Passive-House-webinar-image.png
END:VEVENT
BEGIN:VEVENT
DTSTART;TZID=America/Los_Angeles:20230427T093000
DTEND;TZID=America/Los_Angeles:20230427T110000
DTSTAMP:20260420T152946
CREATED:20230409T191719Z
LAST-MODIFIED:20230409T191719Z
UID:28796-1682587800-1682593200@aiamontereybay.org
SUMMARY:Post-Construction Requirements Stormwater Training
DESCRIPTION:Date: Thursday\, April 27\, 2023.\nTime: 9:30 A.M.\nWebinar \nThis FREE training will provide an overview of the PCR’s\, discuss Low Impact Development principals for development and design\, and offer Do’s and Don’ts for successful agency review and approval. In addition\, we will explore a recently implemented Case Study to better understand the overall PCR process. \nClick here to register
URL:https://aiamontereybay.org/event/post-construction-requirements-stormwater-training/
LOCATION:Online Event
CATEGORIES:Special Webinar
ATTACH;FMTTYPE=image/jpeg:https://aiamontereybay.org/wp-content/uploads/2023/04/image-2.jpeg
END:VEVENT
BEGIN:VEVENT
DTSTART;TZID=America/Los_Angeles:20230413T120000
DTEND;TZID=America/Los_Angeles:20230413T130000
DTSTAMP:20260420T152946
CREATED:20230409T191326Z
LAST-MODIFIED:20230409T191327Z
UID:28790-1681387200-1681390800@aiamontereybay.org
SUMMARY:How to Design a Safe & Compliant Automated Gate System
DESCRIPTION:Date: Thursday\, April 13\, 2023.\nTime: 12:00 to 1:00 p.m.\nSpeaker: Brad Richards\, Specification Sales Engineer | HySecurity\nUnits: 1 AIA LU|HSW \nThe purpose of this course is to train architects\, engineers\, designers\, specifiers & owners on the UL 3.25 and ASTM F2200 safety standards related to design\, construction\, and installation methods of automated vehicular access points. \nRegister here
URL:https://aiamontereybay.org/event/how-to-design-a-safe-compliant-automated-gate-system/
LOCATION:Online Event
CATEGORIES:Special Webinar
ATTACH;FMTTYPE=image/jpeg:https://aiamontereybay.org/wp-content/uploads/2023/04/image.jpeg
END:VEVENT
BEGIN:VEVENT
DTSTART;TZID=America/Los_Angeles:20230117T120000
DTEND;TZID=America/Los_Angeles:20230117T130000
DTSTAMP:20260420T152946
CREATED:20230117T194952Z
LAST-MODIFIED:20230117T194952Z
UID:28296-1673956800-1673960400@aiamontereybay.org
SUMMARY:Climate Action Webinar: U.S. Resiliency Council Seismic Grant Legislation
DESCRIPTION:When: Tuesday\, January 17th\, 12-1pm \nUnits: 1 LU/HSW (pending approval) \nSpeaker:\nEvan Reis | Executive Director\, Co-founder\, U.S. Resiliency Council \nAs many as 100\,000 apartment buildings in California\, which could house up to two million residents\, many lower income\, elderly or the disabled\, may have a dangerous seismic vulnerability known as a soft story. In June\, 2022\, CA Governor Gavin Newsom appropriated $250 million in grant funding in budget bill SB-189 to owners of 2-20 unit apartment buildings with soft stories\, to seismically retrofit them and make them safer for their residents. The US Resiliency Council was the sponsor of the bill and led the effort to establish a coalition of supporters unprecedented in its diversity. This course will describe the legislation\, how the USRC was able to successfully create the coalition of supporters and provide information about how the architectural community can benefit from the grant program. \nRegister here
URL:https://aiamontereybay.org/event/climate-action-webinar-u-s-resiliency-council-seismic-grant-legislation/
CATEGORIES:Special Webinar
ATTACH;FMTTYPE=image/png:https://aiamontereybay.org/wp-content/uploads/2023/01/image.png
END:VEVENT
BEGIN:VEVENT
DTSTART;TZID=America/Los_Angeles:20220414T090000
DTEND;TZID=America/Los_Angeles:20220414T110000
DTSTAMP:20260420T152946
CREATED:20220425T142014Z
LAST-MODIFIED:20220425T142431Z
UID:28013-1649926800-1649934000@aiamontereybay.org
SUMMARY:Granitrock's Tech Talks 2022
DESCRIPTION:Granitrock’s Tech Talks 2022\n \nGraniterock is pleased to offer another series of three\, highly informative sessions that are absolutely FREE. Tech Talks are ideal for architects\, contractors\, specifiers and key agency decision makers.\n \nDates/Time: April 14\, and 21\, 2022 2022 9:00 a.m. to 11:00 a.m.\nWebinar Courses earn 1 AIA LU\n \nSession Schedule:\nApril 14 \nA. On-Demand Environmental Product Declarations and Climate Earth | Katha Redmon\, Director of Concrete Products\, Graniterock\nB. GreenConcrete | Max Morgan\, Concrete Sales and Operations Associate\, Graniterock\n \nApril 21\nA. Tutorial Agency Superpave Mix | Kevin McNeil\, HMA Technical Services Manager\, Graniterock\nB. CalTrans Superpave | Brandon Milar\, Director of Technical Services for the California Pavement Association\n \nRegister now
URL:https://aiamontereybay.org/event/granitrocks-tech-talks-2022/2022-04-14/
CATEGORIES:Special Webinar
ATTACH;FMTTYPE=image/png:https://aiamontereybay.org/wp-content/uploads/2022/04/graniterock.png
END:VEVENT
BEGIN:VEVENT
DTSTART;TZID=America/Los_Angeles:20210804T120000
DTEND;TZID=America/Los_Angeles:20210804T130000
DTSTAMP:20260420T152946
CREATED:20210628T134620Z
LAST-MODIFIED:20210628T134620Z
UID:27537-1628078400-1628082000@aiamontereybay.org
SUMMARY:How We House Webinar Series
DESCRIPTION:How We House Webinar Series \nAIA CA and the California Council of Architectural Component Executives (CA CACE) are excited to announce the launch of the How We House webinar series. This 4-part series\, which begins August 4\, will take a look at California’s housing crisis\, the impacts on different regions across the state\, and the local design approaches to providing housing solutions. \nClick here to learn more and register for this series. \n(https://aiacalifornia.org/cace-how-we-house/) \nSave the dates now! \nWednesday\, August 4\, 2021 | 12:00-1:00pm PT | AIA Orange County \nWednesday\, September 1\, 2021 | 12:00-1:00pm PT | AIA Redwood Empire \nWednesday\, October 6\, 2021 | 12:00-1:00pm PT | AIA Central Valley \nWednesday\, November 3\, 2021 | 12:00pm PT | AIA Long Beach / South Bay
URL:https://aiamontereybay.org/event/how-we-house-webinar-series/2021-08-04/
CATEGORIES:Lunch & Learn,Special Webinar
ATTACH;FMTTYPE=image/png:https://aiamontereybay.org/wp-content/uploads/2021/06/Screen-Shot-2021-06-28-at-6.39.36-AM.png
END:VEVENT
BEGIN:VEVENT
DTSTART;TZID=America/Los_Angeles:20210622T160000
DTEND;TZID=America/Los_Angeles:20210622T183000
DTSTAMP:20260420T152946
CREATED:20210523T034104Z
LAST-MODIFIED:20210523T034104Z
UID:27386-1624377600-1624386600@aiamontereybay.org
SUMMARY:ADA/Accessibility Program – Part Two - 2.5 Hours
DESCRIPTION:Compilation of ADA Design Guidelines\nPresented By: Absolute Consulting Engineers  \n Date: Tuesday\, June 22\, 2021 \nWebinar: 4:00 – 6:30 p.m. \nLearning Units: 2.5 AIA LU | HSW \nAlso fulfills CAB Accessibility Requirement for 2021 License Renewal \nCost: $25 Members\, $50 Non-Members \nPresenter: Saum K. Nour\, Ph.D. \n Dr. Saum Nour will review the history of ADA from inception to California code. A variety of accessibility topics will be discussed and examined from types of buildings and functions of buildings\, legal cases\, and available training resources. \nREGISTER HERE
URL:https://aiamontereybay.org/event/ada-accessibility-program-part-two-2-5-hours/
CATEGORIES:Special Webinar,WEBINAR
END:VEVENT
BEGIN:VEVENT
DTSTART;TZID=America/Los_Angeles:20210513T173000
DTEND;TZID=America/Los_Angeles:20210513T183000
DTSTAMP:20260420T152946
CREATED:20210408T221001Z
LAST-MODIFIED:20210408T221001Z
UID:27328-1620927000-1620930600@aiamontereybay.org
SUMMARY:Free Community Wildfire Webinar Series: Emergency Planning and Preparing for Evacuations
DESCRIPTION:Registration is now open to participate in a series of free webinars intended to give you information on how to prepare for wildfires\, and to help protect lives\, property\, and resources. \nThe number of participants is limited so do not delay registering if interested. Everyone is invited to register \nThe webinars are hosted by the Carmel Valley Wildfire Mitigation Project with Thriving Earth Exchange\, and the information provided will apply to any area subject to wildfires. \nThe webinars will be live and include presentations on the following subjects: \n\nCreating Effective Defensible Space\, Wednesday\, April 14\, 5:30-6:30 pm PST REGISTER HERE\nPG&E and Wildfire Safety\, Thursday\, April 29\, 5:30-6:30 pm PST REGISTER HERE\nMoving Towards a Fire-resilient Landscape\, Thursday\, May 6\, 5:30-6:30 pm PST REGISTER HERE\nEmergency Planning and Preparing for Evacuations\, Thursday\, May 13\, 5:30-6:30 pm REGISTER HERE
URL:https://aiamontereybay.org/event/free-community-wildfire-webinar-series-emergency-planning-and-preparing-for-evacuations/
CATEGORIES:Special Webinar
ATTACH;FMTTYPE=image/png:https://aiamontereybay.org/wp-content/uploads/2021/04/Screen-Shot-2021-04-08-at-2.57.47-PM.png
END:VEVENT
BEGIN:VEVENT
DTSTART;TZID=America/Los_Angeles:20210506T173000
DTEND;TZID=America/Los_Angeles:20210506T183000
DTSTAMP:20260420T152946
CREATED:20210408T220229Z
LAST-MODIFIED:20210408T220229Z
UID:27326-1620322200-1620325800@aiamontereybay.org
SUMMARY:Free Community Wildfire Webinar Series: Moving Towards a Fire-resilient Landscape
DESCRIPTION:Registration is now open to participate in a series of free webinars intended to give you information on how to prepare for wildfires\, and to help protect lives\, property\, and resources. \nThe number of participants is limited so do not delay registering if interested. Everyone is invited to register \nThe webinars are hosted by the Carmel Valley Wildfire Mitigation Project with Thriving Earth Exchange\, and the information provided will apply to any area subject to wildfires. \nThe webinars will be live and include presentations on the following subjects: \n\nCreating Effective Defensible Space\, Wednesday\, April 14\, 5:30-6:30 pm PST REGISTER HERE\nPG&E and Wildfire Safety\, Thursday\, April 29\, 5:30-6:30 pm PST REGISTER HERE\nMoving Towards a Fire-resilient Landscape\, Thursday\, May 6\, 5:30-6:30 pm PST REGISTER HERE\nEmergency Planning and Preparing for Evacuations\, Thursday\, May 13\, 5:30-6:30 pm REGISTER HERE
URL:https://aiamontereybay.org/event/free-community-wildfire-webinar-series-moving-towards-a-fire-resilient-landscape/
CATEGORIES:Special Webinar
ATTACH;FMTTYPE=image/png:https://aiamontereybay.org/wp-content/uploads/2021/04/Screen-Shot-2021-04-08-at-2.57.47-PM.png
END:VEVENT
BEGIN:VEVENT
DTSTART;TZID=America/Los_Angeles:20210429T173000
DTEND;TZID=America/Los_Angeles:20210429T183000
DTSTAMP:20260420T152946
CREATED:20210408T220104Z
LAST-MODIFIED:20210408T220104Z
UID:27324-1619717400-1619721000@aiamontereybay.org
SUMMARY:Free Community Wildfire Webinar Series: PG&E and Wildfire Safety
DESCRIPTION:Registration is now open to participate in a series of free webinars intended to give you information on how to prepare for wildfires\, and to help protect lives\, property\, and resources. \nThe number of participants is limited so do not delay registering if interested. Everyone is invited to register \nThe webinars are hosted by the Carmel Valley Wildfire Mitigation Project with Thriving Earth Exchange\, and the information provided will apply to any area subject to wildfires. \nThe webinars will be live and include presentations on the following subjects: \n\nCreating Effective Defensible Space\, Wednesday\, April 14\, 5:30-6:30 pm PST REGISTER HERE\nPG&E and Wildfire Safety\, Thursday\, April 29\, 5:30-6:30 pm PST REGISTER HERE\nMoving Towards a Fire-resilient Landscape\, Thursday\, May 6\, 5:30-6:30 pm PST REGISTER HERE\nEmergency Planning and Preparing for Evacuations\, Thursday\, May 13\, 5:30-6:30 pm REGISTER HERE
URL:https://aiamontereybay.org/event/free-community-wildfire-webinar-series-creating-pgewildfiresafety/
CATEGORIES:Special Webinar
ATTACH;FMTTYPE=image/png:https://aiamontereybay.org/wp-content/uploads/2021/04/Screen-Shot-2021-04-08-at-2.57.47-PM.png
END:VEVENT
BEGIN:VEVENT
DTSTART;TZID=America/Los_Angeles:20210422T160000
DTEND;TZID=America/Los_Angeles:20210422T183000
DTSTAMP:20260420T152946
CREATED:20210408T215303Z
LAST-MODIFIED:20210408T215303Z
UID:27319-1619107200-1619116200@aiamontereybay.org
SUMMARY:ADA/Accessibility Program – Part One - 2.5 Hours Compilation of ADA Design Guidelines
DESCRIPTION:Date: Thursday\, April 22\, 2021 (Part 2 is in June\, Date TBD)\nWebinar: 4:00 – 6:30 P.M.\nLearning Units: 2.5 AIA HSWs\nAlso fulfills CAB Accessibility Requirement for 2021 License Renewal\nCost: $25 Members\, $50 Non-Members\nPresenter: Saum K. Nour\, Ph.D. \nDr. Saum Nour will present a short history of ADA from inception to California code. A variety of accessibility topics will be discussed and examined from types of buildings and functions of buildings\, legal cases\, and available training resources.
URL:https://aiamontereybay.org/event/ada-accessibility-program-part-one-2-5-hours-compilation-of-ada-design-guidelines/
CATEGORIES:Special Webinar
END:VEVENT
BEGIN:VEVENT
DTSTART;VALUE=DATE:20210421
DTEND;VALUE=DATE:20210423
DTSTAMP:20260420T152946
CREATED:20210328T170248Z
LAST-MODIFIED:20210328T170248Z
UID:27300-1618963200-1619135999@aiamontereybay.org
SUMMARY:2019 Title 24\, Part 6 Essentials: Residential Standards for Architects & Designers
DESCRIPTION:This 2-day course is designed to help residential architects and designers advance their understanding of California’s 2019 Building Energy Efficiency Standards (Title 24\, Part 6 or Energy Code) and ease Energy Code implementation.\n \nNote that the online version of this class is delivered in 2 parts over 2 consecutive days\, both of which need to be attended to complete the course. Each part runs 9:00 a.m. to Noon\, PST.  \nAvailable CEUs: ICC:0.7; AIA:7
URL:https://aiamontereybay.org/event/2019-title-24-part-6-essentials-residential-standards-for-architects-designers/
CATEGORIES:Special Webinar
ATTACH;FMTTYPE=image/jpeg:https://aiamontereybay.org/wp-content/uploads/2021/03/unnamed-3.jpeg
END:VEVENT
BEGIN:VEVENT
DTSTART;TZID=America/Los_Angeles:20210414T173000
DTEND;TZID=America/Los_Angeles:20210414T183000
DTSTAMP:20260420T152946
CREATED:20210408T215822Z
LAST-MODIFIED:20210408T215822Z
UID:27321-1618421400-1618425000@aiamontereybay.org
SUMMARY:Free Community Wildfire Webinar Series: Creating Effective Defensible Space
DESCRIPTION:Registration is now open to participate in a series of free webinars intended to give you information on how to prepare for wildfires\, and to help protect lives\, property\, and resources. \nThe number of participants is limited so do not delay registering if interested. Everyone is invited to register \nThe webinars are hosted by the Carmel Valley Wildfire Mitigation Project with Thriving Earth Exchange\, and the information provided will apply to any area subject to wildfires. \nThe webinars will be live and include presentations on the following subjects: \n\nCreating Effective Defensible Space\, Wednesday\, April 14\, 5:30-6:30 pm PST REGISTER HERE\nPG&E and Wildfire Safety\, Thursday\, April 29\, 5:30-6:30 pm PST REGISTER HERE\nMoving Towards a Fire-resilient Landscape\, Thursday\, May 6\, 5:30-6:30 pm PST REGISTER HERE\nEmergency Planning and Preparing for Evacuations\, Thursday\, May 13\, 5:30-6:30 pm REGISTER HERE
URL:https://aiamontereybay.org/event/free-community-wildfire-webinar-series-creating-effective-defensible-space/
CATEGORIES:Special Webinar
ATTACH;FMTTYPE=image/png:https://aiamontereybay.org/wp-content/uploads/2021/04/Screen-Shot-2021-04-08-at-2.57.47-PM.png
END:VEVENT
BEGIN:VEVENT
DTSTART;TZID=America/Los_Angeles:20210303T140000
DTEND;TZID=America/Los_Angeles:20210303T150000
DTSTAMP:20260420T152946
CREATED:20210220T212211Z
LAST-MODIFIED:20210220T212417Z
UID:27271-1614780000-1614783600@aiamontereybay.org
SUMMARY:OPTIMIZING WATER EFFICIENCY IN MULTI- FAMILY AND SINGLE-FAMILY HOMES
DESCRIPTION:This course will provide you with an overview of the business case surrounding green building for single-family and multi-family homes. Registration is required for attendance recording and certificate of completion. \nThe green building movement has challenged manufacturers\, design teams\, and owners to create products and designs that have a minimal impact on the environment while contributing to the health and well-being of those who live and work in the built space. One of the concerns driving the changes? \nWe can no longer rely on an endless supply of potable water – in parts of the US\, as well as across the globe. This course will explore how to earn indoor water use reduction credits in green building rating systems\, such as LEED v4 and WaterSense. We will focus on plumbing fixtures and fittings that are aesthetically pleasing and have been thoughtfully designed to maximize the efficiency of indoor water use without sacrificing performance by the end-user. \nObjectives: \n\nReview the evolution of the green building movement and its legislation pertaining to health and safety\nUnderstand the dynamics driving the green building movement for single-family and multi-family residences\nReview the water efficiency requirements and credits in several green building programs for homes\nReview examples of water-efficient\, high-performing plumbing fitting and fixtures\nExplore solutions that may increase water efficiency in single family and multi family residences
URL:https://aiamontereybay.org/event/optimizing-water-efficiency-in-multi-family-and-single-family-homes/
CATEGORIES:Special Webinar
ATTACH;FMTTYPE=image/jpeg:https://aiamontereybay.org/wp-content/uploads/2021/02/MOEN-1.jpg
ORGANIZER;CN="Victoria Rojas":MAILTO:victoria.rojas@fbgpg.com
END:VEVENT
BEGIN:VEVENT
DTSTART;TZID=America/Los_Angeles:20210226T090000
DTEND;TZID=America/Los_Angeles:20210226T220000
DTSTAMP:20260420T152946
CREATED:20210223T142413Z
LAST-MODIFIED:20210223T142413Z
UID:27279-1614330000-1614376800@aiamontereybay.org
SUMMARY:Advanced Environmental Finishes for Windows and Doors
DESCRIPTION:1LU | HSW. Participants of this course will learn how different paint and anodized finishes rate when compared to architectural specifications. Sustainable materials and cradle-to-cradle considerations are provided. Participants will also learn about the application process to assure informed decisions can be made for specific environments. 
URL:https://aiamontereybay.org/event/advanced-environmental-finishes-for-windows-and-doors/
CATEGORIES:Special Webinar
ATTACH;FMTTYPE=image/jpeg:https://aiamontereybay.org/wp-content/uploads/2021/02/unnamed-2.jpg
END:VEVENT
END:VCALENDAR