BEGIN:VCALENDAR
VERSION:2.0
PRODID:-//AIA Monterey Bay - ECPv6.15.20//NONSGML v1.0//EN
CALSCALE:GREGORIAN
METHOD:PUBLISH
X-ORIGINAL-URL:https://aiamontereybay.org
X-WR-CALDESC:Events for AIA Monterey Bay
REFRESH-INTERVAL;VALUE=DURATION:PT1H
X-Robots-Tag:noindex
X-PUBLISHED-TTL:PT1H
BEGIN:VTIMEZONE
TZID:America/Los_Angeles
BEGIN:DAYLIGHT
TZOFFSETFROM:-0800
TZOFFSETTO:-0700
TZNAME:PDT
DTSTART:20250309T100000
END:DAYLIGHT
BEGIN:STANDARD
TZOFFSETFROM:-0700
TZOFFSETTO:-0800
TZNAME:PST
DTSTART:20251102T090000
END:STANDARD
BEGIN:DAYLIGHT
TZOFFSETFROM:-0800
TZOFFSETTO:-0700
TZNAME:PDT
DTSTART:20260308T100000
END:DAYLIGHT
BEGIN:STANDARD
TZOFFSETFROM:-0700
TZOFFSETTO:-0800
TZNAME:PST
DTSTART:20261101T090000
END:STANDARD
BEGIN:DAYLIGHT
TZOFFSETFROM:-0800
TZOFFSETTO:-0700
TZNAME:PDT
DTSTART:20270314T100000
END:DAYLIGHT
BEGIN:STANDARD
TZOFFSETFROM:-0700
TZOFFSETTO:-0800
TZNAME:PST
DTSTART:20271107T090000
END:STANDARD
END:VTIMEZONE
BEGIN:VEVENT
DTSTART;VALUE=DATE:20261023
DTEND;VALUE=DATE:20261027
DTSTAMP:20260420T213734
CREATED:20260203T233709Z
LAST-MODIFIED:20260203T234117Z
UID:30357-1792713600-1793059199@aiamontereybay.org
SUMMARY:Monterey Design Conference
DESCRIPTION:Monterey Design Conference\nSet Aside the Dates\, October 23 – 25\, 2026. \nHear from acclaimed speakers with talks you’ll never forget\, enjoy the naturally-lit Merrill Hall\, the informal encounters on the grounds\, the dinners all-together\, the comradery and refreshments on the deck of the lodge– reasons why people return year after year. Registration opens in March.
URL:https://aiamontereybay.org/event/monterey-design-conference-4/
LOCATION:Asilomar Conference Grounds\, 800 Asilomar Blvd\, Pacific Grove\, CA\, United States
CATEGORIES:Outside Event
ATTACH;FMTTYPE=image/jpeg:https://aiamontereybay.org/wp-content/uploads/2026/02/Design-Conference.jpg
END:VEVENT
END:VCALENDAR