BEGIN:VCALENDAR
VERSION:2.0
PRODID:-//AIA Monterey Bay - ECPv6.15.20//NONSGML v1.0//EN
CALSCALE:GREGORIAN
METHOD:PUBLISH
X-ORIGINAL-URL:https://aiamontereybay.org
X-WR-CALDESC:Events for AIA Monterey Bay
REFRESH-INTERVAL;VALUE=DURATION:PT1H
X-Robots-Tag:noindex
X-PUBLISHED-TTL:PT1H
BEGIN:VTIMEZONE
TZID:America/Los_Angeles
BEGIN:DAYLIGHT
TZOFFSETFROM:-0800
TZOFFSETTO:-0700
TZNAME:PDT
DTSTART:20170312T100000
END:DAYLIGHT
BEGIN:STANDARD
TZOFFSETFROM:-0700
TZOFFSETTO:-0800
TZNAME:PST
DTSTART:20171105T090000
END:STANDARD
BEGIN:DAYLIGHT
TZOFFSETFROM:-0800
TZOFFSETTO:-0700
TZNAME:PDT
DTSTART:20180311T100000
END:DAYLIGHT
BEGIN:STANDARD
TZOFFSETFROM:-0700
TZOFFSETTO:-0800
TZNAME:PST
DTSTART:20181104T090000
END:STANDARD
BEGIN:DAYLIGHT
TZOFFSETFROM:-0800
TZOFFSETTO:-0700
TZNAME:PDT
DTSTART:20190310T100000
END:DAYLIGHT
BEGIN:STANDARD
TZOFFSETFROM:-0700
TZOFFSETTO:-0800
TZNAME:PST
DTSTART:20191103T090000
END:STANDARD
BEGIN:DAYLIGHT
TZOFFSETFROM:-0800
TZOFFSETTO:-0700
TZNAME:PDT
DTSTART:20200308T100000
END:DAYLIGHT
BEGIN:STANDARD
TZOFFSETFROM:-0700
TZOFFSETTO:-0800
TZNAME:PST
DTSTART:20201101T090000
END:STANDARD
END:VTIMEZONE
BEGIN:VTIMEZONE
TZID:UTC
BEGIN:STANDARD
TZOFFSETFROM:+0000
TZOFFSETTO:+0000
TZNAME:UTC
DTSTART:20160101T000000
END:STANDARD
END:VTIMEZONE
BEGIN:VEVENT
DTSTART;TZID=America/Los_Angeles:20190416T120000
DTEND;TZID=America/Los_Angeles:20190416T130000
DTSTAMP:20260420T215916
CREATED:20190129T232653Z
LAST-MODIFIED:20190129T232653Z
UID:2452-1555416000-1555419600@aiamontereybay.org
SUMMARY:Demystifying Resins:  An Architects Guide to Designing with Resins
DESCRIPTION:WITH 3 FORM       AIA  1 HSW/CEU              IDCED   0.1 CEU                USGBC  1 GBCI  CE Hour        \n   ** LEED Professional must self report \nDescription: A guide that provides important background and details on selecting the right translucent polymer material for architectural\n design products. \nSEE FLYER DETAILS \n  \n 
URL:https://aiamontereybay.org/event/demystifying-resins-an-architects-guide-to-designing-with-resins/
CATEGORIES:Lunch & Learn
ATTACH;FMTTYPE=:
END:VEVENT
BEGIN:VEVENT
DTSTART;TZID=America/Los_Angeles:20190312T120000
DTEND;TZID=America/Los_Angeles:20190312T130000
DTSTAMP:20260420T215916
CREATED:20190123T010257Z
LAST-MODIFIED:20190123T010257Z
UID:2442-1552392000-1552395600@aiamontereybay.org
SUMMARY:“Porcelain Cladding and Slabs”
DESCRIPTION:Education AIAMB Sponsored Lunch & Learn\nWith Robbie Robinson of Carmel Stone Imports\nLearn about Revolutionary New 12MM & 20MM Porcelain Slabs that can duplicate any Natural Stone including Marbles; but are completely impervious to Staining\, Heat and can be used in any Exterior or Interior applications. \n  Highlighted: \n\nSizes & Thickness\nAvailable Textures\nUsage\nAdvantages\nSurfaces & Applications\nTechnical Information.\nView  full sized Slabs in many colors that members can view and inspect.
URL:https://aiamontereybay.org/event/porcelain-cladding-and-slabs/
CATEGORIES:Lunch & Learn
ATTACH;FMTTYPE=:
END:VEVENT
BEGIN:VEVENT
DTSTART;TZID=America/Los_Angeles:20190130T120000
DTEND;TZID=America/Los_Angeles:20190130T130000
DTSTAMP:20260420T215916
CREATED:20190107T200403Z
LAST-MODIFIED:20190107T200403Z
UID:2401-1548849600-1548853200@aiamontereybay.org
SUMMARY:Understanding Poly-Ash Trim & the other categories of the exterior trim market
DESCRIPTION:Lunch and Learn       1 HSW CEU      NOON TURN 12\, 400 Tyler St. Monterey \nJoin Tim McCoy Technical Installation Rep for Boaral discussing POLY-ASH SIDING \n·       An examination of the new Poly-Ash category of exterior trim products as it relates to other types of trim \n·       Key applications and installation guidelines \n·       Attributes of each exterior trim category \n·       Sustainable advantages of poly-ash trim products
URL:https://aiamontereybay.org/event/understanding-poly-ash-trim-the-other-categories-of-the-exterior-trim-market/
CATEGORIES:Lunch & Learn
ATTACH;FMTTYPE=:
END:VEVENT
BEGIN:VEVENT
DTSTART;TZID=America/Los_Angeles:20180816T120000
DTEND;TZID=America/Los_Angeles:20180816T130000
DTSTAMP:20260420T215917
CREATED:20180405T221810Z
LAST-MODIFIED:20180405T221810Z
UID:2120-1534420800-1534424400@aiamontereybay.org
SUMMARY:Light Color Health and Architectural Lighting
DESCRIPTION:With USAI Lighting \nhttp://www.usailighting.com/ \nCourse Description \nArchitectural Lighting:  Light is used to highlight the aesthetics of a space with care given to visual comfort and visual performance needs.  Light also affects human health.  It is a stimulus for regulating circadian rhythms\, behavior\, and other health functions.  This course details the growing body of research connecting light\, the receptors in our eye (the non-visual system) to many health functions.  These human health aspects include circadian regulation\, melatonin production\, and neurotransmitter functions in the brain. \nAs lighting technology improves (with color temperature control\, for example) and as the understanding of light and health improves\, this will have a profound effect on architectural lighting design.  This course will show recent beta-test lighting projects promoting “human centric” lighting\, as well as recent lighting projects where color control was used for promoting health\, behavior\, or productivity. \nLOCATION: THE GRILLE at Calvary 3001 Monterey/Salinas Hwy. Monterey\, CA 93940 \nSEE EVENT FLYER
URL:https://aiamontereybay.org/event/light-color-health-and-architectural-lighting/
CATEGORIES:Lunch & Learn
ATTACH;FMTTYPE=:
END:VEVENT
BEGIN:VEVENT
DTSTART;TZID=UTC:20170418T120000
DTEND;TZID=UTC:20170418T130000
DTSTAMP:20260420T215917
CREATED:20170330T062753Z
LAST-MODIFIED:20170330T062753Z
UID:1048-1492516800-1492520400@aiamontereybay.org
SUMMARY:Lunch and Learn with Rockfon Suspended Ceilings & Acoustical Solutions
DESCRIPTION:
URL:https://aiamontereybay.org/event/lunch-and-learn-with-rockfon-suspended-ceilings-acoustical-solutions/
CATEGORIES:Lunch & Learn
END:VEVENT
END:VCALENDAR