BEGIN:VCALENDAR
VERSION:2.0
PRODID:-//AIA Monterey Bay - ECPv6.15.20//NONSGML v1.0//EN
CALSCALE:GREGORIAN
METHOD:PUBLISH
X-ORIGINAL-URL:https://aiamontereybay.org
X-WR-CALDESC:Events for AIA Monterey Bay
REFRESH-INTERVAL;VALUE=DURATION:PT1H
X-Robots-Tag:noindex
X-PUBLISHED-TTL:PT1H
BEGIN:VTIMEZONE
TZID:America/Los_Angeles
BEGIN:DAYLIGHT
TZOFFSETFROM:-0800
TZOFFSETTO:-0700
TZNAME:PDT
DTSTART:20160313T100000
END:DAYLIGHT
BEGIN:STANDARD
TZOFFSETFROM:-0700
TZOFFSETTO:-0800
TZNAME:PST
DTSTART:20161106T090000
END:STANDARD
BEGIN:DAYLIGHT
TZOFFSETFROM:-0800
TZOFFSETTO:-0700
TZNAME:PDT
DTSTART:20170312T100000
END:DAYLIGHT
BEGIN:STANDARD
TZOFFSETFROM:-0700
TZOFFSETTO:-0800
TZNAME:PST
DTSTART:20171105T090000
END:STANDARD
BEGIN:DAYLIGHT
TZOFFSETFROM:-0800
TZOFFSETTO:-0700
TZNAME:PDT
DTSTART:20180311T100000
END:DAYLIGHT
BEGIN:STANDARD
TZOFFSETFROM:-0700
TZOFFSETTO:-0800
TZNAME:PST
DTSTART:20181104T090000
END:STANDARD
END:VTIMEZONE
BEGIN:VTIMEZONE
TZID:UTC
BEGIN:STANDARD
TZOFFSETFROM:+0000
TZOFFSETTO:+0000
TZNAME:UTC
DTSTART:20160101T000000
END:STANDARD
END:VTIMEZONE
BEGIN:VEVENT
DTSTART;TZID=America/Los_Angeles:20170803T000000
DTEND;TZID=America/Los_Angeles:20170803T000000
DTSTAMP:20260420T234956
CREATED:20170613T003508Z
LAST-MODIFIED:20170613T003508Z
UID:1536-1501718400-1501718400@aiamontereybay.org
SUMMARY:Julia Morgan Alliance
DESCRIPTION:
URL:https://aiamontereybay.org/event/julia-morgan-alliance/
CATEGORIES:Julia Morgan Alliance
ATTACH;FMTTYPE=:
END:VEVENT
BEGIN:VEVENT
DTSTART;VALUE=DATE:20170417
DTEND;VALUE=DATE:20170418
DTSTAMP:20260420T234956
CREATED:20170330T061920Z
LAST-MODIFIED:20170330T061920Z
UID:1045-1492387200-1492473599@aiamontereybay.org
SUMMARY:Julia Morgan Alliance\, The Mad Hatter's Monday
DESCRIPTION:
URL:https://aiamontereybay.org/event/julia-morgan-alliance-the-mad-hatters-monday/
CATEGORIES:Julia Morgan Alliance
END:VEVENT
BEGIN:VEVENT
DTSTART;VALUE=DATE:20170404
DTEND;VALUE=DATE:20170405
DTSTAMP:20260420T234956
CREATED:20170407T030447Z
LAST-MODIFIED:20170407T030447Z
UID:1265-1491264000-1491350399@aiamontereybay.org
SUMMARY:Julia Morgan Alliance Meeting
DESCRIPTION:
URL:https://aiamontereybay.org/event/julia-morgan-alliance-meeting/
CATEGORIES:Julia Morgan Alliance,Member Groups
END:VEVENT
END:VCALENDAR