BEGIN:VCALENDAR
VERSION:2.0
PRODID:-//AIA Monterey Bay - ECPv6.15.20//NONSGML v1.0//EN
CALSCALE:GREGORIAN
METHOD:PUBLISH
X-WR-CALNAME:AIA Monterey Bay
X-ORIGINAL-URL:https://aiamontereybay.org
X-WR-CALDESC:Events for AIA Monterey Bay
REFRESH-INTERVAL;VALUE=DURATION:PT1H
X-Robots-Tag:noindex
X-PUBLISHED-TTL:PT1H
BEGIN:VTIMEZONE
TZID:America/Los_Angeles
BEGIN:DAYLIGHT
TZOFFSETFROM:-0800
TZOFFSETTO:-0700
TZNAME:PDT
DTSTART:20190310T100000
END:DAYLIGHT
BEGIN:STANDARD
TZOFFSETFROM:-0700
TZOFFSETTO:-0800
TZNAME:PST
DTSTART:20191103T090000
END:STANDARD
BEGIN:DAYLIGHT
TZOFFSETFROM:-0800
TZOFFSETTO:-0700
TZNAME:PDT
DTSTART:20200308T100000
END:DAYLIGHT
BEGIN:STANDARD
TZOFFSETFROM:-0700
TZOFFSETTO:-0800
TZNAME:PST
DTSTART:20201101T090000
END:STANDARD
BEGIN:DAYLIGHT
TZOFFSETFROM:-0800
TZOFFSETTO:-0700
TZNAME:PDT
DTSTART:20210314T100000
END:DAYLIGHT
BEGIN:STANDARD
TZOFFSETFROM:-0700
TZOFFSETTO:-0800
TZNAME:PST
DTSTART:20211107T090000
END:STANDARD
BEGIN:DAYLIGHT
TZOFFSETFROM:-0800
TZOFFSETTO:-0700
TZNAME:PDT
DTSTART:20220313T100000
END:DAYLIGHT
BEGIN:STANDARD
TZOFFSETFROM:-0700
TZOFFSETTO:-0800
TZNAME:PST
DTSTART:20221106T090000
END:STANDARD
BEGIN:DAYLIGHT
TZOFFSETFROM:-0800
TZOFFSETTO:-0700
TZNAME:PDT
DTSTART:20230312T100000
END:DAYLIGHT
BEGIN:STANDARD
TZOFFSETFROM:-0700
TZOFFSETTO:-0800
TZNAME:PST
DTSTART:20231105T090000
END:STANDARD
END:VTIMEZONE
BEGIN:VEVENT
DTSTART;TZID=America/Los_Angeles:20220217T113000
DTEND;TZID=America/Los_Angeles:20220217T123000
DTSTAMP:20260420T134751
CREATED:20220214T143952Z
LAST-MODIFIED:20220214T143952Z
UID:27668-1645097400-1645101000@aiamontereybay.org
SUMMARY:Webinar: California Architect's Role in Climate Resiliency
DESCRIPTION:California Architect’s Role in Climate Resiliency\nBrought to you by AIA CA Climate Action Resilient Design Committee and Urban Design Committee\n \nModerator:\nTian Feng FAIA FCSI | President CAB | District Architect SF Bay Area Rapid Transit District\n \nSpeakers:\nNuin-Tara Key | Deputy Director\, Governor’s Climate Office of Planning and Research\nSteve Winkle\, FAIA PE CASp | Partner\, The PREVIEW GROUP\, Inc.\nMatthijs Bouw | Founding Principal\, One Architecture\n \nDescription:\nSince 1857 the AIA has been at the forefront of the built environment\, and since 1967\, AIA California has been supporting local and regional planning through its Region / Urban Design Assistance Teams in California\, as well as across the nation to help create communities that are healthy\, safe\, livable\, and more resilient.\n \nCalifornia has been experiencing intensified impact from climate changes to our buildings and communities. As result\, there will be both challenges and opportunities for California architects in many ways: design process\, stakeholder engagement\, code and regulations\, standard of care\, and design liabilities.\n \nThis Townhall will gather practicing architects specializing in resilient design and government policy makers to discuss the roles of California architects can play in advancing California’s ability to adapt\, sustain\, and thrive in changing climate. The focus of the discussion of this Townhall will be on innovation of design approach and codification of best practices in resilient design for wildfires\, flooding\, and sea level rise. There will be thought provoking dialogues on how California architects can respond and lead the evolving practice of architecture for climate resiliency.\n \nClick Here To Register\n \nMore information and additional resources can be found here: https://aiacalifornia.org/
URL:https://aiamontereybay.org/event/webinar-california-architects-role-in-climate-resiliency/
CATEGORIES:COTE
ATTACH;FMTTYPE=image/png:https://aiamontereybay.org/wp-content/uploads/2022/02/unnamed-4.png
END:VEVENT
BEGIN:VEVENT
DTSTART;TZID=America/Los_Angeles:20210618T120000
DTEND;TZID=America/Los_Angeles:20210618T133000
DTSTAMP:20260420T134751
CREATED:20210530T164837Z
LAST-MODIFIED:20210530T164837Z
UID:27396-1624017600-1624023000@aiamontereybay.org
SUMMARY:Green Specs: The Why\, The How\, Do It Now
DESCRIPTION:Date: Friday\, June 18\, 2021\nWebinar: 12:00 – 1:30 p.m.\nLearning Units: 1.25 AIA LU | HSW \nDescription: This webinar will discuss the importance of green products and what components in a material qualify it as an Environmentally-preferable product (EPP)\, and how to go about integrating these products into the Architectural Specifications. The discussion will be lead by Ann Hicks Harney\, a specification writer with 30 years of experience\, and a pioneer in this area of design and construction. \nCost: Free to AIA Monterey Bay and AIA San Francisco Members\,\nAssociates\, Allies\, and Students; $15 Non-Members
URL:https://aiamontereybay.org/event/green-specs-the-why-the-how-do-it-now/
CATEGORIES:COTE,Lunch & Learn,WEBINAR
ATTACH;FMTTYPE=image/jpeg:https://aiamontereybay.org/wp-content/uploads/2021/05/unnamed-3.jpg
END:VEVENT
BEGIN:VEVENT
DTSTART;TZID=America/Los_Angeles:20210521T120000
DTEND;TZID=America/Los_Angeles:20210521T133000
DTSTAMP:20260420T134751
CREATED:20210517T133636Z
LAST-MODIFIED:20210517T133636Z
UID:27363-1621598400-1621603800@aiamontereybay.org
SUMMARY:Green Specs Division 1: Construction Waste Management\, Reducing Waste at Every Step
DESCRIPTION:COTE Course Presented by AIA MB\nGreen Specs Division 1: Construction Waste Management\,\nReducing Waste at Every Step\n(while improving collaboration between architect\, contractor and waste facility) \nDate: Friday\, May 21\, 2021\nTime: 12:00 to 1:30 P.M.\nCredits: 1.5 AIA LU\nZoom Webinar \nDescription\nConstruction waste makes up one-third of the total refuse nationwide in the US. Demolition represents more than 90 percent of total C&D debris generation\, while construction represents less than 10 percent. \nSuch statistics makes it clear it is important to make better use of debris and existing building materials to make substantial changes in our landfills. This webinar will be a 3 person panel discussion between architects (participants) moderated by Libby Barnes\, AIA\, Tim Flanagan the General Manager of the Monterey Regional Waste Management District and John Teliha of Otto Construction\, located in Monterey CA. \nDiscussion will be focused on ways to reduce construction waste starting with the design phase through the end of construction and how these practices improve the environment and create cost benefits.
URL:https://aiamontereybay.org/event/green-specs-division-1-construction-waste-management-reducing-waste-at-every-step/
CATEGORIES:COTE,Lunch & Learn,WEBINAR
ATTACH;FMTTYPE=image/png:https://aiamontereybay.org/wp-content/uploads/2021/01/aiamb-colorlogo-2021.png
END:VEVENT
BEGIN:VEVENT
DTSTART;TZID=America/Los_Angeles:20201009T120000
DTEND;TZID=America/Los_Angeles:20201009T130000
DTSTAMP:20260420T134751
CREATED:20200923T162651Z
LAST-MODIFIED:20200923T162651Z
UID:3571-1602244800-1602248400@aiamontereybay.org
SUMMARY:AIR: De-Carbonization for a Cleaner Future
DESCRIPTION:AIR: De-Carbonization for a Cleaner Future\n \nHSW: 1.5 \n\n\n\n\n\n\n\n\n\n\n\nJoin Libby Barnes AIAMB COTE Chair with guest speaker Barry Giles of the NetZero Existing Buildings Company who will speak on de-carbonization and the healthy outdoor and indoor air benefits from moving away from fossil fuels in the building industry.\n\nLearn about building de-carbonization and how we can remove carbon impacts through design and policy.\nCalifornia/ Bay Area initiatives that are working towards de-carbonization/electrification through alternative energy sources.\nLearn how we can retrofit existing buildings to remove operational fossil fuels with alternative forms of energy: How we can influence local municipalities to develop and support strong policies to reduce building emissions. What are the benefits and challenges? Learn about reach codes and how we as architects can push for these regarding de-carbonization in our local building codes.\n\n\n\n\n\n\n\n\n\n\n\n\n\n\n\n\n\n\n\n\n\n\n\n\nRegister in advance for this meeting:\n\nhttps://us02web.zoom.us/meeting/register/tZ0scemtpjstGdbr2xiU_RGe1bEP7O8XY6w5\n\nAfter registering\, you will receive a confirmation email containing information about joining the meeting.
URL:https://aiamontereybay.org/event/air-de-carbonization-for-a-cleaner-future/
CATEGORIES:COTE
END:VEVENT
BEGIN:VEVENT
DTSTART;TZID=America/Los_Angeles:20200924T120000
DTEND;TZID=America/Los_Angeles:20200924T130000
DTSTAMP:20260420T134751
CREATED:20200923T161824Z
LAST-MODIFIED:20200923T161824Z
UID:3564-1600948800-1600952400@aiamontereybay.org
SUMMARY:Design for Well-being
DESCRIPTION:September Climate Action Webinar is on Design for Well-being\nAIA CA hosted webinar registration link:\nhttps://us02web.zoom.us/webinar/register/WN_3A75EZLrSlalcAdx3mZrhA \nHSW LUs: 1 hour \nNon members are also welcome to participate\, just put N/A in the field asking for AIA #.
URL:https://aiamontereybay.org/event/design-for-well-being/
CATEGORIES:COTE
END:VEVENT
BEGIN:VEVENT
DTSTART;TZID=America/Los_Angeles:20200807T120000
DTEND;TZID=America/Los_Angeles:20200807T133000
DTSTAMP:20260420T134751
CREATED:20200804T155812Z
LAST-MODIFIED:20200804T155812Z
UID:3472-1596801600-1596807000@aiamontereybay.org
SUMMARY:Designing for FIRE\, above and beyond the code
DESCRIPTION:The severity of wildfires in California and throughout the west will continue to increase in intensity and occurrence\, leading to the need for every project team to consider how this could affect a given property and how to design for those factors\, without sacrificing the quality of the design\, habitat and the program. \n1.5 HSW/LU’S \nSpeakers: \n\nMarie Goulet\, LA of Wild Land Workshop\nSeth Parker\, Pacific Fire Management\nKatherine Spitz\, AIAMB\, ASLA\nLibby Barnes\, AIAMB COTE Chair – MODERATOR\n\nFriday\, August 7th Noon – 1:30 \n \nPlease click here to join: Passcode: 423927 \nTopics Covered: \n\nUnderstand the basic requirements for creating and maintaining defensible space\, including specific requirements for common plant communities and topographic conditions in Monterey County.\nLearn how to assess the risk of wildfire during site analysis phase of a project. Using this information\, learn how to incorporate design elements that reduce fire potential while creating beautiful and resilient site specific gardens for outdoor living.\nLiving with Fire: Learn about the home ignition zone and structural hardening.\nLearn how to protect structures built in or near wildfire prone areas with external fire suppression systems\, for commercial and residential applications.
URL:https://aiamontereybay.org/event/designing-for-fire-above-and-beyond-the-code-2/
CATEGORIES:COTE
END:VEVENT
BEGIN:VEVENT
DTSTART;TZID=America/Los_Angeles:20200520T120000
DTEND;TZID=America/Los_Angeles:20200520T130000
DTSTAMP:20260420T134751
CREATED:20200506T214344Z
LAST-MODIFIED:20200506T214344Z
UID:3374-1589976000-1589979600@aiamontereybay.org
SUMMARY:CLIMATE ACTION -CHANGE
DESCRIPTION:Register here\n\nSpeaker: Wade Killefer\, FAIA | Partner\, KFA\n\n\nDesign is not just about aesthetic components\, but how buildings perform for people. Join us on a live webinar where we explore the benefits of one of the AIA Framework for Design Excellence measures\, Designing for Change. Reuse\, adaptability\, and resilience are essential to sustainable design\, which seeks to maintain and enhance usability\, functionality\, and value over time. Wade Killefer\, FAIA\, a founding partner at Killefer Flammang Architects\, will explore the design process and showcase the sustainable benefits of adaptive reuse versus building brand new. Additionally\, by using case studies of both historic and non-historic projects\, Wade will showcase how reuse\, adaptability\, and resilience are essential to sustainable design.\n\nEarn 1 LU | HSW for attending\n\nMore information and additional resources can be found here: https://aiacalifornia.org/climate-action-change/
URL:https://aiamontereybay.org/event/climate-action-change/
CATEGORIES:COTE,WEBINAR
ATTACH;FMTTYPE=:
END:VEVENT
BEGIN:VEVENT
DTSTART;TZID=America/Los_Angeles:20200423T120000
DTEND;TZID=America/Los_Angeles:20200423T130000
DTSTAMP:20260420T134751
CREATED:20200404T204141Z
LAST-MODIFIED:20200404T204141Z
UID:3270-1587643200-1587646800@aiamontereybay.org
SUMMARY:WEBINAR: Climate Action – Energy
DESCRIPTION:“What is the idea behind this project – and how did the approach toward sustainability inform the design concept?” AIA Framework for Design Excellence\n\nWebinar Presented By: SmithGroup \nPROGRAM DESCRIPTION \nDesign for Energy | AIA CA Climate Action Webinar Series \nSpeaker: Stet Sanborn\, AIA | Principal\, Engineering Discipline Lead\, SmithGroup \nDate: April 23\, 2020 \nPresentation: 12:00 to 1:00PM \nLearning Units: 1 LU | HSW for attending \nLocation: WEBINAR \nCost: \nREGISTER HERE\n  \n\n\n\nAdditional Resources\n\n\nAIA National: Design for Energy\nEnergy Code Ace: 2019 Building Energy Efficiency Stands\, Reference Ace Tool\nAIA National: Architect’s guide to integrating energy modeling in the design process\nEnergy Code Ace: Don’t gamble on Title 24\, Part 6 and Title 20 compliance\nArchitect Magazine: Zero Net Energy Articles\nUCLA Climate Consultant Download Page\nSix Metrics Every Architects Should Know and How to Use Them\n\n\nCase Studies\n\n\nHow a Building Code Could Help Building Achieve Zero Carbon\, Ithaca\, New York\nVerified ZNE Building CASE Study: 435 Indio Way\, Huettig & Schromm\, Inc.\, SHARP Development Company\, Sunnyvale\, California\nWest Branch of the Berkeley Public Library\, Harley Ellis Devereaux\, Berkeley\, California
URL:https://aiamontereybay.org/event/webinar-climate-action-energy/
CATEGORIES:COTE
END:VEVENT
END:VCALENDAR