BEGIN:VCALENDAR
VERSION:2.0
PRODID:-//AIA Monterey Bay - ECPv6.15.20//NONSGML v1.0//EN
CALSCALE:GREGORIAN
METHOD:PUBLISH
X-WR-CALNAME:AIA Monterey Bay
X-ORIGINAL-URL:https://aiamontereybay.org
X-WR-CALDESC:Events for AIA Monterey Bay
REFRESH-INTERVAL;VALUE=DURATION:PT1H
X-Robots-Tag:noindex
X-PUBLISHED-TTL:PT1H
BEGIN:VTIMEZONE
TZID:America/Los_Angeles
BEGIN:DAYLIGHT
TZOFFSETFROM:-0800
TZOFFSETTO:-0700
TZNAME:PDT
DTSTART:20240310T100000
END:DAYLIGHT
BEGIN:STANDARD
TZOFFSETFROM:-0700
TZOFFSETTO:-0800
TZNAME:PST
DTSTART:20241103T090000
END:STANDARD
BEGIN:DAYLIGHT
TZOFFSETFROM:-0800
TZOFFSETTO:-0700
TZNAME:PDT
DTSTART:20250309T100000
END:DAYLIGHT
BEGIN:STANDARD
TZOFFSETFROM:-0700
TZOFFSETTO:-0800
TZNAME:PST
DTSTART:20251102T090000
END:STANDARD
BEGIN:DAYLIGHT
TZOFFSETFROM:-0800
TZOFFSETTO:-0700
TZNAME:PDT
DTSTART:20260308T100000
END:DAYLIGHT
BEGIN:STANDARD
TZOFFSETFROM:-0700
TZOFFSETTO:-0800
TZNAME:PST
DTSTART:20261101T090000
END:STANDARD
END:VTIMEZONE
BEGIN:VEVENT
DTSTART;TZID=America/Los_Angeles:20250730T120000
DTEND;TZID=America/Los_Angeles:20250730T130000
DTSTAMP:20260421T015908
CREATED:20250716T222506Z
LAST-MODIFIED:20250716T222506Z
UID:30082-1753876800-1753880400@aiamontereybay.org
SUMMARY:Rain to Resource: Residential Catchment Made Easy
DESCRIPTION:The AIA Monterey Bay COTE Committee Presents \nRain to Resource: Residential Catchment Made Easy \nWebinar Date & Time: Wednesday July 30\, 12:00 -1:00 p.m.\nCE Units: 1 LU\nCost: Free for AIA Members and Sponsors\, $25 for Nonmembers\nPresenter: American Rainwater Catchment Systems Association \nThis talk will focus on single family to mid-sized multifamily projects on the various rainwater catchment systems\, their environmental and financial benefits\, as well as codes and standards for such systems. The American Rainwater Catchment Systems Association (ARCSA) is a grass-roots\, membership-based organization with access to leading news and advancements in rainwater catchment technology. ARCSA is dedicated to promoting sustainable water management practices for all types of organizations and building professionals. \nClick here to register.
URL:https://www.eventbrite.com/e/rain-to-resource-residential-catchment-made-easy-tickets-1485359513289?aff=oddtdtcreator#new_tab
LOCATION:Online Event
CATEGORIES:COTE
ATTACH;FMTTYPE=image/jpeg:https://aiamontereybay.org/wp-content/uploads/2025/07/Rain-to-Resources.jpg
END:VEVENT
END:VCALENDAR