BEGIN:VCALENDAR
VERSION:2.0
PRODID:-//AIA Monterey Bay - ECPv6.15.20//NONSGML v1.0//EN
CALSCALE:GREGORIAN
METHOD:PUBLISH
X-ORIGINAL-URL:https://aiamontereybay.org
X-WR-CALDESC:Events for AIA Monterey Bay
REFRESH-INTERVAL;VALUE=DURATION:PT1H
X-Robots-Tag:noindex
X-PUBLISHED-TTL:PT1H
BEGIN:VTIMEZONE
TZID:America/Los_Angeles
BEGIN:DAYLIGHT
TZOFFSETFROM:-0800
TZOFFSETTO:-0700
TZNAME:PDT
DTSTART:20240310T100000
END:DAYLIGHT
BEGIN:STANDARD
TZOFFSETFROM:-0700
TZOFFSETTO:-0800
TZNAME:PST
DTSTART:20241103T090000
END:STANDARD
BEGIN:DAYLIGHT
TZOFFSETFROM:-0800
TZOFFSETTO:-0700
TZNAME:PDT
DTSTART:20250309T100000
END:DAYLIGHT
BEGIN:STANDARD
TZOFFSETFROM:-0700
TZOFFSETTO:-0800
TZNAME:PST
DTSTART:20251102T090000
END:STANDARD
BEGIN:DAYLIGHT
TZOFFSETFROM:-0800
TZOFFSETTO:-0700
TZNAME:PDT
DTSTART:20260308T100000
END:DAYLIGHT
BEGIN:STANDARD
TZOFFSETFROM:-0700
TZOFFSETTO:-0800
TZNAME:PST
DTSTART:20261101T090000
END:STANDARD
END:VTIMEZONE
BEGIN:VEVENT
DTSTART;TZID=America/Los_Angeles:20250529T120000
DTEND;TZID=America/Los_Angeles:20250529T130000
DTSTAMP:20260421T051906
CREATED:20250523T215648Z
LAST-MODIFIED:20250523T215732Z
UID:29952-1748520000-1748523600@aiamontereybay.org
SUMMARY:Powering the Future: All-Electric Solutions for New Homes and Renovations
DESCRIPTION:AIA Monterey Bay’s COTE Committee Presents\nPowering the Future: All-Electric Solutions for New Homes and Renovations \nWebinar: May 29\, 12:00 to 1:00 p.m.\nCE Units: 1 LU|HSW\nCost: $10 for AIA Members\, students and sponsors; $25 for the general public \nPresenter: Katy Hollbacher\, P.E.\, – Founder + Principal\, Beyond Efficiency\nEmbrace the benefits of going all-electric by joining the AIA MB COTE Committee for an insightful presentation and discussion on all-electric solutions for residential projects. We’ll explain the “house-as-a-system” concept and show how various building features contribute to total energy use\, providing context for better informed design decisions. We’ll also demystify Title 24 energy code electrification requirements and delve into practical and constructible envelope\, HVAC and DHW solutions that prioritize energy efficiency\, occupant comfort\, and a fossil fuel-free future. \nRegister here
URL:https://aiamontereybay.org/event/29952/
LOCATION:Online Event
CATEGORIES:COTE
ATTACH;FMTTYPE=image/png:https://aiamontereybay.org/wp-content/uploads/2025/05/Powering-future.png
END:VEVENT
END:VCALENDAR