BEGIN:VCALENDAR
VERSION:2.0
PRODID:-//AIA Monterey Bay - ECPv6.15.20//NONSGML v1.0//EN
CALSCALE:GREGORIAN
METHOD:PUBLISH
X-WR-CALNAME:AIA Monterey Bay
X-ORIGINAL-URL:https://aiamontereybay.org
X-WR-CALDESC:Events for AIA Monterey Bay
REFRESH-INTERVAL;VALUE=DURATION:PT1H
X-Robots-Tag:noindex
X-PUBLISHED-TTL:PT1H
BEGIN:VTIMEZONE
TZID:America/Los_Angeles
BEGIN:DAYLIGHT
TZOFFSETFROM:-0800
TZOFFSETTO:-0700
TZNAME:PDT
DTSTART:20230312T100000
END:DAYLIGHT
BEGIN:STANDARD
TZOFFSETFROM:-0700
TZOFFSETTO:-0800
TZNAME:PST
DTSTART:20231105T090000
END:STANDARD
BEGIN:DAYLIGHT
TZOFFSETFROM:-0800
TZOFFSETTO:-0700
TZNAME:PDT
DTSTART:20240310T100000
END:DAYLIGHT
BEGIN:STANDARD
TZOFFSETFROM:-0700
TZOFFSETTO:-0800
TZNAME:PST
DTSTART:20241103T090000
END:STANDARD
BEGIN:DAYLIGHT
TZOFFSETFROM:-0800
TZOFFSETTO:-0700
TZNAME:PDT
DTSTART:20250309T100000
END:DAYLIGHT
BEGIN:STANDARD
TZOFFSETFROM:-0700
TZOFFSETTO:-0800
TZNAME:PST
DTSTART:20251102T090000
END:STANDARD
END:VTIMEZONE
BEGIN:VEVENT
DTSTART;TZID=America/Los_Angeles:20241026T120000
DTEND;TZID=America/Los_Angeles:20241026T133000
DTSTAMP:20260421T231517
CREATED:20240916T211352Z
LAST-MODIFIED:20240916T211352Z
UID:29680-1729944000-1729949400@aiamontereybay.org
SUMMARY:Architecture by the Book
DESCRIPTION:Sign your child up for Architecture by the Book\, an exciting new architectural education program from the California Architectural Foundation (CAF). CAF is excited to be partnering with AIA Monterey Bay at the AIA CA Monterey Design Conference (MDC) to provide a special children’s program focusing on architect Julia Morgan\, FAIA. Attendees will explore her work through a book reading\, hands-on activities\, and engaging presentation led by Polly Osborne\, FAIA and a team of volunteers. All ages are welcome\, and the lesson will be tailored to fit the age of the children attending. \nDate: Saturday\, October 26\, 2024\nTime: 12 noon – 1:30 pm\nLocation: Asilomar Conference Grounds 800 Asilomar Blvd\, Pacific Grove\nCheck in at the MDC Registration area.\nCost: FREE\, light refreshments provided \nRegister by clicking here by Oct 14th \nAttendees do not need to be registered for MDC to participate\, but must register via this link to receive a guest badge to enter the grounds.
URL:https://www.eventbrite.com/e/architecture-by-the-book-tickets-1017096822977?aff=oddtdtcreator#new_tab
LOCATION:Asilomar Conference Grounds\, 800 Asilomar Blvd\, Pacific Grove\, CA\, United States
CATEGORIES:Continuing Education
ATTACH;FMTTYPE=image/png:https://aiamontereybay.org/wp-content/uploads/2024/09/image.png
END:VEVENT
END:VCALENDAR