BEGIN:VCALENDAR
VERSION:2.0
PRODID:-//AIA Monterey Bay - ECPv6.15.20//NONSGML v1.0//EN
CALSCALE:GREGORIAN
METHOD:PUBLISH
X-WR-CALNAME:AIA Monterey Bay
X-ORIGINAL-URL:https://aiamontereybay.org
X-WR-CALDESC:Events for AIA Monterey Bay
REFRESH-INTERVAL;VALUE=DURATION:PT1H
X-Robots-Tag:noindex
X-PUBLISHED-TTL:PT1H
BEGIN:VTIMEZONE
TZID:America/Los_Angeles
BEGIN:DAYLIGHT
TZOFFSETFROM:-0800
TZOFFSETTO:-0700
TZNAME:PDT
DTSTART:20230312T100000
END:DAYLIGHT
BEGIN:STANDARD
TZOFFSETFROM:-0700
TZOFFSETTO:-0800
TZNAME:PST
DTSTART:20231105T090000
END:STANDARD
BEGIN:DAYLIGHT
TZOFFSETFROM:-0800
TZOFFSETTO:-0700
TZNAME:PDT
DTSTART:20240310T100000
END:DAYLIGHT
BEGIN:STANDARD
TZOFFSETFROM:-0700
TZOFFSETTO:-0800
TZNAME:PST
DTSTART:20241103T090000
END:STANDARD
BEGIN:DAYLIGHT
TZOFFSETFROM:-0800
TZOFFSETTO:-0700
TZNAME:PDT
DTSTART:20250309T100000
END:DAYLIGHT
BEGIN:STANDARD
TZOFFSETFROM:-0700
TZOFFSETTO:-0800
TZNAME:PST
DTSTART:20251102T090000
END:STANDARD
END:VTIMEZONE
BEGIN:VEVENT
DTSTART;TZID=America/Los_Angeles:20240918T123000
DTEND;TZID=America/Los_Angeles:20240918T133000
DTSTAMP:20260421T190707
CREATED:20240916T211136Z
LAST-MODIFIED:20240916T211136Z
UID:29677-1726662600-1726666200@aiamontereybay.org
SUMMARY:Webinar: Resilience and The Evolving Standard of Care Series: Integrating Resilience Design Into Your Architectural Projects
DESCRIPTION:Webinar: Resilience and The Evolving Standard of Care Series:\nIntegrating Resilience Design Into Your Architectural Projects\nDate & Time: Wednesday\, Sept 18\, 12:00 to 1:30 p.m. \nCost: Free to AIA Members\, $25 for the general public \nCEU: This session qualifies for 1.5 LU/HSW and 1.5 hrs Zero Net Carbon Design Mandatory Continuing Education. (Live webinar attendees only) \nArchitects should be aware of changes in the industry standard of care\, the role of codes and standards\, and how courts view an architect’s responsibility in the context of worsening weather conditions. \nThe AIA + HKS Tool Kit for Integrating Resilient Design into Architectural Projects provides basic components for integrating resilience with sustainability and net zero carbon design within a standard of care for architectural projects. A unique standard of care shapes the delivery of sustainable design and net zero carbon design in architectural projects from concept to completion\, and can also impact risk management and project delivery. Join our panel as they shed let on the standard of care process and how to integrate resilience and sustainability in your projects. \nClick here for more information and to register
URL:https://aiacalifornia.org/event/resilience-and-the-evolving-standard-of-care-series-integrating-resilient-design-into-your-architectural-projects/#new_tab
LOCATION:Online Event
CATEGORIES:CA Climate Action
ATTACH;FMTTYPE=image/jpeg:https://aiamontereybay.org/wp-content/uploads/2024/09/image.jpeg
END:VEVENT
END:VCALENDAR