BEGIN:VCALENDAR
VERSION:2.0
PRODID:-//AIA Monterey Bay - ECPv6.15.20//NONSGML v1.0//EN
CALSCALE:GREGORIAN
METHOD:PUBLISH
X-WR-CALNAME:AIA Monterey Bay
X-ORIGINAL-URL:https://aiamontereybay.org
X-WR-CALDESC:Events for AIA Monterey Bay
REFRESH-INTERVAL;VALUE=DURATION:PT1H
X-Robots-Tag:noindex
X-PUBLISHED-TTL:PT1H
BEGIN:VTIMEZONE
TZID:America/Los_Angeles
BEGIN:DAYLIGHT
TZOFFSETFROM:-0800
TZOFFSETTO:-0700
TZNAME:PDT
DTSTART:20210314T100000
END:DAYLIGHT
BEGIN:STANDARD
TZOFFSETFROM:-0700
TZOFFSETTO:-0800
TZNAME:PST
DTSTART:20211107T090000
END:STANDARD
BEGIN:DAYLIGHT
TZOFFSETFROM:-0800
TZOFFSETTO:-0700
TZNAME:PDT
DTSTART:20220313T100000
END:DAYLIGHT
BEGIN:STANDARD
TZOFFSETFROM:-0700
TZOFFSETTO:-0800
TZNAME:PST
DTSTART:20221106T090000
END:STANDARD
BEGIN:DAYLIGHT
TZOFFSETFROM:-0800
TZOFFSETTO:-0700
TZNAME:PDT
DTSTART:20230312T100000
END:DAYLIGHT
BEGIN:STANDARD
TZOFFSETFROM:-0700
TZOFFSETTO:-0800
TZNAME:PST
DTSTART:20231105T090000
END:STANDARD
END:VTIMEZONE
BEGIN:VEVENT
DTSTART;TZID=America/Los_Angeles:20220927T120000
DTEND;TZID=America/Los_Angeles:20220927T130000
DTSTAMP:20260424T202636
CREATED:20220826T180446Z
LAST-MODIFIED:20220826T180446Z
UID:28133-1664280000-1664283600@aiamontereybay.org
SUMMARY:The Carbon Question – What do interiors have to do with it?
DESCRIPTION:The Carbon Question – What do interiors have to do with it?\nVirtual Event: Tuesday September 27 | 12-1pm PDT \nJoin this presentation to learn how better interior product selection\, from flooring to furniture\, can have major impacts on global warming reduction. Sign up HERE.
URL:https://aiamontereybay.org/event/the-carbon-question-what-do-interiors-have-to-do-with-it/
LOCATION:Online Event
CATEGORIES:CA Climate Action
ATTACH;FMTTYPE=image/png:https://aiamontereybay.org/wp-content/uploads/2022/08/E613BE81DCFF4090A2BCD423D082A562.png
END:VEVENT
END:VCALENDAR