BEGIN:VCALENDAR
VERSION:2.0
PRODID:-//AIA Monterey Bay - ECPv6.15.20//NONSGML v1.0//EN
CALSCALE:GREGORIAN
METHOD:PUBLISH
X-WR-CALNAME:AIA Monterey Bay
X-ORIGINAL-URL:https://aiamontereybay.org
X-WR-CALDESC:Events for AIA Monterey Bay
REFRESH-INTERVAL;VALUE=DURATION:PT1H
X-Robots-Tag:noindex
X-PUBLISHED-TTL:PT1H
BEGIN:VTIMEZONE
TZID:America/Los_Angeles
BEGIN:DAYLIGHT
TZOFFSETFROM:-0800
TZOFFSETTO:-0700
TZNAME:PDT
DTSTART:20210314T100000
END:DAYLIGHT
BEGIN:STANDARD
TZOFFSETFROM:-0700
TZOFFSETTO:-0800
TZNAME:PST
DTSTART:20211107T090000
END:STANDARD
BEGIN:DAYLIGHT
TZOFFSETFROM:-0800
TZOFFSETTO:-0700
TZNAME:PDT
DTSTART:20220313T100000
END:DAYLIGHT
BEGIN:STANDARD
TZOFFSETFROM:-0700
TZOFFSETTO:-0800
TZNAME:PST
DTSTART:20221106T090000
END:STANDARD
BEGIN:DAYLIGHT
TZOFFSETFROM:-0800
TZOFFSETTO:-0700
TZNAME:PDT
DTSTART:20230312T100000
END:DAYLIGHT
BEGIN:STANDARD
TZOFFSETFROM:-0700
TZOFFSETTO:-0800
TZNAME:PST
DTSTART:20231105T090000
END:STANDARD
END:VTIMEZONE
BEGIN:VEVENT
DTSTART;TZID=America/Los_Angeles:20220714T120000
DTEND;TZID=America/Los_Angeles:20220714T130000
DTSTAMP:20260424T163927
CREATED:20220620T044013Z
LAST-MODIFIED:20220620T044013Z
UID:28038-1657800000-1657803600@aiamontereybay.org
SUMMARY:Why Masonry with Basalite Concrete Products?
DESCRIPTION:Live\, Lunch + Learn\nCOTE Presentation\nWhy Masonry with Basalite Concrete Products? \nDate/Time: Thursday\, July 14\, 12:00-1:00 p.m. \nLearning Units: 1 LU | HSW \nLocation: Granitrock Construction Materials\, 1755 Del Monte Boulevard\, Seaside  \nCost: Free for AIA Members & Sponsors\, $15 for the General Public; lunch from Parker Lusseau Pastries is included. \nBasalite is the #1 provider of concrete masonry products for the Northern California market. This presentation focuses on helping you meet embodied carbon and sustainability goals using Concrete Masonry Units (CMU) in your projects. \nCourse Objectives: \n1. Understand how CMU systems will help Architects meet the AIA 2030 challenge while providing sophisticated design options. \n2. Gain knowledge of CMU systems and components including manufacturing processes\, mix designs and embodied carbon reduction strategies in CMU. \n3. Learn the essentials of designing with Concrete Masonry\, including passive design techniques that enhance building energy efficiency and are innate to the Concrete Masonry system \n4. Learn how CMU can contribute to sustainability as it pertains to material efficiency and environmental responsiveness. \nPresenter: Nick Townend\, Basalite Architectural Sales Representative \nRegister here
URL:https://aiamontereybay.org/event/why-masonry-with-basalite-concrete-products/
CATEGORIES:Lunch & Learn
ATTACH;FMTTYPE=image/png:https://aiamontereybay.org/wp-content/uploads/2022/06/Screen-Shot-2022-06-19-at-9.37.49-PM.png
END:VEVENT
END:VCALENDAR