BEGIN:VCALENDAR
VERSION:2.0
PRODID:-//AIA Monterey Bay - ECPv6.15.20//NONSGML v1.0//EN
CALSCALE:GREGORIAN
METHOD:PUBLISH
X-ORIGINAL-URL:https://aiamontereybay.org
X-WR-CALDESC:Events for AIA Monterey Bay
REFRESH-INTERVAL;VALUE=DURATION:PT1H
X-Robots-Tag:noindex
X-PUBLISHED-TTL:PT1H
BEGIN:VTIMEZONE
TZID:America/Los_Angeles
BEGIN:DAYLIGHT
TZOFFSETFROM:-0800
TZOFFSETTO:-0700
TZNAME:PDT
DTSTART:20210314T100000
END:DAYLIGHT
BEGIN:STANDARD
TZOFFSETFROM:-0700
TZOFFSETTO:-0800
TZNAME:PST
DTSTART:20211107T090000
END:STANDARD
BEGIN:DAYLIGHT
TZOFFSETFROM:-0800
TZOFFSETTO:-0700
TZNAME:PDT
DTSTART:20220313T100000
END:DAYLIGHT
BEGIN:STANDARD
TZOFFSETFROM:-0700
TZOFFSETTO:-0800
TZNAME:PST
DTSTART:20221106T090000
END:STANDARD
BEGIN:DAYLIGHT
TZOFFSETFROM:-0800
TZOFFSETTO:-0700
TZNAME:PDT
DTSTART:20230312T100000
END:DAYLIGHT
BEGIN:STANDARD
TZOFFSETFROM:-0700
TZOFFSETTO:-0800
TZNAME:PST
DTSTART:20231105T090000
END:STANDARD
END:VTIMEZONE
BEGIN:VEVENT
DTSTART;TZID=America/Los_Angeles:20220707T120000
DTEND;TZID=America/Los_Angeles:20220707T130000
DTSTAMP:20260424T163935
CREATED:20220620T044503Z
LAST-MODIFIED:20220620T044617Z
UID:28044-1657195200-1657198800@aiamontereybay.org
SUMMARY:AIA CA Statewide Advocacy Update 
DESCRIPTION:AIA CA Statewide Advocacy Update \nDate/Time: Thursday\, July 7\, 12:00-1:00 p.m.\nLearning Units: 1 LU \nWith the California State Legislature in session – Actively considering and voting on legislation – Mark Christian\, Hon. AIA CA and Director of Governmental Relations of AIA California will discuss the current political climate in California and highlight the legislation under consideration that is of interest to the architectural profession. In addition to his presentation\, he will offer an opportunity for a live question and answer session to the audience to gain further insight on specific regions. \nSpeaker: Mark Christian\, Hon. AIA CA\, Director of Government Relations | AIA California \nRegister here
URL:https://aiamontereybay.org/event/aia-ca-statewide-advocacy-update/
CATEGORIES:Lunch & Learn
ATTACH;FMTTYPE=image/png:https://aiamontereybay.org/wp-content/uploads/2022/06/unnamed-8.png
END:VEVENT
END:VCALENDAR