BEGIN:VCALENDAR
VERSION:2.0
PRODID:-//AIA Monterey Bay - ECPv6.15.20//NONSGML v1.0//EN
CALSCALE:GREGORIAN
METHOD:PUBLISH
X-ORIGINAL-URL:https://aiamontereybay.org
X-WR-CALDESC:Events for AIA Monterey Bay
REFRESH-INTERVAL;VALUE=DURATION:PT1H
X-Robots-Tag:noindex
X-PUBLISHED-TTL:PT1H
BEGIN:VTIMEZONE
TZID:America/Los_Angeles
BEGIN:DAYLIGHT
TZOFFSETFROM:-0800
TZOFFSETTO:-0700
TZNAME:PDT
DTSTART:20210314T100000
END:DAYLIGHT
BEGIN:STANDARD
TZOFFSETFROM:-0700
TZOFFSETTO:-0800
TZNAME:PST
DTSTART:20211107T090000
END:STANDARD
BEGIN:DAYLIGHT
TZOFFSETFROM:-0800
TZOFFSETTO:-0700
TZNAME:PDT
DTSTART:20220313T100000
END:DAYLIGHT
BEGIN:STANDARD
TZOFFSETFROM:-0700
TZOFFSETTO:-0800
TZNAME:PST
DTSTART:20221106T090000
END:STANDARD
BEGIN:DAYLIGHT
TZOFFSETFROM:-0800
TZOFFSETTO:-0700
TZNAME:PDT
DTSTART:20230312T100000
END:DAYLIGHT
BEGIN:STANDARD
TZOFFSETFROM:-0700
TZOFFSETTO:-0800
TZNAME:PST
DTSTART:20231105T090000
END:STANDARD
END:VTIMEZONE
BEGIN:VEVENT
DTSTART;TZID=America/Los_Angeles:20220329T120000
DTEND;TZID=America/Los_Angeles:20220329T133000
DTSTAMP:20260424T121311
CREATED:20220319T191448Z
LAST-MODIFIED:20220319T191448Z
UID:27731-1648555200-1648560600@aiamontereybay.org
SUMMARY:Implementation of California State ADU Law in Local Jurisdictions
DESCRIPTION:This webinar course is an introduction to California State Accessory Dwelling Unit (ADU) laws and their implementation for local jurisdictions\, presented by planning staff from those jurisdictions. Panel discussion will address the differences in implementation regulations in varying jurisdictions. The Panel will also include an ADU specialist who works on ADU projects in many localities in California.\nThe course earns 1.5 HSW Learning Units from the American Institute of Architects.\n \nClick here to register.\n \nPanelists:\n\nBrandon Swanson\, Director of City of Carmel-by-the-Sea Community Planning and Building\nCraig Spencer\, County of Monterey Housing and Community Development Services Manager\nOlesia Chikunova\, CEO\, Founder\, Homeowner’s Advocate\, HomeWiP Construction Concierge\n\nAdditional Panelists TBD
URL:https://aiamontereybay.org/event/implementation-of-california-state-adu-law-in-local-jurisdictions/
CATEGORIES:Lunch & Learn
ATTACH;FMTTYPE=image/jpeg:https://aiamontereybay.org/wp-content/uploads/2022/03/unnamed-9.jpeg
END:VEVENT
END:VCALENDAR