BEGIN:VCALENDAR
VERSION:2.0
PRODID:-//AIA Monterey Bay - ECPv6.15.20//NONSGML v1.0//EN
CALSCALE:GREGORIAN
METHOD:PUBLISH
X-ORIGINAL-URL:https://aiamontereybay.org
X-WR-CALDESC:Events for AIA Monterey Bay
REFRESH-INTERVAL;VALUE=DURATION:PT1H
X-Robots-Tag:noindex
X-PUBLISHED-TTL:PT1H
BEGIN:VTIMEZONE
TZID:America/Los_Angeles
BEGIN:DAYLIGHT
TZOFFSETFROM:-0800
TZOFFSETTO:-0700
TZNAME:PDT
DTSTART:20210314T100000
END:DAYLIGHT
BEGIN:STANDARD
TZOFFSETFROM:-0700
TZOFFSETTO:-0800
TZNAME:PST
DTSTART:20211107T090000
END:STANDARD
BEGIN:DAYLIGHT
TZOFFSETFROM:-0800
TZOFFSETTO:-0700
TZNAME:PDT
DTSTART:20220313T100000
END:DAYLIGHT
BEGIN:STANDARD
TZOFFSETFROM:-0700
TZOFFSETTO:-0800
TZNAME:PST
DTSTART:20221106T090000
END:STANDARD
BEGIN:DAYLIGHT
TZOFFSETFROM:-0800
TZOFFSETTO:-0700
TZNAME:PDT
DTSTART:20230312T100000
END:DAYLIGHT
BEGIN:STANDARD
TZOFFSETFROM:-0700
TZOFFSETTO:-0800
TZNAME:PST
DTSTART:20231105T090000
END:STANDARD
END:VTIMEZONE
BEGIN:VEVENT
DTSTART;TZID=America/Los_Angeles:20220309T120000
DTEND;TZID=America/Los_Angeles:20220309T133000
DTSTAMP:20260424T133449
CREATED:20220221T194959Z
LAST-MODIFIED:20220221T195036Z
UID:27680-1646827200-1646832600@aiamontereybay.org
SUMMARY:AIA CA Climate Action Webinar: Visual Delight in Architecture
DESCRIPTION:Date/Time: Wednesday\, Mar 9\, 2022\, 12:00 PM in Pacific Time\nLearning Units: 1.5 LU | HSW\n \nViews out of windows have traditionally been considered “nice to have”\, but not crucial for human health and well-being. However\, evidence is mounting that quality views are essential for not only increased occupant comfort\, satisfaction\, and productivity\, but long-term health.\n \nSome questions this session will address: Are there additional benefits of daylighting and quality views for interior spaces? How important is this exposure\, for sleep quality\, metabolic health\, eye health and development\, disorientation\, depression\, anxiety\, and pain management? Where\, when\, and why does view matter the most? How can universal access to quality views be integrated into codes and policies\, urban design\, landscape design\, architecture\, and interior design to elevate quality views as a critical “must have” design outcome for all people?\n \nSpeaker: Lisa Heschong\, FIES | Heschong Mahone Group\n \nRegister here\nMore information and additional resources can be found here: https://aiacalifornia.org/
URL:https://aiamontereybay.org/event/aia-ca-climate-action-webinar-visual-delight-in-architecture/
CATEGORIES:Lunch & Learn
ATTACH;FMTTYPE=image/png:https://aiamontereybay.org/wp-content/uploads/2022/02/unnamed-4.png
END:VEVENT
END:VCALENDAR