BEGIN:VCALENDAR
VERSION:2.0
PRODID:-//AIA Monterey Bay - ECPv6.15.20//NONSGML v1.0//EN
CALSCALE:GREGORIAN
METHOD:PUBLISH
X-WR-CALNAME:AIA Monterey Bay
X-ORIGINAL-URL:https://aiamontereybay.org
X-WR-CALDESC:Events for AIA Monterey Bay
REFRESH-INTERVAL;VALUE=DURATION:PT1H
X-Robots-Tag:noindex
X-PUBLISHED-TTL:PT1H
BEGIN:VTIMEZONE
TZID:America/Los_Angeles
BEGIN:DAYLIGHT
TZOFFSETFROM:-0800
TZOFFSETTO:-0700
TZNAME:PDT
DTSTART:20210314T100000
END:DAYLIGHT
BEGIN:STANDARD
TZOFFSETFROM:-0700
TZOFFSETTO:-0800
TZNAME:PST
DTSTART:20211107T090000
END:STANDARD
BEGIN:DAYLIGHT
TZOFFSETFROM:-0800
TZOFFSETTO:-0700
TZNAME:PDT
DTSTART:20220313T100000
END:DAYLIGHT
BEGIN:STANDARD
TZOFFSETFROM:-0700
TZOFFSETTO:-0800
TZNAME:PST
DTSTART:20221106T090000
END:STANDARD
BEGIN:DAYLIGHT
TZOFFSETFROM:-0800
TZOFFSETTO:-0700
TZNAME:PDT
DTSTART:20230312T100000
END:DAYLIGHT
BEGIN:STANDARD
TZOFFSETFROM:-0700
TZOFFSETTO:-0800
TZNAME:PST
DTSTART:20231105T090000
END:STANDARD
END:VTIMEZONE
BEGIN:VEVENT
DTSTART;TZID=America/Los_Angeles:20220223T120000
DTEND;TZID=America/Los_Angeles:20220223T130000
DTSTAMP:20260424T145300
CREATED:20220221T194622Z
LAST-MODIFIED:20220221T194734Z
UID:27676-1645617600-1645621200@aiamontereybay.org
SUMMARY:The Case for Performance Analysis in Renovation Projects
DESCRIPTION:Date/Time: Wednesday\, February 23\, 2022\, 12:00 PM – 1:00 PM PST\nLearning Units: 1 LU\n \nDescription: Buildings contribute nearly 40% of annual global CO2 emissions currently and about two-thirds of the global building stock will still exist in 2040. If not retrofitted\, the existing buildings will continue to generate unsustainable levels of GHG emissions. Thus\, this session will showcase how each one of these projects can be an ideal opportunity to incorporate enhanced energy performance strategies\, while also addressing the time and cost of adopting sustainable practices. This session will walk you through the workflow for setting up a renovation project (Interior only and Interior + Exterior) for performance modeling inside the webapp cove.tool. It will also touch on taking advantage of other analysis types such as Daylight\, Carbon\, Cost and Water Use. Finally\, we will look at a variety of renovation case studies emphasizing the same.\nSpeaker: Sandeep Ahuja | Co-Founder of cove.tool\n \nRegister here
URL:https://aiamontereybay.org/event/the-case-for-performance-analysis-in-renovation-projects-2/
CATEGORIES:Lunch & Learn
ATTACH;FMTTYPE=image/jpeg:https://aiamontereybay.org/wp-content/uploads/2022/02/aia-cont-education.jpeg
END:VEVENT
END:VCALENDAR