BEGIN:VCALENDAR
VERSION:2.0
PRODID:-//AIA Monterey Bay - ECPv6.15.20//NONSGML v1.0//EN
CALSCALE:GREGORIAN
METHOD:PUBLISH
X-ORIGINAL-URL:https://aiamontereybay.org
X-WR-CALDESC:Events for AIA Monterey Bay
REFRESH-INTERVAL;VALUE=DURATION:PT1H
X-Robots-Tag:noindex
X-PUBLISHED-TTL:PT1H
BEGIN:VTIMEZONE
TZID:America/Los_Angeles
BEGIN:DAYLIGHT
TZOFFSETFROM:-0800
TZOFFSETTO:-0700
TZNAME:PDT
DTSTART:20200308T100000
END:DAYLIGHT
BEGIN:STANDARD
TZOFFSETFROM:-0700
TZOFFSETTO:-0800
TZNAME:PST
DTSTART:20201101T090000
END:STANDARD
BEGIN:DAYLIGHT
TZOFFSETFROM:-0800
TZOFFSETTO:-0700
TZNAME:PDT
DTSTART:20210314T100000
END:DAYLIGHT
BEGIN:STANDARD
TZOFFSETFROM:-0700
TZOFFSETTO:-0800
TZNAME:PST
DTSTART:20211107T090000
END:STANDARD
BEGIN:DAYLIGHT
TZOFFSETFROM:-0800
TZOFFSETTO:-0700
TZNAME:PDT
DTSTART:20220313T100000
END:DAYLIGHT
BEGIN:STANDARD
TZOFFSETFROM:-0700
TZOFFSETTO:-0800
TZNAME:PST
DTSTART:20221106T090000
END:STANDARD
END:VTIMEZONE
BEGIN:VEVENT
DTSTART;TZID=America/Los_Angeles:20210804T120000
DTEND;TZID=America/Los_Angeles:20210804T130000
DTSTAMP:20260420T185405
CREATED:20210628T134620Z
LAST-MODIFIED:20210628T134620Z
UID:27537-1628078400-1628082000@aiamontereybay.org
SUMMARY:How We House Webinar Series
DESCRIPTION:How We House Webinar Series \nAIA CA and the California Council of Architectural Component Executives (CA CACE) are excited to announce the launch of the How We House webinar series. This 4-part series\, which begins August 4\, will take a look at California’s housing crisis\, the impacts on different regions across the state\, and the local design approaches to providing housing solutions. \nClick here to learn more and register for this series. \n(https://aiacalifornia.org/cace-how-we-house/) \nSave the dates now! \nWednesday\, August 4\, 2021 | 12:00-1:00pm PT | AIA Orange County \nWednesday\, September 1\, 2021 | 12:00-1:00pm PT | AIA Redwood Empire \nWednesday\, October 6\, 2021 | 12:00-1:00pm PT | AIA Central Valley \nWednesday\, November 3\, 2021 | 12:00pm PT | AIA Long Beach / South Bay
URL:https://aiamontereybay.org/event/how-we-house-webinar-series/2021-08-04/
CATEGORIES:Lunch & Learn,Special Webinar
ATTACH;FMTTYPE=image/png:https://aiamontereybay.org/wp-content/uploads/2021/06/Screen-Shot-2021-06-28-at-6.39.36-AM.png
END:VEVENT
END:VCALENDAR