BEGIN:VCALENDAR
VERSION:2.0
PRODID:-//AIA Monterey Bay - ECPv6.15.20//NONSGML v1.0//EN
CALSCALE:GREGORIAN
METHOD:PUBLISH
X-ORIGINAL-URL:https://aiamontereybay.org
X-WR-CALDESC:Events for AIA Monterey Bay
REFRESH-INTERVAL;VALUE=DURATION:PT1H
X-Robots-Tag:noindex
X-PUBLISHED-TTL:PT1H
BEGIN:VTIMEZONE
TZID:America/Los_Angeles
BEGIN:DAYLIGHT
TZOFFSETFROM:-0800
TZOFFSETTO:-0700
TZNAME:PDT
DTSTART:20210314T100000
END:DAYLIGHT
BEGIN:STANDARD
TZOFFSETFROM:-0700
TZOFFSETTO:-0800
TZNAME:PST
DTSTART:20211107T090000
END:STANDARD
BEGIN:DAYLIGHT
TZOFFSETFROM:-0800
TZOFFSETTO:-0700
TZNAME:PDT
DTSTART:20220313T100000
END:DAYLIGHT
BEGIN:STANDARD
TZOFFSETFROM:-0700
TZOFFSETTO:-0800
TZNAME:PST
DTSTART:20221106T090000
END:STANDARD
BEGIN:DAYLIGHT
TZOFFSETFROM:-0800
TZOFFSETTO:-0700
TZNAME:PDT
DTSTART:20230312T100000
END:DAYLIGHT
BEGIN:STANDARD
TZOFFSETFROM:-0700
TZOFFSETTO:-0800
TZNAME:PST
DTSTART:20231105T090000
END:STANDARD
END:VTIMEZONE
BEGIN:VEVENT
DTSTART;TZID=America/Los_Angeles:20220414T090000
DTEND;TZID=America/Los_Angeles:20220414T110000
DTSTAMP:20260420T185232
CREATED:20220425T142014Z
LAST-MODIFIED:20220425T142431Z
UID:28013-1649926800-1649934000@aiamontereybay.org
SUMMARY:Granitrock's Tech Talks 2022
DESCRIPTION:Granitrock’s Tech Talks 2022\n \nGraniterock is pleased to offer another series of three\, highly informative sessions that are absolutely FREE. Tech Talks are ideal for architects\, contractors\, specifiers and key agency decision makers.\n \nDates/Time: April 14\, and 21\, 2022 2022 9:00 a.m. to 11:00 a.m.\nWebinar Courses earn 1 AIA LU\n \nSession Schedule:\nApril 14 \nA. On-Demand Environmental Product Declarations and Climate Earth | Katha Redmon\, Director of Concrete Products\, Graniterock\nB. GreenConcrete | Max Morgan\, Concrete Sales and Operations Associate\, Graniterock\n \nApril 21\nA. Tutorial Agency Superpave Mix | Kevin McNeil\, HMA Technical Services Manager\, Graniterock\nB. CalTrans Superpave | Brandon Milar\, Director of Technical Services for the California Pavement Association\n \nRegister now
URL:https://aiamontereybay.org/event/granitrocks-tech-talks-2022/2022-04-14/
CATEGORIES:Special Webinar
ATTACH;FMTTYPE=image/png:https://aiamontereybay.org/wp-content/uploads/2022/04/graniterock.png
END:VEVENT
END:VCALENDAR